BEGIN:VCALENDAR
VERSION:2.0
PRODID:-//Grand Rapids Pickleball Club - ECPv6.15.16.1//NONSGML v1.0//EN
CALSCALE:GREGORIAN
METHOD:PUBLISH
X-WR-CALNAME:Grand Rapids Pickleball Club
X-ORIGINAL-URL:https://grpickleball.com
X-WR-CALDESC:Events for Grand Rapids Pickleball Club
REFRESH-INTERVAL;VALUE=DURATION:PT1H
X-Robots-Tag:noindex
X-PUBLISHED-TTL:PT1H
BEGIN:VTIMEZONE
TZID:America/Detroit
BEGIN:DAYLIGHT
TZOFFSETFROM:-0500
TZOFFSETTO:-0400
TZNAME:EDT
DTSTART:20230312T070000
END:DAYLIGHT
BEGIN:STANDARD
TZOFFSETFROM:-0400
TZOFFSETTO:-0500
TZNAME:EST
DTSTART:20231105T060000
END:STANDARD
BEGIN:DAYLIGHT
TZOFFSETFROM:-0500
TZOFFSETTO:-0400
TZNAME:EDT
DTSTART:20240310T070000
END:DAYLIGHT
BEGIN:STANDARD
TZOFFSETFROM:-0400
TZOFFSETTO:-0500
TZNAME:EST
DTSTART:20241103T060000
END:STANDARD
BEGIN:DAYLIGHT
TZOFFSETFROM:-0500
TZOFFSETTO:-0400
TZNAME:EDT
DTSTART:20250309T070000
END:DAYLIGHT
BEGIN:STANDARD
TZOFFSETFROM:-0400
TZOFFSETTO:-0500
TZNAME:EST
DTSTART:20251102T060000
END:STANDARD
BEGIN:DAYLIGHT
TZOFFSETFROM:-0500
TZOFFSETTO:-0400
TZNAME:EDT
DTSTART:20260308T070000
END:DAYLIGHT
BEGIN:STANDARD
TZOFFSETFROM:-0400
TZOFFSETTO:-0500
TZNAME:EST
DTSTART:20261101T060000
END:STANDARD
END:VTIMEZONE
BEGIN:VEVENT
DTSTART;TZID=America/Detroit:20250926T183000
DTEND;TZID=America/Detroit:20250926T223000
DTSTAMP:20260423T124846
CREATED:20250308T190648Z
LAST-MODIFIED:20250308T190648Z
UID:10001988-1758911400-1758925800@grpickleball.com
SUMMARY:Friday Night Lights
DESCRIPTION:It’s a fun tournament under the lights for GRPC members only. \nDetails will be posted on the GRPC Facebook page as the event gets closer to the date. \nAll courts are reserved for FNL.
URL:https://grpickleball.com/event/friday-night-lights-13/2025-09-26/
LOCATION:Belknap Park\, 30 Coldbrook St NE\, Grand Rapids\, MI\, 49503\, United States
CATEGORIES:Club Sponsored,FNL,GRPC Members Only,Tournament
ATTACH;FMTTYPE=image/png:https://grpickleball.com/wp-content/uploads/2022/04/Screen-Shot-2022-04-30-at-11.07.51-AM-e1651331824206.png
END:VEVENT
BEGIN:VEVENT
DTSTART;TZID=America/Detroit:20250912T080000
DTEND;TZID=America/Detroit:20250914T190000
DTSTAMP:20260423T124846
CREATED:20241121T011615Z
LAST-MODIFIED:20250906T153928Z
UID:10001842-1757664000-1757876400@grpickleball.com
SUMMARY:2025 Michigan State Pickleball Championship Series Event
DESCRIPTION:A United Pickleball State Championship Series Event\nAll courts reserved for this event\nRegister for the tournament on Pickleball Brackets\nVolunteer for the tournament on the GRPC Website
URL:https://grpickleball.com/event/2025-michigan-state-pickleball-championship-series-event/
LOCATION:Belknap Park\, 30 Coldbrook St NE\, Grand Rapids\, MI\, 49503\, United States
CATEGORIES:Club Sponsored,Tournament
ATTACH;FMTTYPE=image/png:https://grpickleball.com/wp-content/uploads/2024/11/Screenshot-2025-03-03-at-1.36.32 PM.png
END:VEVENT
BEGIN:VEVENT
DTSTART;TZID=America/Detroit:20250829T183000
DTEND;TZID=America/Detroit:20250829T223000
DTSTAMP:20260423T124846
CREATED:20250308T190648Z
LAST-MODIFIED:20250308T190648Z
UID:10001987-1756492200-1756506600@grpickleball.com
SUMMARY:Friday Night Lights
DESCRIPTION:It’s a fun tournament under the lights for GRPC members only. \nDetails will be posted on the GRPC Facebook page as the event gets closer to the date. \nAll courts are reserved for FNL.
URL:https://grpickleball.com/event/friday-night-lights-13/2025-08-29/
LOCATION:Belknap Park\, 30 Coldbrook St NE\, Grand Rapids\, MI\, 49503\, United States
CATEGORIES:Club Sponsored,FNL,GRPC Members Only,Tournament
ATTACH;FMTTYPE=image/png:https://grpickleball.com/wp-content/uploads/2022/04/Screen-Shot-2022-04-30-at-11.07.51-AM-e1651331824206.png
END:VEVENT
BEGIN:VEVENT
DTSTART;VALUE=DATE:20250822
DTEND;VALUE=DATE:20250825
DTSTAMP:20260423T124846
CREATED:20241121T010829Z
LAST-MODIFIED:20241121T010829Z
UID:10001841-1755820800-1756079999@grpickleball.com
SUMMARY:GRPC Club Championships
DESCRIPTION:Details to come \nMembers only tournament
URL:https://grpickleball.com/event/grpc-club-championships-3/
LOCATION:Belknap Park\, 30 Coldbrook St NE\, Grand Rapids\, MI\, 49503\, United States
CATEGORIES:Club Sponsored,GRPC Members Only,Tournament
ATTACH;FMTTYPE=image/png:https://grpickleball.com/wp-content/uploads/2024/07/CLUB-CHAMPIONSHIP-LOGO.png
END:VEVENT
BEGIN:VEVENT
DTSTART;TZID=America/Detroit:20250809T150000
DTEND;TZID=America/Detroit:20250809T210000
DTSTAMP:20260423T124846
CREATED:20250531T152036Z
LAST-MODIFIED:20250531T154043Z
UID:10002150-1754751600-1754773200@grpickleball.com
SUMMARY:Midwest Junior Pickleball Championships
DESCRIPTION:GRPC is excited to host the first Midwest Junior Pickleball Championships at Belknap Park. Tournament play is scheduled to follow the USSP North Regional Championships Tournament (Senior Pickleball). Click here for registration. \n 
URL:https://grpickleball.com/event/midwest-junior-pickleball-championships/
LOCATION:Belknap Park\, 30 Coldbrook St NE\, Grand Rapids\, MI\, 49503\, United States
CATEGORIES:Club Sponsored,Tournament
ATTACH;FMTTYPE=image/webp:https://grpickleball.com/wp-content/uploads/2025/05/IMG_0122.webp
ORGANIZER;CN="GRPC":MAILTO:mamakarenbaxter@gmail.com
END:VEVENT
BEGIN:VEVENT
DTSTART;VALUE=DATE:20250808
DTEND;VALUE=DATE:20250811
DTSTAMP:20260423T124846
CREATED:20250113T215718Z
LAST-MODIFIED:20250113T215859Z
UID:10001843-1754611200-1754870399@grpickleball.com
SUMMARY:USSP North Regional Championships (Senior Pickleball)
DESCRIPTION:USSP North Regional Championships  \nBelknap Park\, 30 Coldbrook NE
URL:https://grpickleball.com/event/ussp-north-regional-championships-senior-pickleball/
LOCATION:Belknap Park\, 30 Coldbrook St NE\, Grand Rapids\, MI\, 49503\, United States
CATEGORIES:Club Sponsored,Tournament
END:VEVENT
BEGIN:VEVENT
DTSTART;TZID=America/Detroit:20250805T173000
DTEND;TZID=America/Detroit:20250805T200000
DTSTAMP:20260423T124846
CREATED:20250308T160854Z
LAST-MODIFIED:20250716T202126Z
UID:10001891-1754415000-1754424000@grpickleball.com
SUMMARY:First-Timer Tourney Clinic
DESCRIPTION:Have you been playing pickleball for a while?  Considering a tournament\, but feel intimidated? \nAt the First-Timer Tourney Clinic\, you will learn how a tournament is run and how to participate in a tournament. No partner is needed\, though you may optionally choose one ahead of time.  Organizers will thoughtfully select partnerships for solo players. Round-robin format \nVeteran players/volunteers will be present courtside during the matches to offer assistance with scoring\, strategy\, shot selection\, and positioning. Come ready to play. Bring your paddle\, proper shoes\, and clothing. \nCourts 7-10 are reserved for this event. \nFee: $10 GRPC members; $20 nonmembers \nClick Here to sign up for the August 5\, 2025 event!
URL:https://grpickleball.com/event/first-timer-tourney-clinic-2/2025-08-05/
LOCATION:Belknap Park\, 30 Coldbrook St NE\, Grand Rapids\, MI\, 49503\, United States
CATEGORIES:Lessons,Tournament
ATTACH;FMTTYPE=image/png:https://grpickleball.com/wp-content/uploads/2019/07/cropped-GRPC-favicon.png
END:VEVENT
BEGIN:VEVENT
DTSTART;TZID=America/Detroit:20250725T183000
DTEND;TZID=America/Detroit:20250725T223000
DTSTAMP:20260423T124846
CREATED:20250308T190648Z
LAST-MODIFIED:20250308T190648Z
UID:10001986-1753468200-1753482600@grpickleball.com
SUMMARY:Friday Night Lights
DESCRIPTION:It’s a fun tournament under the lights for GRPC members only. \nDetails will be posted on the GRPC Facebook page as the event gets closer to the date. \nAll courts are reserved for FNL.
URL:https://grpickleball.com/event/friday-night-lights-13/2025-07-25/
LOCATION:Belknap Park\, 30 Coldbrook St NE\, Grand Rapids\, MI\, 49503\, United States
CATEGORIES:Club Sponsored,FNL,GRPC Members Only,Tournament
ATTACH;FMTTYPE=image/png:https://grpickleball.com/wp-content/uploads/2022/04/Screen-Shot-2022-04-30-at-11.07.51-AM-e1651331824206.png
END:VEVENT
BEGIN:VEVENT
DTSTART;VALUE=DATE:20250707
DTEND;VALUE=DATE:20250714
DTSTAMP:20260423T124846
CREATED:20240729T215832Z
LAST-MODIFIED:20241014T231807Z
UID:10001827-1751846400-1752451199@grpickleball.com
SUMMARY:Beer City Open
DESCRIPTION:Registration opens in April 2025
URL:https://grpickleball.com/event/beer-city-open-13/
LOCATION:Belknap Park\, 30 Coldbrook St NE\, Grand Rapids\, MI\, 49503\, United States
CATEGORIES:Tournament
ATTACH;FMTTYPE=image/png:https://grpickleball.com/wp-content/uploads/2022/04/BeerCityLogo-copy-1-e1651351444411.png
ORGANIZER;CN="Andrea Koop":MAILTO:aremynse@outlook.com
END:VEVENT
BEGIN:VEVENT
DTSTART;TZID=America/Detroit:20250701T173000
DTEND;TZID=America/Detroit:20250701T200000
DTSTAMP:20260423T124846
CREATED:20250308T160854Z
LAST-MODIFIED:20250716T202126Z
UID:10001890-1751391000-1751400000@grpickleball.com
SUMMARY:First-Timer Tourney Clinic
DESCRIPTION:Have you been playing pickleball for a while?  Considering a tournament\, but feel intimidated? \nAt the First-Timer Tourney Clinic\, you will learn how a tournament is run and how to participate in a tournament. No partner is needed\, though you may optionally choose one ahead of time.  Organizers will thoughtfully select partnerships for solo players. Round-robin format \nVeteran players/volunteers will be present courtside during the matches to offer assistance with scoring\, strategy\, shot selection\, and positioning. Come ready to play. Bring your paddle\, proper shoes\, and clothing. \nCourts 7-10 are reserved for this event. \nFee: $10 GRPC members; $20 nonmembers \nClick Here to sign up for the August 5\, 2025 event!
URL:https://grpickleball.com/event/first-timer-tourney-clinic-2/2025-07-01/
LOCATION:Belknap Park\, 30 Coldbrook St NE\, Grand Rapids\, MI\, 49503\, United States
CATEGORIES:Lessons,Tournament
ATTACH;FMTTYPE=image/png:https://grpickleball.com/wp-content/uploads/2019/07/cropped-GRPC-favicon.png
END:VEVENT
BEGIN:VEVENT
DTSTART;TZID=America/Detroit:20250620T183000
DTEND;TZID=America/Detroit:20250620T223000
DTSTAMP:20260423T124846
CREATED:20250308T190648Z
LAST-MODIFIED:20250308T190648Z
UID:10001985-1750444200-1750458600@grpickleball.com
SUMMARY:Friday Night Lights
DESCRIPTION:It’s a fun tournament under the lights for GRPC members only. \nDetails will be posted on the GRPC Facebook page as the event gets closer to the date. \nAll courts are reserved for FNL.
URL:https://grpickleball.com/event/friday-night-lights-13/2025-06-20/
LOCATION:Belknap Park\, 30 Coldbrook St NE\, Grand Rapids\, MI\, 49503\, United States
CATEGORIES:Club Sponsored,FNL,GRPC Members Only,Tournament
ATTACH;FMTTYPE=image/png:https://grpickleball.com/wp-content/uploads/2022/04/Screen-Shot-2022-04-30-at-11.07.51-AM-e1651331824206.png
END:VEVENT
BEGIN:VEVENT
DTSTART;VALUE=DATE:20250606
DTEND;VALUE=DATE:20250609
DTSTAMP:20260423T124846
CREATED:20241015T001214Z
LAST-MODIFIED:20250505T030849Z
UID:10001836-1749168000-1749427199@grpickleball.com
SUMMARY:Meijer State Games of Michigan
DESCRIPTION:All courts reserved at Belknap for this event \nRegistration opens in the spring of 2025 \n 
URL:https://grpickleball.com/event/meijer-state-games-of-michigan-6/
LOCATION:Belknap Park\, 30 Coldbrook St NE\, Grand Rapids\, MI\, 49503\, United States
CATEGORIES:Tournament
ATTACH;FMTTYPE=image/png:https://grpickleball.com/wp-content/uploads/2023/04/Screenshot-2023-04-05-at-9.30.05-AM.png
END:VEVENT
BEGIN:VEVENT
DTSTART;TZID=America/Detroit:20250603T173000
DTEND;TZID=America/Detroit:20250603T200000
DTSTAMP:20260423T124846
CREATED:20250308T160854Z
LAST-MODIFIED:20250716T202126Z
UID:10001889-1748971800-1748980800@grpickleball.com
SUMMARY:First-Timer Tourney Clinic
DESCRIPTION:Have you been playing pickleball for a while?  Considering a tournament\, but feel intimidated? \nAt the First-Timer Tourney Clinic\, you will learn how a tournament is run and how to participate in a tournament. No partner is needed\, though you may optionally choose one ahead of time.  Organizers will thoughtfully select partnerships for solo players. Round-robin format \nVeteran players/volunteers will be present courtside during the matches to offer assistance with scoring\, strategy\, shot selection\, and positioning. Come ready to play. Bring your paddle\, proper shoes\, and clothing. \nCourts 7-10 are reserved for this event. \nFee: $10 GRPC members; $20 nonmembers \nClick Here to sign up for the August 5\, 2025 event!
URL:https://grpickleball.com/event/first-timer-tourney-clinic-2/2025-06-03/
LOCATION:Belknap Park\, 30 Coldbrook St NE\, Grand Rapids\, MI\, 49503\, United States
CATEGORIES:Lessons,Tournament
ATTACH;FMTTYPE=image/png:https://grpickleball.com/wp-content/uploads/2019/07/cropped-GRPC-favicon.png
END:VEVENT
BEGIN:VEVENT
DTSTART;TZID=America/Detroit:20250516T183000
DTEND;TZID=America/Detroit:20250516T223000
DTSTAMP:20260423T124846
CREATED:20250308T190648Z
LAST-MODIFIED:20250308T190648Z
UID:10001984-1747420200-1747434600@grpickleball.com
SUMMARY:Friday Night Lights
DESCRIPTION:It’s a fun tournament under the lights for GRPC members only. \nDetails will be posted on the GRPC Facebook page as the event gets closer to the date. \nAll courts are reserved for FNL.
URL:https://grpickleball.com/event/friday-night-lights-13/2025-05-16/
LOCATION:Belknap Park\, 30 Coldbrook St NE\, Grand Rapids\, MI\, 49503\, United States
CATEGORIES:Club Sponsored,FNL,GRPC Members Only,Tournament
ATTACH;FMTTYPE=image/png:https://grpickleball.com/wp-content/uploads/2022/04/Screen-Shot-2022-04-30-at-11.07.51-AM-e1651331824206.png
END:VEVENT
BEGIN:VEVENT
DTSTART;VALUE=DATE:20250425
DTEND;VALUE=DATE:20250428
DTSTAMP:20260423T124846
CREATED:20241015T001709Z
LAST-MODIFIED:20250304T160020Z
UID:10001837-1745539200-1745798399@grpickleball.com
SUMMARY:Earth Day Pickleball Tournament
DESCRIPTION:Earth Day Open tournament powered by Revolin Sports. \nThe tournament is a round-robin event with singles\, gendered doubles\, and mixed doubles. \nAll Belknap courts are reserved for the event. \n 
URL:https://grpickleball.com/event/earth-day-pickleball-tournament-2/
LOCATION:Belknap Park\, 30 Coldbrook St NE\, Grand Rapids\, MI\, 49503\, United States
CATEGORIES:Club Sponsored,Tournament
ATTACH;FMTTYPE=image/png:https://grpickleball.com/wp-content/uploads/2023/11/Earth-Day-2024.png
END:VEVENT
BEGIN:VEVENT
DTSTART;TZID=America/Detroit:20240920T183000
DTEND;TZID=America/Detroit:20240920T223000
DTSTAMP:20260423T124847
CREATED:20240118T154105Z
LAST-MODIFIED:20240130T230525Z
UID:10001594-1726857000-1726871400@grpickleball.com
SUMMARY:Friday Night Lights
DESCRIPTION:It’s a fun tournament under the lights for GRPC members only. \nDetails will be posted on the GRPC Facebook page as the event gets closer to the date. \nAll courts are reserved for FNL.
URL:https://grpickleball.com/event/friday-night-lights-12/2024-09-20/
LOCATION:Belknap Park\, 30 Coldbrook St NE\, Grand Rapids\, MI\, 49503\, United States
CATEGORIES:Club Sponsored,FNL,GRPC Members Only,Tournament
ATTACH;FMTTYPE=image/png:https://grpickleball.com/wp-content/uploads/2022/04/Screen-Shot-2022-04-30-at-11.07.51-AM-e1651331824206.png
END:VEVENT
BEGIN:VEVENT
DTSTART;VALUE=DATE:20240913
DTEND;VALUE=DATE:20240916
DTSTAMP:20260423T124847
CREATED:20231011T132035Z
LAST-MODIFIED:20240130T164423Z
UID:10001579-1726185600-1726444799@grpickleball.com
SUMMARY:GRPC Club Championships
DESCRIPTION:This is a tournament for Grand Rapids Pickleball Club Members and a GRPC Membership is required to play. This is an outdoor event with no indoor backup.
URL:https://grpickleball.com/event/grpc-club-championships/
LOCATION:Belknap Park\, 30 Coldbrook St NE\, Grand Rapids\, MI\, 49503\, United States
CATEGORIES:Club Sponsored,GRPC Members Only,Tournament
ATTACH;FMTTYPE=image/png:https://grpickleball.com/wp-content/uploads/2022/09/Screen-Shot-2022-09-20-at-2.23.51-PM.png
END:VEVENT
BEGIN:VEVENT
DTSTART;TZID=America/Detroit:20240829T173000
DTEND;TZID=America/Detroit:20240829T200000
DTSTAMP:20260423T124847
CREATED:20240301T200744Z
LAST-MODIFIED:20240814T192150Z
UID:10001829-1724952600-1724961600@grpickleball.com
SUMMARY:First Timer Tourney
DESCRIPTION:Have you been playing pickleball for a while?  Considering a tournament\, but feel intimidated? \nAt the First Timer Tourney\, you will learn how a tournament is run and how to participate in a tournament. No partner is needed\, though you may optionally choose one ahead of time; organizers will thoughtfully select partnerships for solo players. Round Robin format. \nVeteran players/volunteers will be present courtside during the matches to offer assistance with scoring\, strategy\, shot selection\, and positioning. Come ready to play. Bring your paddle\, proper shoes\, and clothing. \nCourts 7-10 are reserved for this event. \n$20 player fee \nClick Here to sign up for the July 30 event! Must be a GRPC Member and logged in to the website. \nClick Here to sign up for the August 27 event! Must be a GRPC Member and logged in to the website. \nClick Here to sign up for the July 30 event! Must be a GRPC Member and logged in to the website.
URL:https://grpickleball.com/event/first-timer-tourney-6/2024-08-29/
LOCATION:Belknap Park\, 30 Coldbrook St NE\, Grand Rapids\, MI\, 49503\, United States
CATEGORIES:Lessons,Tournament
ATTACH;FMTTYPE=image/png:https://grpickleball.com/wp-content/uploads/2019/07/cropped-GRPC-favicon.png
END:VEVENT
BEGIN:VEVENT
DTSTART;TZID=America/Detroit:20240823T080000
DTEND;TZID=America/Detroit:20240825T180000
DTSTAMP:20260423T124847
CREATED:20240130T165303Z
LAST-MODIFIED:20240403T231611Z
UID:10001593-1724400000-1724608800@grpickleball.com
SUMMARY:2024 Michigan State Pickleball Championship Series Event
DESCRIPTION:A United Pickleball State Championship Series Event\nAll courts reserved for this event\nRegister for the tournament here\nVolunteer for the tournament here
URL:https://grpickleball.com/event/ppa-michigan-state-championship/
LOCATION:Belknap Park\, 30 Coldbrook St NE\, Grand Rapids\, MI\, 49503\, United States
CATEGORIES:Club Sponsored,Tournament
ATTACH;FMTTYPE=image/png:https://grpickleball.com/wp-content/uploads/2024/01/Screenshot-2024-02-22-at-11.48.58 AM-e1712186231604.png
END:VEVENT
BEGIN:VEVENT
DTSTART;TZID=America/Detroit:20240809T183000
DTEND;TZID=America/Detroit:20240809T223000
DTSTAMP:20260423T124847
CREATED:20240118T154105Z
LAST-MODIFIED:20240130T230525Z
UID:10001590-1723228200-1723242600@grpickleball.com
SUMMARY:Friday Night Lights
DESCRIPTION:It’s a fun tournament under the lights for GRPC members only. \nDetails will be posted on the GRPC Facebook page as the event gets closer to the date. \nAll courts are reserved for FNL.
URL:https://grpickleball.com/event/friday-night-lights-12/2024-08-09/
LOCATION:Belknap Park\, 30 Coldbrook St NE\, Grand Rapids\, MI\, 49503\, United States
CATEGORIES:Club Sponsored,FNL,GRPC Members Only,Tournament
ATTACH;FMTTYPE=image/png:https://grpickleball.com/wp-content/uploads/2022/04/Screen-Shot-2022-04-30-at-11.07.51-AM-e1651331824206.png
END:VEVENT
BEGIN:VEVENT
DTSTART;TZID=America/Detroit:20240730T113000
DTEND;TZID=America/Detroit:20240730T140000
DTSTAMP:20260423T124847
CREATED:20240301T200744Z
LAST-MODIFIED:20240814T192150Z
UID:10001786-1722339000-1722348000@grpickleball.com
SUMMARY:First Timer Tourney
DESCRIPTION:Have you been playing pickleball for a while?  Considering a tournament\, but feel intimidated? \nAt the First Timer Tourney\, you will learn how a tournament is run and how to participate in a tournament. No partner is needed\, though you may optionally choose one ahead of time; organizers will thoughtfully select partnerships for solo players. Round Robin format. \nVeteran players/volunteers will be present courtside during the matches to offer assistance with scoring\, strategy\, shot selection\, and positioning. Come ready to play. Bring your paddle\, proper shoes\, and clothing. \nCourts 7-10 are reserved for this event. \n$20 player fee \nClick Here to sign up for the July 30 event! Must be a GRPC Member and logged in to the website. \nClick Here to sign up for the August 27 event! Must be a GRPC Member and logged in to the website. \nClick Here to sign up for the July 30 event! Must be a GRPC Member and logged in to the website.
URL:https://grpickleball.com/event/first-timer-tourney-6/2024-07-30/
LOCATION:Belknap Park\, 30 Coldbrook St NE\, Grand Rapids\, MI\, 49503\, United States
CATEGORIES:Lessons,Tournament
ATTACH;FMTTYPE=image/png:https://grpickleball.com/wp-content/uploads/2019/07/cropped-GRPC-favicon.png
END:VEVENT
BEGIN:VEVENT
DTSTART;TZID=America/Detroit:20240726T183000
DTEND;TZID=America/Detroit:20240726T223000
DTSTAMP:20260423T124847
CREATED:20240118T154105Z
LAST-MODIFIED:20240130T230525Z
UID:10001595-1722018600-1722033000@grpickleball.com
SUMMARY:Friday Night Lights
DESCRIPTION:It’s a fun tournament under the lights for GRPC members only. \nDetails will be posted on the GRPC Facebook page as the event gets closer to the date. \nAll courts are reserved for FNL.
URL:https://grpickleball.com/event/friday-night-lights-12/2024-07-26/
LOCATION:Belknap Park\, 30 Coldbrook St NE\, Grand Rapids\, MI\, 49503\, United States
CATEGORIES:Club Sponsored,FNL,GRPC Members Only,Tournament
ATTACH;FMTTYPE=image/png:https://grpickleball.com/wp-content/uploads/2022/04/Screen-Shot-2022-04-30-at-11.07.51-AM-e1651331824206.png
END:VEVENT
BEGIN:VEVENT
DTSTART;VALUE=DATE:20240709
DTEND;VALUE=DATE:20240715
DTSTAMP:20260423T124847
CREATED:20231011T025524Z
LAST-MODIFIED:20240403T231119Z
UID:10001577-1720483200-1721001599@grpickleball.com
SUMMARY:Beer City Open – All courts will be in use for the tournament
DESCRIPTION:All courts will be in use for the tournament.  No open play.  \nRegister for the tournament here\nVolunteer for the tournament here 
URL:https://grpickleball.com/event/beer-city-open-12/
LOCATION:Belknap Park\, 30 Coldbrook St NE\, Grand Rapids\, MI\, 49503\, United States
CATEGORIES:Tournament
ATTACH;FMTTYPE=image/png:https://grpickleball.com/wp-content/uploads/2022/04/BeerCityLogo-copy-1-e1651351444411.png
ORGANIZER;CN="Paul Richards":MAILTO:prpickleball@gmail.com
END:VEVENT
BEGIN:VEVENT
DTSTART;TZID=America/Detroit:20240625T173000
DTEND;TZID=America/Detroit:20240625T200000
DTSTAMP:20260423T124847
CREATED:20240301T200744Z
LAST-MODIFIED:20240814T192150Z
UID:10001605-1719336600-1719345600@grpickleball.com
SUMMARY:First Timer Tourney
DESCRIPTION:Have you been playing pickleball for a while?  Considering a tournament\, but feel intimidated? \nAt the First Timer Tourney\, you will learn how a tournament is run and how to participate in a tournament. No partner is needed\, though you may optionally choose one ahead of time; organizers will thoughtfully select partnerships for solo players. Round Robin format. \nVeteran players/volunteers will be present courtside during the matches to offer assistance with scoring\, strategy\, shot selection\, and positioning. Come ready to play. Bring your paddle\, proper shoes\, and clothing. \nCourts 7-10 are reserved for this event. \n$20 player fee \nClick Here to sign up for the July 30 event! Must be a GRPC Member and logged in to the website. \nClick Here to sign up for the August 27 event! Must be a GRPC Member and logged in to the website. \nClick Here to sign up for the July 30 event! Must be a GRPC Member and logged in to the website.
URL:https://grpickleball.com/event/first-timer-tourney-6/2024-06-25/
LOCATION:Belknap Park\, 30 Coldbrook St NE\, Grand Rapids\, MI\, 49503\, United States
CATEGORIES:Lessons,Tournament
ATTACH;FMTTYPE=image/png:https://grpickleball.com/wp-content/uploads/2019/07/cropped-GRPC-favicon.png
END:VEVENT
BEGIN:VEVENT
DTSTART;TZID=America/Detroit:20240621T183000
DTEND;TZID=America/Detroit:20240621T223000
DTSTAMP:20260423T124847
CREATED:20240118T154105Z
LAST-MODIFIED:20240130T230525Z
UID:10001588-1718994600-1719009000@grpickleball.com
SUMMARY:Friday Night Lights
DESCRIPTION:It’s a fun tournament under the lights for GRPC members only. \nDetails will be posted on the GRPC Facebook page as the event gets closer to the date. \nAll courts are reserved for FNL.
URL:https://grpickleball.com/event/friday-night-lights-12/2024-06-21/
LOCATION:Belknap Park\, 30 Coldbrook St NE\, Grand Rapids\, MI\, 49503\, United States
CATEGORIES:Club Sponsored,FNL,GRPC Members Only,Tournament
ATTACH;FMTTYPE=image/png:https://grpickleball.com/wp-content/uploads/2022/04/Screen-Shot-2022-04-30-at-11.07.51-AM-e1651331824206.png
END:VEVENT
BEGIN:VEVENT
DTSTART;TZID=America/Detroit:20240614T110000
DTEND;TZID=America/Detroit:20240614T163000
DTSTAMP:20260423T124847
CREATED:20240424T182636Z
LAST-MODIFIED:20240424T182659Z
UID:10001783-1718362800-1718382600@grpickleball.com
SUMMARY:Real Estate Fundraiser for Belknap Improvement
DESCRIPTION:Real Estate Fundraiser for Belknap Improvement\n 8 courts are closed beginning at 11:00 am  \nAll courts will be closed from noon – 4:30 pm
URL:https://grpickleball.com/event/real-estate-industry-pickleball-tournament-play-2/
LOCATION:Belknap Park\, 30 Coldbrook St NE\, Grand Rapids\, MI\, 49503\, United States
CATEGORIES:Fund Raiser,Non-Club Event,Social Event,Tournament
END:VEVENT
BEGIN:VEVENT
DTSTART;TZID=America/Detroit:20240607T080000
DTEND;TZID=America/Detroit:20240609T200000
DTSTAMP:20260423T124847
CREATED:20231011T133822Z
LAST-MODIFIED:20240606T123451Z
UID:10001578-1717747200-1717963200@grpickleball.com
SUMMARY:Meijer State Games of Michigan
DESCRIPTION:All courts reserved at Belknap for this event \nRegister for the tournament here \nVolunteer for the tournament here
URL:https://grpickleball.com/event/meijer-state-games-of-michigan-5/
LOCATION:Belknap Park\, 30 Coldbrook St NE\, Grand Rapids\, MI\, 49503\, United States
CATEGORIES:Tournament
ATTACH;FMTTYPE=image/png:https://grpickleball.com/wp-content/uploads/2023/04/Screenshot-2023-04-05-at-9.30.05-AM.png
END:VEVENT
BEGIN:VEVENT
DTSTART;TZID=America/Detroit:20240528T113000
DTEND;TZID=America/Detroit:20240528T140000
DTSTAMP:20260423T124847
CREATED:20240301T200744Z
LAST-MODIFIED:20240814T192150Z
UID:10001602-1716895800-1716904800@grpickleball.com
SUMMARY:First Timer Tourney
DESCRIPTION:Have you been playing pickleball for a while?  Considering a tournament\, but feel intimidated? \nAt the First Timer Tourney\, you will learn how a tournament is run and how to participate in a tournament. No partner is needed\, though you may optionally choose one ahead of time; organizers will thoughtfully select partnerships for solo players. Round Robin format. \nVeteran players/volunteers will be present courtside during the matches to offer assistance with scoring\, strategy\, shot selection\, and positioning. Come ready to play. Bring your paddle\, proper shoes\, and clothing. \nCourts 7-10 are reserved for this event. \n$20 player fee \nClick Here to sign up for the July 30 event! Must be a GRPC Member and logged in to the website. \nClick Here to sign up for the August 27 event! Must be a GRPC Member and logged in to the website. \nClick Here to sign up for the July 30 event! Must be a GRPC Member and logged in to the website.
URL:https://grpickleball.com/event/first-timer-tourney-6/2024-05-28/
LOCATION:Belknap Park\, 30 Coldbrook St NE\, Grand Rapids\, MI\, 49503\, United States
CATEGORIES:Lessons,Tournament
ATTACH;FMTTYPE=image/png:https://grpickleball.com/wp-content/uploads/2019/07/cropped-GRPC-favicon.png
END:VEVENT
BEGIN:VEVENT
DTSTART;TZID=America/Detroit:20240510T183000
DTEND;TZID=America/Detroit:20240510T223000
DTSTAMP:20260423T124847
CREATED:20240118T154105Z
LAST-MODIFIED:20240130T230525Z
UID:10001587-1715365800-1715380200@grpickleball.com
SUMMARY:Friday Night Lights
DESCRIPTION:It’s a fun tournament under the lights for GRPC members only. \nDetails will be posted on the GRPC Facebook page as the event gets closer to the date. \nAll courts are reserved for FNL.
URL:https://grpickleball.com/event/friday-night-lights-12/2024-05-10/
LOCATION:Belknap Park\, 30 Coldbrook St NE\, Grand Rapids\, MI\, 49503\, United States
CATEGORIES:Club Sponsored,FNL,GRPC Members Only,Tournament
ATTACH;FMTTYPE=image/png:https://grpickleball.com/wp-content/uploads/2022/04/Screen-Shot-2022-04-30-at-11.07.51-AM-e1651331824206.png
END:VEVENT
BEGIN:VEVENT
DTSTART;VALUE=DATE:20240426
DTEND;VALUE=DATE:20240429
DTSTAMP:20260423T124847
CREATED:20231116T011656Z
LAST-MODIFIED:20240109T234110Z
UID:10001581-1714089600-1714348799@grpickleball.com
SUMMARY:Earth Day Pickleball Tournament
DESCRIPTION:Grand Rapids Pickleball Club is excited to host the Earth Day Open tournament powered by Revolin Sports. \nThe tournament is a round-robin event with singles\, gendered doubles\, and mixed doubles. \nRevolin will be donating a tree for every registration given through One Tree Planted. \nAll Belknap courts are reserved for the event. \nREGISTER HERE
URL:https://grpickleball.com/event/earth-day-pickleball-tournament/
LOCATION:Belknap Park\, 30 Coldbrook St NE\, Grand Rapids\, MI\, 49503\, United States
CATEGORIES:Club Sponsored,Tournament
ATTACH;FMTTYPE=image/png:https://grpickleball.com/wp-content/uploads/2023/11/Earth-Day-2024.png
END:VEVENT
END:VCALENDAR