BEGIN:VCALENDAR
VERSION:2.0
PRODID:-//Grand Rapids Pickleball Club - ECPv6.15.16.1//NONSGML v1.0//EN
CALSCALE:GREGORIAN
METHOD:PUBLISH
X-WR-CALNAME:Grand Rapids Pickleball Club
X-ORIGINAL-URL:https://grpickleball.com
X-WR-CALDESC:Events for Grand Rapids Pickleball Club
REFRESH-INTERVAL;VALUE=DURATION:PT1H
X-Robots-Tag:noindex
X-PUBLISHED-TTL:PT1H
BEGIN:VTIMEZONE
TZID:America/Detroit
BEGIN:DAYLIGHT
TZOFFSETFROM:-0500
TZOFFSETTO:-0400
TZNAME:EDT
DTSTART:20250309T070000
END:DAYLIGHT
BEGIN:STANDARD
TZOFFSETFROM:-0400
TZOFFSETTO:-0500
TZNAME:EST
DTSTART:20251102T060000
END:STANDARD
BEGIN:DAYLIGHT
TZOFFSETFROM:-0500
TZOFFSETTO:-0400
TZNAME:EDT
DTSTART:20260308T070000
END:DAYLIGHT
BEGIN:STANDARD
TZOFFSETFROM:-0400
TZOFFSETTO:-0500
TZNAME:EST
DTSTART:20261101T060000
END:STANDARD
BEGIN:DAYLIGHT
TZOFFSETFROM:-0500
TZOFFSETTO:-0400
TZNAME:EDT
DTSTART:20270314T070000
END:DAYLIGHT
BEGIN:STANDARD
TZOFFSETFROM:-0400
TZOFFSETTO:-0500
TZNAME:EST
DTSTART:20271107T060000
END:STANDARD
BEGIN:DAYLIGHT
TZOFFSETFROM:-0500
TZOFFSETTO:-0400
TZNAME:EDT
DTSTART:20280312T070000
END:DAYLIGHT
BEGIN:STANDARD
TZOFFSETFROM:-0400
TZOFFSETTO:-0500
TZNAME:EST
DTSTART:20281105T060000
END:STANDARD
END:VTIMEZONE
BEGIN:VEVENT
DTSTART;TZID=America/Detroit:20261006T090000
DTEND;TZID=America/Detroit:20261006T110000
DTSTAMP:20260424T002736
CREATED:20260317T174352Z
LAST-MODIFIED:20260317T211940Z
UID:10002321-1791277200-1791284400@grpickleball.com
SUMMARY:Women's 70+ Legacy Open Play
DESCRIPTION:Women’s 70+ Legacy Open Play\nMembership in the Grand Rapids Pickleball Club is required\nCourts 7-10 are reserved for this event\n9:00 am to 11:00 am
URL:https://grpickleball.com/event/womens-70-legacy-open-play-2/2026-10-06/
LOCATION:Belknap Park\, 30 Coldbrook St NE\, Grand Rapids\, MI\, 49503\, United States
CATEGORIES:GRPC Members Only,Organized Play
ATTACH;FMTTYPE=image/png:https://grpickleball.com/wp-content/uploads/2026/03/IMG_0176.png
END:VEVENT
BEGIN:VEVENT
DTSTART;TZID=America/Detroit:20261013T090000
DTEND;TZID=America/Detroit:20261013T110000
DTSTAMP:20260424T002736
CREATED:20260317T174352Z
LAST-MODIFIED:20260317T211940Z
UID:10002322-1791882000-1791889200@grpickleball.com
SUMMARY:Women's 70+ Legacy Open Play
DESCRIPTION:Women’s 70+ Legacy Open Play\nMembership in the Grand Rapids Pickleball Club is required\nCourts 7-10 are reserved for this event\n9:00 am to 11:00 am
URL:https://grpickleball.com/event/womens-70-legacy-open-play-2/2026-10-13/
LOCATION:Belknap Park\, 30 Coldbrook St NE\, Grand Rapids\, MI\, 49503\, United States
CATEGORIES:GRPC Members Only,Organized Play
ATTACH;FMTTYPE=image/png:https://grpickleball.com/wp-content/uploads/2026/03/IMG_0176.png
END:VEVENT
BEGIN:VEVENT
DTSTART;TZID=America/Detroit:20261020T090000
DTEND;TZID=America/Detroit:20261020T110000
DTSTAMP:20260424T002736
CREATED:20260317T174352Z
LAST-MODIFIED:20260317T211940Z
UID:10002323-1792486800-1792494000@grpickleball.com
SUMMARY:Women's 70+ Legacy Open Play
DESCRIPTION:Women’s 70+ Legacy Open Play\nMembership in the Grand Rapids Pickleball Club is required\nCourts 7-10 are reserved for this event\n9:00 am to 11:00 am
URL:https://grpickleball.com/event/womens-70-legacy-open-play-2/2026-10-20/
LOCATION:Belknap Park\, 30 Coldbrook St NE\, Grand Rapids\, MI\, 49503\, United States
CATEGORIES:GRPC Members Only,Organized Play
ATTACH;FMTTYPE=image/png:https://grpickleball.com/wp-content/uploads/2026/03/IMG_0176.png
END:VEVENT
BEGIN:VEVENT
DTSTART;TZID=America/Detroit:20261027T090000
DTEND;TZID=America/Detroit:20261027T110000
DTSTAMP:20260424T002736
CREATED:20260317T174352Z
LAST-MODIFIED:20260317T211940Z
UID:10002324-1793091600-1793098800@grpickleball.com
SUMMARY:Women's 70+ Legacy Open Play
DESCRIPTION:Women’s 70+ Legacy Open Play\nMembership in the Grand Rapids Pickleball Club is required\nCourts 7-10 are reserved for this event\n9:00 am to 11:00 am
URL:https://grpickleball.com/event/womens-70-legacy-open-play-2/2026-10-27/
LOCATION:Belknap Park\, 30 Coldbrook St NE\, Grand Rapids\, MI\, 49503\, United States
CATEGORIES:GRPC Members Only,Organized Play
ATTACH;FMTTYPE=image/png:https://grpickleball.com/wp-content/uploads/2026/03/IMG_0176.png
END:VEVENT
BEGIN:VEVENT
DTSTART;TZID=America/Detroit:20261103T090000
DTEND;TZID=America/Detroit:20261103T110000
DTSTAMP:20260424T002736
CREATED:20260317T174352Z
LAST-MODIFIED:20260317T211940Z
UID:10002325-1793696400-1793703600@grpickleball.com
SUMMARY:Women's 70+ Legacy Open Play
DESCRIPTION:Women’s 70+ Legacy Open Play\nMembership in the Grand Rapids Pickleball Club is required\nCourts 7-10 are reserved for this event\n9:00 am to 11:00 am
URL:https://grpickleball.com/event/womens-70-legacy-open-play-2/2026-11-03/
LOCATION:Belknap Park\, 30 Coldbrook St NE\, Grand Rapids\, MI\, 49503\, United States
CATEGORIES:GRPC Members Only,Organized Play
ATTACH;FMTTYPE=image/png:https://grpickleball.com/wp-content/uploads/2026/03/IMG_0176.png
END:VEVENT
BEGIN:VEVENT
DTSTART;TZID=America/Detroit:20261110T090000
DTEND;TZID=America/Detroit:20261110T110000
DTSTAMP:20260424T002736
CREATED:20260317T174352Z
LAST-MODIFIED:20260317T211940Z
UID:10002326-1794301200-1794308400@grpickleball.com
SUMMARY:Women's 70+ Legacy Open Play
DESCRIPTION:Women’s 70+ Legacy Open Play\nMembership in the Grand Rapids Pickleball Club is required\nCourts 7-10 are reserved for this event\n9:00 am to 11:00 am
URL:https://grpickleball.com/event/womens-70-legacy-open-play-2/2026-11-10/
LOCATION:Belknap Park\, 30 Coldbrook St NE\, Grand Rapids\, MI\, 49503\, United States
CATEGORIES:GRPC Members Only,Organized Play
ATTACH;FMTTYPE=image/png:https://grpickleball.com/wp-content/uploads/2026/03/IMG_0176.png
END:VEVENT
BEGIN:VEVENT
DTSTART;TZID=America/Detroit:20261117T090000
DTEND;TZID=America/Detroit:20261117T110000
DTSTAMP:20260424T002736
CREATED:20260317T174352Z
LAST-MODIFIED:20260317T211940Z
UID:10002327-1794906000-1794913200@grpickleball.com
SUMMARY:Women's 70+ Legacy Open Play
DESCRIPTION:Women’s 70+ Legacy Open Play\nMembership in the Grand Rapids Pickleball Club is required\nCourts 7-10 are reserved for this event\n9:00 am to 11:00 am
URL:https://grpickleball.com/event/womens-70-legacy-open-play-2/2026-11-17/
LOCATION:Belknap Park\, 30 Coldbrook St NE\, Grand Rapids\, MI\, 49503\, United States
CATEGORIES:GRPC Members Only,Organized Play
ATTACH;FMTTYPE=image/png:https://grpickleball.com/wp-content/uploads/2026/03/IMG_0176.png
END:VEVENT
BEGIN:VEVENT
DTSTART;TZID=America/Detroit:20261124T090000
DTEND;TZID=America/Detroit:20261124T110000
DTSTAMP:20260424T002736
CREATED:20260317T174352Z
LAST-MODIFIED:20260317T211940Z
UID:10002328-1795510800-1795518000@grpickleball.com
SUMMARY:Women's 70+ Legacy Open Play
DESCRIPTION:Women’s 70+ Legacy Open Play\nMembership in the Grand Rapids Pickleball Club is required\nCourts 7-10 are reserved for this event\n9:00 am to 11:00 am
URL:https://grpickleball.com/event/womens-70-legacy-open-play-2/2026-11-24/
LOCATION:Belknap Park\, 30 Coldbrook St NE\, Grand Rapids\, MI\, 49503\, United States
CATEGORIES:GRPC Members Only,Organized Play
ATTACH;FMTTYPE=image/png:https://grpickleball.com/wp-content/uploads/2026/03/IMG_0176.png
END:VEVENT
BEGIN:VEVENT
DTSTART;TZID=America/Detroit:20261201T090000
DTEND;TZID=America/Detroit:20261201T110000
DTSTAMP:20260424T002736
CREATED:20260317T174352Z
LAST-MODIFIED:20260317T211940Z
UID:10002329-1796115600-1796122800@grpickleball.com
SUMMARY:Women's 70+ Legacy Open Play
DESCRIPTION:Women’s 70+ Legacy Open Play\nMembership in the Grand Rapids Pickleball Club is required\nCourts 7-10 are reserved for this event\n9:00 am to 11:00 am
URL:https://grpickleball.com/event/womens-70-legacy-open-play-2/2026-12-01/
LOCATION:Belknap Park\, 30 Coldbrook St NE\, Grand Rapids\, MI\, 49503\, United States
CATEGORIES:GRPC Members Only,Organized Play
ATTACH;FMTTYPE=image/png:https://grpickleball.com/wp-content/uploads/2026/03/IMG_0176.png
END:VEVENT
BEGIN:VEVENT
DTSTART;TZID=America/Detroit:20261208T090000
DTEND;TZID=America/Detroit:20261208T110000
DTSTAMP:20260424T002736
CREATED:20260317T174352Z
LAST-MODIFIED:20260317T211940Z
UID:10002330-1796720400-1796727600@grpickleball.com
SUMMARY:Women's 70+ Legacy Open Play
DESCRIPTION:Women’s 70+ Legacy Open Play\nMembership in the Grand Rapids Pickleball Club is required\nCourts 7-10 are reserved for this event\n9:00 am to 11:00 am
URL:https://grpickleball.com/event/womens-70-legacy-open-play-2/2026-12-08/
LOCATION:Belknap Park\, 30 Coldbrook St NE\, Grand Rapids\, MI\, 49503\, United States
CATEGORIES:GRPC Members Only,Organized Play
ATTACH;FMTTYPE=image/png:https://grpickleball.com/wp-content/uploads/2026/03/IMG_0176.png
END:VEVENT
BEGIN:VEVENT
DTSTART;TZID=America/Detroit:20261215T090000
DTEND;TZID=America/Detroit:20261215T110000
DTSTAMP:20260424T002736
CREATED:20260317T174352Z
LAST-MODIFIED:20260317T211940Z
UID:10002331-1797325200-1797332400@grpickleball.com
SUMMARY:Women's 70+ Legacy Open Play
DESCRIPTION:Women’s 70+ Legacy Open Play\nMembership in the Grand Rapids Pickleball Club is required\nCourts 7-10 are reserved for this event\n9:00 am to 11:00 am
URL:https://grpickleball.com/event/womens-70-legacy-open-play-2/2026-12-15/
LOCATION:Belknap Park\, 30 Coldbrook St NE\, Grand Rapids\, MI\, 49503\, United States
CATEGORIES:GRPC Members Only,Organized Play
ATTACH;FMTTYPE=image/png:https://grpickleball.com/wp-content/uploads/2026/03/IMG_0176.png
END:VEVENT
BEGIN:VEVENT
DTSTART;TZID=America/Detroit:20261222T090000
DTEND;TZID=America/Detroit:20261222T110000
DTSTAMP:20260424T002736
CREATED:20260317T174352Z
LAST-MODIFIED:20260317T211940Z
UID:10002332-1797930000-1797937200@grpickleball.com
SUMMARY:Women's 70+ Legacy Open Play
DESCRIPTION:Women’s 70+ Legacy Open Play\nMembership in the Grand Rapids Pickleball Club is required\nCourts 7-10 are reserved for this event\n9:00 am to 11:00 am
URL:https://grpickleball.com/event/womens-70-legacy-open-play-2/2026-12-22/
LOCATION:Belknap Park\, 30 Coldbrook St NE\, Grand Rapids\, MI\, 49503\, United States
CATEGORIES:GRPC Members Only,Organized Play
ATTACH;FMTTYPE=image/png:https://grpickleball.com/wp-content/uploads/2026/03/IMG_0176.png
END:VEVENT
BEGIN:VEVENT
DTSTART;TZID=America/Detroit:20261229T090000
DTEND;TZID=America/Detroit:20261229T110000
DTSTAMP:20260424T002736
CREATED:20260317T174352Z
LAST-MODIFIED:20260317T211940Z
UID:10002333-1798534800-1798542000@grpickleball.com
SUMMARY:Women's 70+ Legacy Open Play
DESCRIPTION:Women’s 70+ Legacy Open Play\nMembership in the Grand Rapids Pickleball Club is required\nCourts 7-10 are reserved for this event\n9:00 am to 11:00 am
URL:https://grpickleball.com/event/womens-70-legacy-open-play-2/2026-12-29/
LOCATION:Belknap Park\, 30 Coldbrook St NE\, Grand Rapids\, MI\, 49503\, United States
CATEGORIES:GRPC Members Only,Organized Play
ATTACH;FMTTYPE=image/png:https://grpickleball.com/wp-content/uploads/2026/03/IMG_0176.png
END:VEVENT
BEGIN:VEVENT
DTSTART;TZID=America/Detroit:20270105T090000
DTEND;TZID=America/Detroit:20270105T110000
DTSTAMP:20260424T002736
CREATED:20260317T174352Z
LAST-MODIFIED:20260317T211940Z
UID:10002334-1799139600-1799146800@grpickleball.com
SUMMARY:Women's 70+ Legacy Open Play
DESCRIPTION:Women’s 70+ Legacy Open Play\nMembership in the Grand Rapids Pickleball Club is required\nCourts 7-10 are reserved for this event\n9:00 am to 11:00 am
URL:https://grpickleball.com/event/womens-70-legacy-open-play-2/2027-01-05/
LOCATION:Belknap Park\, 30 Coldbrook St NE\, Grand Rapids\, MI\, 49503\, United States
CATEGORIES:GRPC Members Only,Organized Play
ATTACH;FMTTYPE=image/png:https://grpickleball.com/wp-content/uploads/2026/03/IMG_0176.png
END:VEVENT
BEGIN:VEVENT
DTSTART;TZID=America/Detroit:20270112T090000
DTEND;TZID=America/Detroit:20270112T110000
DTSTAMP:20260424T002736
CREATED:20260317T174352Z
LAST-MODIFIED:20260317T211940Z
UID:10002335-1799744400-1799751600@grpickleball.com
SUMMARY:Women's 70+ Legacy Open Play
DESCRIPTION:Women’s 70+ Legacy Open Play\nMembership in the Grand Rapids Pickleball Club is required\nCourts 7-10 are reserved for this event\n9:00 am to 11:00 am
URL:https://grpickleball.com/event/womens-70-legacy-open-play-2/2027-01-12/
LOCATION:Belknap Park\, 30 Coldbrook St NE\, Grand Rapids\, MI\, 49503\, United States
CATEGORIES:GRPC Members Only,Organized Play
ATTACH;FMTTYPE=image/png:https://grpickleball.com/wp-content/uploads/2026/03/IMG_0176.png
END:VEVENT
BEGIN:VEVENT
DTSTART;TZID=America/Detroit:20270119T090000
DTEND;TZID=America/Detroit:20270119T110000
DTSTAMP:20260424T002736
CREATED:20260317T174352Z
LAST-MODIFIED:20260317T211940Z
UID:10002336-1800349200-1800356400@grpickleball.com
SUMMARY:Women's 70+ Legacy Open Play
DESCRIPTION:Women’s 70+ Legacy Open Play\nMembership in the Grand Rapids Pickleball Club is required\nCourts 7-10 are reserved for this event\n9:00 am to 11:00 am
URL:https://grpickleball.com/event/womens-70-legacy-open-play-2/2027-01-19/
LOCATION:Belknap Park\, 30 Coldbrook St NE\, Grand Rapids\, MI\, 49503\, United States
CATEGORIES:GRPC Members Only,Organized Play
ATTACH;FMTTYPE=image/png:https://grpickleball.com/wp-content/uploads/2026/03/IMG_0176.png
END:VEVENT
BEGIN:VEVENT
DTSTART;TZID=America/Detroit:20270126T090000
DTEND;TZID=America/Detroit:20270126T110000
DTSTAMP:20260424T002736
CREATED:20260317T174352Z
LAST-MODIFIED:20260317T211940Z
UID:10002337-1800954000-1800961200@grpickleball.com
SUMMARY:Women's 70+ Legacy Open Play
DESCRIPTION:Women’s 70+ Legacy Open Play\nMembership in the Grand Rapids Pickleball Club is required\nCourts 7-10 are reserved for this event\n9:00 am to 11:00 am
URL:https://grpickleball.com/event/womens-70-legacy-open-play-2/2027-01-26/
LOCATION:Belknap Park\, 30 Coldbrook St NE\, Grand Rapids\, MI\, 49503\, United States
CATEGORIES:GRPC Members Only,Organized Play
ATTACH;FMTTYPE=image/png:https://grpickleball.com/wp-content/uploads/2026/03/IMG_0176.png
END:VEVENT
BEGIN:VEVENT
DTSTART;TZID=America/Detroit:20270202T090000
DTEND;TZID=America/Detroit:20270202T110000
DTSTAMP:20260424T002736
CREATED:20260317T174352Z
LAST-MODIFIED:20260317T211940Z
UID:10002338-1801558800-1801566000@grpickleball.com
SUMMARY:Women's 70+ Legacy Open Play
DESCRIPTION:Women’s 70+ Legacy Open Play\nMembership in the Grand Rapids Pickleball Club is required\nCourts 7-10 are reserved for this event\n9:00 am to 11:00 am
URL:https://grpickleball.com/event/womens-70-legacy-open-play-2/2027-02-02/
LOCATION:Belknap Park\, 30 Coldbrook St NE\, Grand Rapids\, MI\, 49503\, United States
CATEGORIES:GRPC Members Only,Organized Play
ATTACH;FMTTYPE=image/png:https://grpickleball.com/wp-content/uploads/2026/03/IMG_0176.png
END:VEVENT
BEGIN:VEVENT
DTSTART;TZID=America/Detroit:20270209T090000
DTEND;TZID=America/Detroit:20270209T110000
DTSTAMP:20260424T002736
CREATED:20260317T174352Z
LAST-MODIFIED:20260317T211940Z
UID:10002339-1802163600-1802170800@grpickleball.com
SUMMARY:Women's 70+ Legacy Open Play
DESCRIPTION:Women’s 70+ Legacy Open Play\nMembership in the Grand Rapids Pickleball Club is required\nCourts 7-10 are reserved for this event\n9:00 am to 11:00 am
URL:https://grpickleball.com/event/womens-70-legacy-open-play-2/2027-02-09/
LOCATION:Belknap Park\, 30 Coldbrook St NE\, Grand Rapids\, MI\, 49503\, United States
CATEGORIES:GRPC Members Only,Organized Play
ATTACH;FMTTYPE=image/png:https://grpickleball.com/wp-content/uploads/2026/03/IMG_0176.png
END:VEVENT
BEGIN:VEVENT
DTSTART;TZID=America/Detroit:20270216T090000
DTEND;TZID=America/Detroit:20270216T110000
DTSTAMP:20260424T002736
CREATED:20260317T174352Z
LAST-MODIFIED:20260317T211940Z
UID:10002340-1802768400-1802775600@grpickleball.com
SUMMARY:Women's 70+ Legacy Open Play
DESCRIPTION:Women’s 70+ Legacy Open Play\nMembership in the Grand Rapids Pickleball Club is required\nCourts 7-10 are reserved for this event\n9:00 am to 11:00 am
URL:https://grpickleball.com/event/womens-70-legacy-open-play-2/2027-02-16/
LOCATION:Belknap Park\, 30 Coldbrook St NE\, Grand Rapids\, MI\, 49503\, United States
CATEGORIES:GRPC Members Only,Organized Play
ATTACH;FMTTYPE=image/png:https://grpickleball.com/wp-content/uploads/2026/03/IMG_0176.png
END:VEVENT
BEGIN:VEVENT
DTSTART;TZID=America/Detroit:20270223T090000
DTEND;TZID=America/Detroit:20270223T110000
DTSTAMP:20260424T002736
CREATED:20260317T174352Z
LAST-MODIFIED:20260317T211940Z
UID:10002341-1803373200-1803380400@grpickleball.com
SUMMARY:Women's 70+ Legacy Open Play
DESCRIPTION:Women’s 70+ Legacy Open Play\nMembership in the Grand Rapids Pickleball Club is required\nCourts 7-10 are reserved for this event\n9:00 am to 11:00 am
URL:https://grpickleball.com/event/womens-70-legacy-open-play-2/2027-02-23/
LOCATION:Belknap Park\, 30 Coldbrook St NE\, Grand Rapids\, MI\, 49503\, United States
CATEGORIES:GRPC Members Only,Organized Play
ATTACH;FMTTYPE=image/png:https://grpickleball.com/wp-content/uploads/2026/03/IMG_0176.png
END:VEVENT
BEGIN:VEVENT
DTSTART;TZID=America/Detroit:20270302T090000
DTEND;TZID=America/Detroit:20270302T110000
DTSTAMP:20260424T002736
CREATED:20260317T174352Z
LAST-MODIFIED:20260317T211940Z
UID:10002342-1803978000-1803985200@grpickleball.com
SUMMARY:Women's 70+ Legacy Open Play
DESCRIPTION:Women’s 70+ Legacy Open Play\nMembership in the Grand Rapids Pickleball Club is required\nCourts 7-10 are reserved for this event\n9:00 am to 11:00 am
URL:https://grpickleball.com/event/womens-70-legacy-open-play-2/2027-03-02/
LOCATION:Belknap Park\, 30 Coldbrook St NE\, Grand Rapids\, MI\, 49503\, United States
CATEGORIES:GRPC Members Only,Organized Play
ATTACH;FMTTYPE=image/png:https://grpickleball.com/wp-content/uploads/2026/03/IMG_0176.png
END:VEVENT
BEGIN:VEVENT
DTSTART;TZID=America/Detroit:20270309T090000
DTEND;TZID=America/Detroit:20270309T110000
DTSTAMP:20260424T002736
CREATED:20260317T174352Z
LAST-MODIFIED:20260317T211940Z
UID:10002343-1804582800-1804590000@grpickleball.com
SUMMARY:Women's 70+ Legacy Open Play
DESCRIPTION:Women’s 70+ Legacy Open Play\nMembership in the Grand Rapids Pickleball Club is required\nCourts 7-10 are reserved for this event\n9:00 am to 11:00 am
URL:https://grpickleball.com/event/womens-70-legacy-open-play-2/2027-03-09/
LOCATION:Belknap Park\, 30 Coldbrook St NE\, Grand Rapids\, MI\, 49503\, United States
CATEGORIES:GRPC Members Only,Organized Play
ATTACH;FMTTYPE=image/png:https://grpickleball.com/wp-content/uploads/2026/03/IMG_0176.png
END:VEVENT
BEGIN:VEVENT
DTSTART;TZID=America/Detroit:20270316T090000
DTEND;TZID=America/Detroit:20270316T110000
DTSTAMP:20260424T002736
CREATED:20260317T174352Z
LAST-MODIFIED:20260317T211940Z
UID:10002344-1805187600-1805194800@grpickleball.com
SUMMARY:Women's 70+ Legacy Open Play
DESCRIPTION:Women’s 70+ Legacy Open Play\nMembership in the Grand Rapids Pickleball Club is required\nCourts 7-10 are reserved for this event\n9:00 am to 11:00 am
URL:https://grpickleball.com/event/womens-70-legacy-open-play-2/2027-03-16/
LOCATION:Belknap Park\, 30 Coldbrook St NE\, Grand Rapids\, MI\, 49503\, United States
CATEGORIES:GRPC Members Only,Organized Play
ATTACH;FMTTYPE=image/png:https://grpickleball.com/wp-content/uploads/2026/03/IMG_0176.png
END:VEVENT
BEGIN:VEVENT
DTSTART;TZID=America/Detroit:20270323T090000
DTEND;TZID=America/Detroit:20270323T110000
DTSTAMP:20260424T002736
CREATED:20260317T174352Z
LAST-MODIFIED:20260317T211940Z
UID:10002345-1805792400-1805799600@grpickleball.com
SUMMARY:Women's 70+ Legacy Open Play
DESCRIPTION:Women’s 70+ Legacy Open Play\nMembership in the Grand Rapids Pickleball Club is required\nCourts 7-10 are reserved for this event\n9:00 am to 11:00 am
URL:https://grpickleball.com/event/womens-70-legacy-open-play-2/2027-03-23/
LOCATION:Belknap Park\, 30 Coldbrook St NE\, Grand Rapids\, MI\, 49503\, United States
CATEGORIES:GRPC Members Only,Organized Play
ATTACH;FMTTYPE=image/png:https://grpickleball.com/wp-content/uploads/2026/03/IMG_0176.png
END:VEVENT
BEGIN:VEVENT
DTSTART;TZID=America/Detroit:20270330T090000
DTEND;TZID=America/Detroit:20270330T110000
DTSTAMP:20260424T002736
CREATED:20260317T174352Z
LAST-MODIFIED:20260317T211940Z
UID:10002346-1806397200-1806404400@grpickleball.com
SUMMARY:Women's 70+ Legacy Open Play
DESCRIPTION:Women’s 70+ Legacy Open Play\nMembership in the Grand Rapids Pickleball Club is required\nCourts 7-10 are reserved for this event\n9:00 am to 11:00 am
URL:https://grpickleball.com/event/womens-70-legacy-open-play-2/2027-03-30/
LOCATION:Belknap Park\, 30 Coldbrook St NE\, Grand Rapids\, MI\, 49503\, United States
CATEGORIES:GRPC Members Only,Organized Play
ATTACH;FMTTYPE=image/png:https://grpickleball.com/wp-content/uploads/2026/03/IMG_0176.png
END:VEVENT
BEGIN:VEVENT
DTSTART;TZID=America/Detroit:20270406T090000
DTEND;TZID=America/Detroit:20270406T110000
DTSTAMP:20260424T002736
CREATED:20260317T174352Z
LAST-MODIFIED:20260317T211940Z
UID:10002347-1807002000-1807009200@grpickleball.com
SUMMARY:Women's 70+ Legacy Open Play
DESCRIPTION:Women’s 70+ Legacy Open Play\nMembership in the Grand Rapids Pickleball Club is required\nCourts 7-10 are reserved for this event\n9:00 am to 11:00 am
URL:https://grpickleball.com/event/womens-70-legacy-open-play-2/2027-04-06/
LOCATION:Belknap Park\, 30 Coldbrook St NE\, Grand Rapids\, MI\, 49503\, United States
CATEGORIES:GRPC Members Only,Organized Play
ATTACH;FMTTYPE=image/png:https://grpickleball.com/wp-content/uploads/2026/03/IMG_0176.png
END:VEVENT
BEGIN:VEVENT
DTSTART;TZID=America/Detroit:20270413T090000
DTEND;TZID=America/Detroit:20270413T110000
DTSTAMP:20260424T002736
CREATED:20260317T174352Z
LAST-MODIFIED:20260317T211940Z
UID:10002348-1807606800-1807614000@grpickleball.com
SUMMARY:Women's 70+ Legacy Open Play
DESCRIPTION:Women’s 70+ Legacy Open Play\nMembership in the Grand Rapids Pickleball Club is required\nCourts 7-10 are reserved for this event\n9:00 am to 11:00 am
URL:https://grpickleball.com/event/womens-70-legacy-open-play-2/2027-04-13/
LOCATION:Belknap Park\, 30 Coldbrook St NE\, Grand Rapids\, MI\, 49503\, United States
CATEGORIES:GRPC Members Only,Organized Play
ATTACH;FMTTYPE=image/png:https://grpickleball.com/wp-content/uploads/2026/03/IMG_0176.png
END:VEVENT
BEGIN:VEVENT
DTSTART;TZID=America/Detroit:20270420T090000
DTEND;TZID=America/Detroit:20270420T110000
DTSTAMP:20260424T002736
CREATED:20260317T174352Z
LAST-MODIFIED:20260317T211940Z
UID:10002349-1808211600-1808218800@grpickleball.com
SUMMARY:Women's 70+ Legacy Open Play
DESCRIPTION:Women’s 70+ Legacy Open Play\nMembership in the Grand Rapids Pickleball Club is required\nCourts 7-10 are reserved for this event\n9:00 am to 11:00 am
URL:https://grpickleball.com/event/womens-70-legacy-open-play-2/2027-04-20/
LOCATION:Belknap Park\, 30 Coldbrook St NE\, Grand Rapids\, MI\, 49503\, United States
CATEGORIES:GRPC Members Only,Organized Play
ATTACH;FMTTYPE=image/png:https://grpickleball.com/wp-content/uploads/2026/03/IMG_0176.png
END:VEVENT
BEGIN:VEVENT
DTSTART;TZID=America/Detroit:20270427T090000
DTEND;TZID=America/Detroit:20270427T110000
DTSTAMP:20260424T002736
CREATED:20260317T174352Z
LAST-MODIFIED:20260317T211940Z
UID:10002350-1808816400-1808823600@grpickleball.com
SUMMARY:Women's 70+ Legacy Open Play
DESCRIPTION:Women’s 70+ Legacy Open Play\nMembership in the Grand Rapids Pickleball Club is required\nCourts 7-10 are reserved for this event\n9:00 am to 11:00 am
URL:https://grpickleball.com/event/womens-70-legacy-open-play-2/2027-04-27/
LOCATION:Belknap Park\, 30 Coldbrook St NE\, Grand Rapids\, MI\, 49503\, United States
CATEGORIES:GRPC Members Only,Organized Play
ATTACH;FMTTYPE=image/png:https://grpickleball.com/wp-content/uploads/2026/03/IMG_0176.png
END:VEVENT
END:VCALENDAR