BEGIN:VCALENDAR
VERSION:2.0
PRODID:-//Grand Rapids Pickleball Club - ECPv6.15.16.1//NONSGML v1.0//EN
CALSCALE:GREGORIAN
METHOD:PUBLISH
X-WR-CALNAME:Grand Rapids Pickleball Club
X-ORIGINAL-URL:https://grpickleball.com
X-WR-CALDESC:Events for Grand Rapids Pickleball Club
REFRESH-INTERVAL;VALUE=DURATION:PT1H
X-Robots-Tag:noindex
X-PUBLISHED-TTL:PT1H
BEGIN:VTIMEZONE
TZID:America/Detroit
BEGIN:DAYLIGHT
TZOFFSETFROM:-0500
TZOFFSETTO:-0400
TZNAME:EDT
DTSTART:20230312T070000
END:DAYLIGHT
BEGIN:STANDARD
TZOFFSETFROM:-0400
TZOFFSETTO:-0500
TZNAME:EST
DTSTART:20231105T060000
END:STANDARD
BEGIN:DAYLIGHT
TZOFFSETFROM:-0500
TZOFFSETTO:-0400
TZNAME:EDT
DTSTART:20240310T070000
END:DAYLIGHT
BEGIN:STANDARD
TZOFFSETFROM:-0400
TZOFFSETTO:-0500
TZNAME:EST
DTSTART:20241103T060000
END:STANDARD
BEGIN:DAYLIGHT
TZOFFSETFROM:-0500
TZOFFSETTO:-0400
TZNAME:EDT
DTSTART:20250309T070000
END:DAYLIGHT
BEGIN:STANDARD
TZOFFSETFROM:-0400
TZOFFSETTO:-0500
TZNAME:EST
DTSTART:20251102T060000
END:STANDARD
END:VTIMEZONE
BEGIN:VEVENT
DTSTART;TZID=America/Detroit:20240730T090000
DTEND;TZID=America/Detroit:20240730T110000
DTSTAMP:20260425T062253
CREATED:20240601T130517Z
LAST-MODIFIED:20240601T205339Z
UID:10001805-1722330000-1722337200@grpickleball.com
SUMMARY:Women's 70+ Legacy Open Play
DESCRIPTION:Women’s 70+ Legacy Open Play\nMembership in the Grand Rapids Pickleball Club is  required\nCourts 7-10 are reserved for this event\n9:00 am to 11:00 am
URL:https://grpickleball.com/event/70-women-crushers/2024-07-30/
LOCATION:Belknap Park\, 30 Coldbrook St NE\, Grand Rapids\, MI\, 49503\, United States
CATEGORIES:GRPC Members Only,Organized Play
END:VEVENT
BEGIN:VEVENT
DTSTART;TZID=America/Detroit:20240730T090000
DTEND;TZID=America/Detroit:20240730T110000
DTSTAMP:20260425T062253
CREATED:20240324T150800Z
LAST-MODIFIED:20240525T014048Z
UID:10001662-1722330000-1722337200@grpickleball.com
SUMMARY:GRPC Legacy Group (Men’s 70+)
DESCRIPTION:70+ age and GRPC membership required\n\nCourt format: 3 intermediate\, 3 advanced. The format will be adjusted to accommodate the number of players and skill levels\n\nPlayer rotation: after the completion of a game\, winners stay and split\, and 2 new players join for the next game.\n\nIf interested in playing with this group\, please contact:\nLarry Walters\n\nmrwalter2000@yahoo.com
URL:https://grpickleball.com/event/grpc-legacy-group-mens-70-16/2024-07-30/
LOCATION:MI
CATEGORIES:Club Sponsored,GRPC Members Only,Organized Play
ATTACH;FMTTYPE=image/png:https://grpickleball.com/wp-content/uploads/2021/07/Screen-Shot-2021-07-22-at-11.30.22-AM-e1651329329657.png
END:VEVENT
BEGIN:VEVENT
DTSTART;TZID=America/Detroit:20240729T190000
DTEND;TZID=America/Detroit:20240729T211500
DTSTAMP:20260425T062253
CREATED:20240422T182804Z
LAST-MODIFIED:20240721T035118Z
UID:10001680-1722279600-1722287700@grpickleball.com
SUMMARY:Drilling
DESCRIPTION:July 29th: Midcourt transitioning led by Seth Scharich \nThe focus of the GRPC Drill Program will be on skill repetition and exposure to theme-\nspecific drills. You will also have the opportunity to meet some of our local instructors\nwho can help you further your game! \nGRPC member-only event\nLimited to 16 people per session \nCourts 7-10 are reserved for this event \nAfter you are logged in click HERE to sign up for July 29th
URL:https://grpickleball.com/event/drilling-11/
LOCATION:Belknap Park\, 30 Coldbrook St NE\, Grand Rapids\, MI\, 49503\, United States
CATEGORIES:Club Sponsored,Drilling,GRPC Members Only
ATTACH;FMTTYPE=image/png:https://grpickleball.com/wp-content/uploads/2019/07/cropped-GRPC-favicon-1.png
ORGANIZER;CN="Janice Scharich":MAILTO:drilling@grpickleball.com
END:VEVENT
BEGIN:VEVENT
DTSTART;TZID=America/Detroit:20240728T190000
DTEND;TZID=America/Detroit:20240728T223000
DTSTAMP:20260425T062253
CREATED:20240327T192608Z
LAST-MODIFIED:20240722T184447Z
UID:10001764-1722193200-1722205800@grpickleball.com
SUMMARY:GRPC  Ladder League - Session 2
DESCRIPTION:Must be a GRPC member to participate\nFrom 7:00 pm to 8:35 pm\, DUPR 3.0 – 3.75 and above will play – Click Here to sign up\nFrom 8:40 pm -10:30 pm\, DUPR 3.75 and above will play – Click Here to sign up\nCourts 7-10 and courts 16-21 are reserved for the GRPC Ladder League\nClick Here to sign up for the Substitute List
URL:https://grpickleball.com/event/grpc-ladder-league-session-2/2024-07-28/
LOCATION:MI
CATEGORIES:Club Sponsored,GRPC Members Only,League Play
ATTACH;FMTTYPE=image/jpeg:https://grpickleball.com/wp-content/uploads/2023/05/Belknap-Aerial-View-1.jpg
ORGANIZER;CN="Alex Jandernoa":MAILTO:Jandernoa@gmail.com
END:VEVENT
BEGIN:VEVENT
DTSTART;TZID=America/Detroit:20240728T163000
DTEND;TZID=America/Detroit:20240728T173000
DTSTAMP:20260425T062253
CREATED:20240327T134810Z
LAST-MODIFIED:20240805T135133Z
UID:10001723-1722184200-1722187800@grpickleball.com
SUMMARY:Junior Open Play
DESCRIPTION:Junior open play for ages 8-17 \nSupervised by members of the Youth Pickleball Committee (YPC) \nCourts 7-10 are reserved for junior open play \nRegistration required at GRPC Events
URL:https://grpickleball.com/event/youth-open-play-3/2024-07-28/
LOCATION:Belknap Park\, 30 Coldbrook St NE\, Grand Rapids\, MI\, 49503\, United States
CATEGORIES:Club Sponsored,Junior Play
ATTACH;FMTTYPE=image/png:https://grpickleball.com/wp-content/uploads/2021/07/Screen-Shot-2021-07-22-at-11.30.22-AM-e1651329329657.png
ORGANIZER;CN="Larry Keefe":MAILTO:larrykeefe53@gmail.com
END:VEVENT
BEGIN:VEVENT
DTSTART;TZID=America/Detroit:20240728T154500
DTEND;TZID=America/Detroit:20240728T163000
DTSTAMP:20260425T062253
CREATED:20240327T131421Z
LAST-MODIFIED:20240521T041547Z
UID:10001709-1722181500-1722184200@grpickleball.com
SUMMARY:Junior Drilling - Ages 8-17
DESCRIPTION:Junior Drilling for ages 8-17.  Supervised by members of the Youth Pickleball Committee (YPC). \nParent\, Grandparent\, or Family membership is required.  This is a service to members’ children. \nTo sign up\, please Click Here \nCourts 7-10 are reserved for junior drilling
URL:https://grpickleball.com/event/youth-drilling-ages-8-17/2024-07-28/
LOCATION:Belknap Park\, 30 Coldbrook St NE\, Grand Rapids\, MI\, 49503\, United States
CATEGORIES:Club Sponsored,Drilling,GRPC Members Only,Junior Play
ATTACH;FMTTYPE=image/png:https://grpickleball.com/wp-content/uploads/2019/07/cropped-GRPC-favicon-1.png
ORGANIZER;CN="Larry Keefe":MAILTO:larrykeefe53@gmail.com
END:VEVENT
BEGIN:VEVENT
DTSTART;TZID=America/Detroit:20240726T183000
DTEND;TZID=America/Detroit:20240726T223000
DTSTAMP:20260425T062253
CREATED:20240118T154105Z
LAST-MODIFIED:20240130T230525Z
UID:10001595-1722018600-1722033000@grpickleball.com
SUMMARY:Friday Night Lights
DESCRIPTION:It’s a fun tournament under the lights for GRPC members only. \nDetails will be posted on the GRPC Facebook page as the event gets closer to the date. \nAll courts are reserved for FNL.
URL:https://grpickleball.com/event/friday-night-lights-12/2024-07-26/
LOCATION:Belknap Park\, 30 Coldbrook St NE\, Grand Rapids\, MI\, 49503\, United States
CATEGORIES:Club Sponsored,FNL,GRPC Members Only,Tournament
ATTACH;FMTTYPE=image/png:https://grpickleball.com/wp-content/uploads/2022/04/Screen-Shot-2022-04-30-at-11.07.51-AM-e1651331824206.png
END:VEVENT
BEGIN:VEVENT
DTSTART;TZID=America/Detroit:20240725T090000
DTEND;TZID=America/Detroit:20240725T110000
DTSTAMP:20260425T062253
CREATED:20240327T141015Z
LAST-MODIFIED:20240502T234809Z
UID:10001739-1721898000-1721905200@grpickleball.com
SUMMARY:Organized Ladies' Play
DESCRIPTION:Organized Ladies’ Play\, weather permitting\, from 9:00 am -11:00 am on Thursdays\, May – September. \n\nYou MUST be a Grand Rapids Pickleball Club member\nAll levels are welcome\, no sign-up is necessary\nYou must know the rules of pickleball and be able to keep score\nThis is a fun social time where all levels are expected to play together\n\n Click here to join the GRPC \nCourts 1-4 and 11-21 are reserved for this event \nLadies’ Play will not use courts 5-10.   These are reserved for open play at all skill levels.  Players will mix regardless of skill.   \n 
URL:https://grpickleball.com/event/51938/2024-07-25/
LOCATION:Belknap Park\, 30 Coldbrook St NE\, Grand Rapids\, MI\, 49503\, United States
CATEGORIES:GRPC Members Only,Organized Play
ATTACH;FMTTYPE=image/png:https://grpickleball.com/wp-content/uploads/2021/07/Screen-Shot-2021-07-22-at-11.30.22-AM-e1651329329657.png
END:VEVENT
BEGIN:VEVENT
DTSTART;TZID=America/Detroit:20240724T180000
DTEND;TZID=America/Detroit:20240724T200000
DTSTAMP:20260425T062253
CREATED:20240509T211217Z
LAST-MODIFIED:20240717T140857Z
UID:10001823-1721844000-1721851200@grpickleball.com
SUMMARY:Board Meeting
DESCRIPTION:Board Meeting at Belknap 
URL:https://grpickleball.com/event/board-meeting/2024-07-24/
LOCATION:Belknap Park\, 30 Coldbrook St NE\, Grand Rapids\, MI\, 49503\, United States
END:VEVENT
BEGIN:VEVENT
DTSTART;TZID=America/Detroit:20240724T170000
DTEND;TZID=America/Detroit:20240724T200000
DTSTAMP:20260425T062253
CREATED:20240314T185138Z
LAST-MODIFIED:20240314T185827Z
UID:10001646-1721840400-1721851200@grpickleball.com
SUMMARY:Food Truck Wednesday
DESCRIPTION:Join us for Food Truck Wednesday from 5:00 pm to approximately 8:00 pm \nThis week’s Food Truck will be Katie’s Hot Dog and Smash Burger Cart
URL:https://grpickleball.com/event/food-truck-wednesday/2024-07-24/
LOCATION:Belknap Park\, 30 Coldbrook St NE\, Grand Rapids\, MI\, 49503\, United States
CATEGORIES:Social Event
ATTACH;FMTTYPE=image/png:https://grpickleball.com/wp-content/uploads/2024/03/Screenshot-2024-03-14-at-1.10.23 PM.png
END:VEVENT
BEGIN:VEVENT
DTSTART;TZID=America/Detroit:20240724T153000
DTEND;TZID=America/Detroit:20240724T173000
DTSTAMP:20260425T062253
CREATED:20240327T134810Z
LAST-MODIFIED:20240805T135133Z
UID:10001722-1721835000-1721842200@grpickleball.com
SUMMARY:Junior Open Play
DESCRIPTION:Junior open play for ages 8-17 \nSupervised by members of the Youth Pickleball Committee (YPC) \nCourts 7-10 are reserved for junior open play \nRegistration required at GRPC Events
URL:https://grpickleball.com/event/youth-open-play-3/2024-07-24/
LOCATION:Belknap Park\, 30 Coldbrook St NE\, Grand Rapids\, MI\, 49503\, United States
CATEGORIES:Club Sponsored,Junior Play
ATTACH;FMTTYPE=image/png:https://grpickleball.com/wp-content/uploads/2021/07/Screen-Shot-2021-07-22-at-11.30.22-AM-e1651329329657.png
ORGANIZER;CN="Larry Keefe":MAILTO:larrykeefe53@gmail.com
END:VEVENT
BEGIN:VEVENT
DTSTART;TZID=America/Detroit:20240723T090000
DTEND;TZID=America/Detroit:20240723T110000
DTSTAMP:20260425T062253
CREATED:20240601T130517Z
LAST-MODIFIED:20240601T205339Z
UID:10001804-1721725200-1721732400@grpickleball.com
SUMMARY:Women's 70+ Legacy Open Play
DESCRIPTION:Women’s 70+ Legacy Open Play\nMembership in the Grand Rapids Pickleball Club is  required\nCourts 7-10 are reserved for this event\n9:00 am to 11:00 am
URL:https://grpickleball.com/event/70-women-crushers/2024-07-23/
LOCATION:Belknap Park\, 30 Coldbrook St NE\, Grand Rapids\, MI\, 49503\, United States
CATEGORIES:GRPC Members Only,Organized Play
END:VEVENT
BEGIN:VEVENT
DTSTART;TZID=America/Detroit:20240723T090000
DTEND;TZID=America/Detroit:20240723T110000
DTSTAMP:20260425T062253
CREATED:20240324T150800Z
LAST-MODIFIED:20240525T014048Z
UID:10001661-1721725200-1721732400@grpickleball.com
SUMMARY:GRPC Legacy Group (Men’s 70+)
DESCRIPTION:70+ age and GRPC membership required\n\nCourt format: 3 intermediate\, 3 advanced. The format will be adjusted to accommodate the number of players and skill levels\n\nPlayer rotation: after the completion of a game\, winners stay and split\, and 2 new players join for the next game.\n\nIf interested in playing with this group\, please contact:\nLarry Walters\n\nmrwalter2000@yahoo.com
URL:https://grpickleball.com/event/grpc-legacy-group-mens-70-16/2024-07-23/
LOCATION:MI
CATEGORIES:Club Sponsored,GRPC Members Only,Organized Play
ATTACH;FMTTYPE=image/png:https://grpickleball.com/wp-content/uploads/2021/07/Screen-Shot-2021-07-22-at-11.30.22-AM-e1651329329657.png
END:VEVENT
BEGIN:VEVENT
DTSTART;TZID=America/Detroit:20240722T190000
DTEND;TZID=America/Detroit:20240722T211500
DTSTAMP:20260425T062253
CREATED:20240422T181412Z
LAST-MODIFIED:20240708T015752Z
UID:10001679-1721674800-1721682900@grpickleball.com
SUMMARY:Drilling
DESCRIPTION:July 22nd: Targeted Dinking led by Will Doot \nThe focus of the GRPC Drill Program will be on skill repetition and exposure to theme-\nspecific drills. You will also have the opportunity to meet some of our local instructors\nwho can help you further your game! \nGRPC member-only event\nLimited to 16 people per session \nCourts 7-10 are reserved for this event \nAfter you are logged in click HERE to sign up for July 22nd
URL:https://grpickleball.com/event/drilling-10/
LOCATION:Belknap Park\, 30 Coldbrook St NE\, Grand Rapids\, MI\, 49503\, United States
CATEGORIES:Club Sponsored,Drilling,GRPC Members Only
ATTACH;FMTTYPE=image/png:https://grpickleball.com/wp-content/uploads/2019/07/cropped-GRPC-favicon-1.png
ORGANIZER;CN="Janice Scharich":MAILTO:drilling@grpickleball.com
END:VEVENT
BEGIN:VEVENT
DTSTART;TZID=America/Detroit:20240722T173000
DTEND;TZID=America/Detroit:20240722T190000
DTSTAMP:20260425T062253
CREATED:20240326T153041Z
LAST-MODIFIED:20240911T223052Z
UID:10001817-1721669400-1721674800@grpickleball.com
SUMMARY:Introduction to Pickleball
DESCRIPTION:New to pickleball?   We have the class for you.  Build confidence\, learn the basics\, and prepare for social play!\nThe Intro to Pickleball class is designed for the first-time adult player. Join the craze and have a blast!  We will have paddles and balls available. \nLed by Instructor Pati Sheldon \n$15 Fee – please Click Here to sign up \nCourts 7- 9 at Belknap Park are reserved for this event.
URL:https://grpickleball.com/event/introduction-to-pickleball/2024-07-22/
LOCATION:Belknap Park\, 30 Coldbrook St NE\, Grand Rapids\, MI\, 49503\, United States
CATEGORIES:Club Sponsored,Lessons
ATTACH;FMTTYPE=image/png:https://grpickleball.com/wp-content/uploads/2021/07/Screen-Shot-2021-07-22-at-11.30.22-AM-e1651329329657.png
END:VEVENT
BEGIN:VEVENT
DTSTART;TZID=America/Detroit:20240721T163000
DTEND;TZID=America/Detroit:20240721T173000
DTSTAMP:20260425T062253
CREATED:20240327T134810Z
LAST-MODIFIED:20240805T135133Z
UID:10001721-1721579400-1721583000@grpickleball.com
SUMMARY:Junior Open Play
DESCRIPTION:Junior open play for ages 8-17 \nSupervised by members of the Youth Pickleball Committee (YPC) \nCourts 7-10 are reserved for junior open play \nRegistration required at GRPC Events
URL:https://grpickleball.com/event/youth-open-play-3/2024-07-21/
LOCATION:Belknap Park\, 30 Coldbrook St NE\, Grand Rapids\, MI\, 49503\, United States
CATEGORIES:Club Sponsored,Junior Play
ATTACH;FMTTYPE=image/png:https://grpickleball.com/wp-content/uploads/2021/07/Screen-Shot-2021-07-22-at-11.30.22-AM-e1651329329657.png
ORGANIZER;CN="Larry Keefe":MAILTO:larrykeefe53@gmail.com
END:VEVENT
BEGIN:VEVENT
DTSTART;TZID=America/Detroit:20240721T154500
DTEND;TZID=America/Detroit:20240721T163000
DTSTAMP:20260425T062253
CREATED:20240327T131421Z
LAST-MODIFIED:20240521T041547Z
UID:10001708-1721576700-1721579400@grpickleball.com
SUMMARY:Junior Drilling - Ages 8-17
DESCRIPTION:Junior Drilling for ages 8-17.  Supervised by members of the Youth Pickleball Committee (YPC). \nParent\, Grandparent\, or Family membership is required.  This is a service to members’ children. \nTo sign up\, please Click Here \nCourts 7-10 are reserved for junior drilling
URL:https://grpickleball.com/event/youth-drilling-ages-8-17/2024-07-21/
LOCATION:Belknap Park\, 30 Coldbrook St NE\, Grand Rapids\, MI\, 49503\, United States
CATEGORIES:Club Sponsored,Drilling,GRPC Members Only,Junior Play
ATTACH;FMTTYPE=image/png:https://grpickleball.com/wp-content/uploads/2019/07/cropped-GRPC-favicon-1.png
ORGANIZER;CN="Larry Keefe":MAILTO:larrykeefe53@gmail.com
END:VEVENT
BEGIN:VEVENT
DTSTART;TZID=America/Detroit:20240719T120000
DTEND;TZID=America/Detroit:20240720T230000
DTSTAMP:20260425T062253
CREATED:20240130T163736Z
LAST-MODIFIED:20240130T164139Z
UID:10001592-1721390400-1721516400@grpickleball.com
SUMMARY:Upheaval Festival
DESCRIPTION:Upheaval Festival at Belknap Park.  The parking lot is open to pickleball players until noon. Courts are open into the evening and can go until dark (no lights) but need to park elsewhere after 12:00 pm (noon).
URL:https://grpickleball.com/event/upheaval-festival-4/
LOCATION:Belknap Park\, 30 Coldbrook St NE\, Grand Rapids\, MI\, 49503\, United States
CATEGORIES:Non-Club Event
ATTACH;FMTTYPE=image/png:https://grpickleball.com/wp-content/uploads/2024/01/Screenshot-2024-01-30-at-11.39.07 AM-e1706632833374.png
END:VEVENT
BEGIN:VEVENT
DTSTART;TZID=America/Detroit:20240718T090000
DTEND;TZID=America/Detroit:20240718T110000
DTSTAMP:20260425T062253
CREATED:20240327T141015Z
LAST-MODIFIED:20240502T234809Z
UID:10001738-1721293200-1721300400@grpickleball.com
SUMMARY:Organized Ladies' Play
DESCRIPTION:Organized Ladies’ Play\, weather permitting\, from 9:00 am -11:00 am on Thursdays\, May – September. \n\nYou MUST be a Grand Rapids Pickleball Club member\nAll levels are welcome\, no sign-up is necessary\nYou must know the rules of pickleball and be able to keep score\nThis is a fun social time where all levels are expected to play together\n\n Click here to join the GRPC \nCourts 1-4 and 11-21 are reserved for this event \nLadies’ Play will not use courts 5-10.   These are reserved for open play at all skill levels.  Players will mix regardless of skill.   \n 
URL:https://grpickleball.com/event/51938/2024-07-18/
LOCATION:Belknap Park\, 30 Coldbrook St NE\, Grand Rapids\, MI\, 49503\, United States
CATEGORIES:GRPC Members Only,Organized Play
ATTACH;FMTTYPE=image/png:https://grpickleball.com/wp-content/uploads/2021/07/Screen-Shot-2021-07-22-at-11.30.22-AM-e1651329329657.png
END:VEVENT
BEGIN:VEVENT
DTSTART;TZID=America/Detroit:20240717T170000
DTEND;TZID=America/Detroit:20240717T200000
DTSTAMP:20260425T062253
CREATED:20240314T185636Z
LAST-MODIFIED:20240314T185636Z
UID:10001642-1721235600-1721246400@grpickleball.com
SUMMARY:Food Truck Wednesday
DESCRIPTION:Join us for Food Truck Wednesday from 5:00 pm to approximately 8:00 pm \nThis week’s Food Truck will be The Angry Chicken
URL:https://grpickleball.com/event/food-truck-wednesday-4/2024-07-17/
LOCATION:Belknap Park\, 30 Coldbrook St NE\, Grand Rapids\, MI\, 49503\, United States
CATEGORIES:Social Event
ATTACH;FMTTYPE=image/png:https://grpickleball.com/wp-content/uploads/2024/03/Screenshot-2024-03-14-at-1.10.23 PM.png
END:VEVENT
BEGIN:VEVENT
DTSTART;TZID=America/Detroit:20240717T153000
DTEND;TZID=America/Detroit:20240717T173000
DTSTAMP:20260425T062253
CREATED:20240327T134810Z
LAST-MODIFIED:20240805T135133Z
UID:10001720-1721230200-1721237400@grpickleball.com
SUMMARY:Junior Open Play
DESCRIPTION:Junior open play for ages 8-17 \nSupervised by members of the Youth Pickleball Committee (YPC) \nCourts 7-10 are reserved for junior open play \nRegistration required at GRPC Events
URL:https://grpickleball.com/event/youth-open-play-3/2024-07-17/
LOCATION:Belknap Park\, 30 Coldbrook St NE\, Grand Rapids\, MI\, 49503\, United States
CATEGORIES:Club Sponsored,Junior Play
ATTACH;FMTTYPE=image/png:https://grpickleball.com/wp-content/uploads/2021/07/Screen-Shot-2021-07-22-at-11.30.22-AM-e1651329329657.png
ORGANIZER;CN="Larry Keefe":MAILTO:larrykeefe53@gmail.com
END:VEVENT
BEGIN:VEVENT
DTSTART;TZID=America/Detroit:20240716T090000
DTEND;TZID=America/Detroit:20240716T110000
DTSTAMP:20260425T062253
CREATED:20240601T130517Z
LAST-MODIFIED:20240601T205339Z
UID:10001803-1721120400-1721127600@grpickleball.com
SUMMARY:Women's 70+ Legacy Open Play
DESCRIPTION:Women’s 70+ Legacy Open Play\nMembership in the Grand Rapids Pickleball Club is  required\nCourts 7-10 are reserved for this event\n9:00 am to 11:00 am
URL:https://grpickleball.com/event/70-women-crushers/2024-07-16/
LOCATION:Belknap Park\, 30 Coldbrook St NE\, Grand Rapids\, MI\, 49503\, United States
CATEGORIES:GRPC Members Only,Organized Play
END:VEVENT
BEGIN:VEVENT
DTSTART;TZID=America/Detroit:20240716T090000
DTEND;TZID=America/Detroit:20240716T110000
DTSTAMP:20260425T062253
CREATED:20240324T150800Z
LAST-MODIFIED:20240525T014048Z
UID:10001660-1721120400-1721127600@grpickleball.com
SUMMARY:GRPC Legacy Group (Men’s 70+)
DESCRIPTION:70+ age and GRPC membership required\n\nCourt format: 3 intermediate\, 3 advanced. The format will be adjusted to accommodate the number of players and skill levels\n\nPlayer rotation: after the completion of a game\, winners stay and split\, and 2 new players join for the next game.\n\nIf interested in playing with this group\, please contact:\nLarry Walters\n\nmrwalter2000@yahoo.com
URL:https://grpickleball.com/event/grpc-legacy-group-mens-70-16/2024-07-16/
LOCATION:MI
CATEGORIES:Club Sponsored,GRPC Members Only,Organized Play
ATTACH;FMTTYPE=image/png:https://grpickleball.com/wp-content/uploads/2021/07/Screen-Shot-2021-07-22-at-11.30.22-AM-e1651329329657.png
END:VEVENT
BEGIN:VEVENT
DTSTART;TZID=America/Detroit:20240715T190000
DTEND;TZID=America/Detroit:20240715T211500
DTSTAMP:20260425T062253
CREATED:20240422T180953Z
LAST-MODIFIED:20240708T015855Z
UID:10001678-1721070000-1721078100@grpickleball.com
SUMMARY:Drilling
DESCRIPTION:July 15th: Feel and Directional Control led by Korrie Ottenwess \nThe focus of the GRPC Drill Program will be on skill repetition and exposure to theme-\nspecific drills. You will also have the opportunity to meet some of our local instructors\nwho can help you further your game! \nGRPC member-only event\nLimited to 16 people per session \nCourts 7-10 are reserved for this event \nAfter you are logged in clink HERE to sign up for July 15th
URL:https://grpickleball.com/event/drilling-9/
LOCATION:Belknap Park\, 30 Coldbrook St NE\, Grand Rapids\, MI\, 49503\, United States
CATEGORIES:Club Sponsored,Drilling,GRPC Members Only
ATTACH;FMTTYPE=image/png:https://grpickleball.com/wp-content/uploads/2019/07/cropped-GRPC-favicon-1.png
ORGANIZER;CN="Janice Scharich":MAILTO:drilling@grpickleball.com
END:VEVENT
BEGIN:VEVENT
DTSTART;VALUE=DATE:20240709
DTEND;VALUE=DATE:20240715
DTSTAMP:20260425T062253
CREATED:20231011T025524Z
LAST-MODIFIED:20240403T231119Z
UID:10001577-1720483200-1721001599@grpickleball.com
SUMMARY:Beer City Open – All courts will be in use for the tournament
DESCRIPTION:All courts will be in use for the tournament.  No open play.  \nRegister for the tournament here\nVolunteer for the tournament here 
URL:https://grpickleball.com/event/beer-city-open-12/
LOCATION:Belknap Park\, 30 Coldbrook St NE\, Grand Rapids\, MI\, 49503\, United States
CATEGORIES:Tournament
ATTACH;FMTTYPE=image/png:https://grpickleball.com/wp-content/uploads/2022/04/BeerCityLogo-copy-1-e1651351444411.png
ORGANIZER;CN="Paul Richards":MAILTO:prpickleball@gmail.com
END:VEVENT
BEGIN:VEVENT
DTSTART;TZID=America/Detroit:20240707T190000
DTEND;TZID=America/Detroit:20240707T223000
DTSTAMP:20260425T062253
CREATED:20240327T192139Z
LAST-MODIFIED:20240520T170149Z
UID:10001755-1720378800-1720391400@grpickleball.com
SUMMARY:GRPC Ladder League - Session 1
DESCRIPTION:Must be a GRPC member to participate\nFrom 7:00 pm to 8:30 pm\, DUPR 3.75 and above will play – Click Here to sign up\nFrom 8:30 pm -10:00 pm\, DUPR 3.0 – 3.75 will play – Click Here to sign up\nCourts 7-10 and courts 16-21 are reserved for the GRPC Ladder League\nClick Here to sign up for the Substitute List
URL:https://grpickleball.com/event/grpc-ladder-league-session-1/2024-07-07/
LOCATION:Belknap Park\, 30 Coldbrook St NE\, Grand Rapids\, MI\, 49503\, United States
CATEGORIES:Club Sponsored,GRPC Members Only,League Play
ATTACH;FMTTYPE=image/jpeg:https://grpickleball.com/wp-content/uploads/2023/05/Belknap-Aerial-View-1.jpg
ORGANIZER;CN="Alex Jandernoa":MAILTO:Jandernoa@gmail.com
END:VEVENT
BEGIN:VEVENT
DTSTART;TZID=America/Detroit:20240703T170000
DTEND;TZID=America/Detroit:20240703T200000
DTSTAMP:20260425T062253
CREATED:20240314T183003Z
LAST-MODIFIED:20240314T183604Z
UID:10001630-1720026000-1720036800@grpickleball.com
SUMMARY:Food Truck Wednesday
DESCRIPTION:Join us for Food Truck Wednesday from 5:00 pm to approximately 8:00 pm \nThis week’s Food Truck will be PizzaMI
URL:https://grpickleball.com/event/food-truck-wednesday-2/2024-07-03/
LOCATION:Belknap Park\, 30 Coldbrook St NE\, Grand Rapids\, MI\, 49503\, United States
CATEGORIES:Social Event
ATTACH;FMTTYPE=image/png:https://grpickleball.com/wp-content/uploads/2024/03/Screenshot-2024-03-14-at-1.10.23 PM.png
END:VEVENT
BEGIN:VEVENT
DTSTART;TZID=America/Detroit:20240702T090000
DTEND;TZID=America/Detroit:20240702T110000
DTSTAMP:20260425T062253
CREATED:20240601T130517Z
LAST-MODIFIED:20240601T205339Z
UID:10001802-1719910800-1719918000@grpickleball.com
SUMMARY:Women's 70+ Legacy Open Play
DESCRIPTION:Women’s 70+ Legacy Open Play\nMembership in the Grand Rapids Pickleball Club is  required\nCourts 7-10 are reserved for this event\n9:00 am to 11:00 am
URL:https://grpickleball.com/event/70-women-crushers/2024-07-02/
LOCATION:Belknap Park\, 30 Coldbrook St NE\, Grand Rapids\, MI\, 49503\, United States
CATEGORIES:GRPC Members Only,Organized Play
END:VEVENT
BEGIN:VEVENT
DTSTART;TZID=America/Detroit:20240702T090000
DTEND;TZID=America/Detroit:20240702T110000
DTSTAMP:20260425T062253
CREATED:20240324T150800Z
LAST-MODIFIED:20240525T014048Z
UID:10001659-1719910800-1719918000@grpickleball.com
SUMMARY:GRPC Legacy Group (Men’s 70+)
DESCRIPTION:70+ age and GRPC membership required\n\nCourt format: 3 intermediate\, 3 advanced. The format will be adjusted to accommodate the number of players and skill levels\n\nPlayer rotation: after the completion of a game\, winners stay and split\, and 2 new players join for the next game.\n\nIf interested in playing with this group\, please contact:\nLarry Walters\n\nmrwalter2000@yahoo.com
URL:https://grpickleball.com/event/grpc-legacy-group-mens-70-16/2024-07-02/
LOCATION:MI
CATEGORIES:Club Sponsored,GRPC Members Only,Organized Play
ATTACH;FMTTYPE=image/png:https://grpickleball.com/wp-content/uploads/2021/07/Screen-Shot-2021-07-22-at-11.30.22-AM-e1651329329657.png
END:VEVENT
BEGIN:VEVENT
DTSTART;TZID=America/Detroit:20240701T190000
DTEND;TZID=America/Detroit:20240701T211500
DTSTAMP:20260425T062253
CREATED:20240422T180610Z
LAST-MODIFIED:20240623T020410Z
UID:10001677-1719860400-1719868500@grpickleball.com
SUMMARY:Drilling
DESCRIPTION:July 1st: Hunting for High Balls & Improving Readiness led by Dan McConnon \nThe focus of the GRPC Drill Program will be on skill repetition and exposure to theme-\nspecific drills. You will also have the opportunity to meet some of our local instructors\nwho can help you further your game! \nGRPC member-only event\nLimited to 16 people per session \nCourts 7-10 are reserved for this event \nAfter you are logged in clink HERE to sign up for July 1st
URL:https://grpickleball.com/event/drilling-8/
LOCATION:Belknap Park\, 30 Coldbrook St NE\, Grand Rapids\, MI\, 49503\, United States
CATEGORIES:Club Sponsored,Drilling,GRPC Members Only
ATTACH;FMTTYPE=image/png:https://grpickleball.com/wp-content/uploads/2019/07/cropped-GRPC-favicon-1.png
ORGANIZER;CN="Janice Scharich":MAILTO:drilling@grpickleball.com
END:VEVENT
END:VCALENDAR