BEGIN:VCALENDAR
VERSION:2.0
PRODID:-//Grand Rapids Pickleball Club - ECPv6.15.16.1//NONSGML v1.0//EN
CALSCALE:GREGORIAN
METHOD:PUBLISH
X-WR-CALNAME:Grand Rapids Pickleball Club
X-ORIGINAL-URL:https://grpickleball.com
X-WR-CALDESC:Events for Grand Rapids Pickleball Club
REFRESH-INTERVAL;VALUE=DURATION:PT1H
X-Robots-Tag:noindex
X-PUBLISHED-TTL:PT1H
BEGIN:VTIMEZONE
TZID:America/Detroit
BEGIN:DAYLIGHT
TZOFFSETFROM:-0500
TZOFFSETTO:-0400
TZNAME:EDT
DTSTART:20230312T070000
END:DAYLIGHT
BEGIN:STANDARD
TZOFFSETFROM:-0400
TZOFFSETTO:-0500
TZNAME:EST
DTSTART:20231105T060000
END:STANDARD
BEGIN:DAYLIGHT
TZOFFSETFROM:-0500
TZOFFSETTO:-0400
TZNAME:EDT
DTSTART:20240310T070000
END:DAYLIGHT
BEGIN:STANDARD
TZOFFSETFROM:-0400
TZOFFSETTO:-0500
TZNAME:EST
DTSTART:20241103T060000
END:STANDARD
BEGIN:DAYLIGHT
TZOFFSETFROM:-0500
TZOFFSETTO:-0400
TZNAME:EDT
DTSTART:20250309T070000
END:DAYLIGHT
BEGIN:STANDARD
TZOFFSETFROM:-0400
TZOFFSETTO:-0500
TZNAME:EST
DTSTART:20251102T060000
END:STANDARD
END:VTIMEZONE
BEGIN:VEVENT
DTSTART;TZID=America/Detroit:20240506T110000
DTEND;TZID=America/Detroit:20240506T130000
DTSTAMP:20260425T233439
CREATED:20240326T153041Z
LAST-MODIFIED:20240911T223052Z
UID:10001772-1714993200-1715000400@grpickleball.com
SUMMARY:Introduction to Pickleball
DESCRIPTION:New to pickleball?   We have the class for you.  Build confidence\, learn the basics\, and prepare for social play!\nThe Intro to Pickleball class is designed for the first-time adult player. Join the craze and have a blast!  We will have paddles and balls available. \nLed by Instructor Pati Sheldon \n$15 Fee – please Click Here to sign up \nCourts 7- 9 at Belknap Park are reserved for this event.
URL:https://grpickleball.com/event/introduction-to-pickleball/2024-05-06/
LOCATION:Belknap Park\, 30 Coldbrook St NE\, Grand Rapids\, MI\, 49503\, United States
CATEGORIES:Club Sponsored,Lessons
ATTACH;FMTTYPE=image/png:https://grpickleball.com/wp-content/uploads/2021/07/Screen-Shot-2021-07-22-at-11.30.22-AM-e1651329329657.png
END:VEVENT
BEGIN:VEVENT
DTSTART;TZID=America/Detroit:20240502T090000
DTEND;TZID=America/Detroit:20240502T110000
DTSTAMP:20260425T233439
CREATED:20240327T141015Z
LAST-MODIFIED:20240502T234809Z
UID:10001729-1714640400-1714647600@grpickleball.com
SUMMARY:Organized Ladies' Play
DESCRIPTION:Organized Ladies’ Play\, weather permitting\, from 9:00 am -11:00 am on Thursdays\, May – September. \n\nYou MUST be a Grand Rapids Pickleball Club member\nAll levels are welcome\, no sign-up is necessary\nYou must know the rules of pickleball and be able to keep score\nThis is a fun social time where all levels are expected to play together\n\n Click here to join the GRPC \nCourts 1-4 and 11-21 are reserved for this event \nLadies’ Play will not use courts 5-10.   These are reserved for open play at all skill levels.  Players will mix regardless of skill.   \n 
URL:https://grpickleball.com/event/51938/2024-05-02/
LOCATION:Belknap Park\, 30 Coldbrook St NE\, Grand Rapids\, MI\, 49503\, United States
CATEGORIES:GRPC Members Only,Organized Play
ATTACH;FMTTYPE=image/png:https://grpickleball.com/wp-content/uploads/2021/07/Screen-Shot-2021-07-22-at-11.30.22-AM-e1651329329657.png
END:VEVENT
BEGIN:VEVENT
DTSTART;VALUE=DATE:20240426
DTEND;VALUE=DATE:20240429
DTSTAMP:20260425T233439
CREATED:20231116T011656Z
LAST-MODIFIED:20240109T234110Z
UID:10001581-1714089600-1714348799@grpickleball.com
SUMMARY:Earth Day Pickleball Tournament
DESCRIPTION:Grand Rapids Pickleball Club is excited to host the Earth Day Open tournament powered by Revolin Sports. \nThe tournament is a round-robin event with singles\, gendered doubles\, and mixed doubles. \nRevolin will be donating a tree for every registration given through One Tree Planted. \nAll Belknap courts are reserved for the event. \nREGISTER HERE
URL:https://grpickleball.com/event/earth-day-pickleball-tournament/
LOCATION:Belknap Park\, 30 Coldbrook St NE\, Grand Rapids\, MI\, 49503\, United States
CATEGORIES:Club Sponsored,Tournament
ATTACH;FMTTYPE=image/png:https://grpickleball.com/wp-content/uploads/2023/11/Earth-Day-2024.png
END:VEVENT
END:VCALENDAR