BEGIN:VCALENDAR
VERSION:2.0
PRODID:-//Grand Rapids Pickleball Club - ECPv6.15.16.1//NONSGML v1.0//EN
CALSCALE:GREGORIAN
METHOD:PUBLISH
X-WR-CALNAME:Grand Rapids Pickleball Club
X-ORIGINAL-URL:https://grpickleball.com
X-WR-CALDESC:Events for Grand Rapids Pickleball Club
REFRESH-INTERVAL;VALUE=DURATION:PT1H
X-Robots-Tag:noindex
X-PUBLISHED-TTL:PT1H
BEGIN:VTIMEZONE
TZID:America/Detroit
BEGIN:DAYLIGHT
TZOFFSETFROM:-0500
TZOFFSETTO:-0400
TZNAME:EDT
DTSTART:20240310T070000
END:DAYLIGHT
BEGIN:STANDARD
TZOFFSETFROM:-0400
TZOFFSETTO:-0500
TZNAME:EST
DTSTART:20241103T060000
END:STANDARD
BEGIN:DAYLIGHT
TZOFFSETFROM:-0500
TZOFFSETTO:-0400
TZNAME:EDT
DTSTART:20250309T070000
END:DAYLIGHT
BEGIN:STANDARD
TZOFFSETFROM:-0400
TZOFFSETTO:-0500
TZNAME:EST
DTSTART:20251102T060000
END:STANDARD
BEGIN:DAYLIGHT
TZOFFSETFROM:-0500
TZOFFSETTO:-0400
TZNAME:EDT
DTSTART:20260308T070000
END:DAYLIGHT
BEGIN:STANDARD
TZOFFSETFROM:-0400
TZOFFSETTO:-0500
TZNAME:EST
DTSTART:20261101T060000
END:STANDARD
END:VTIMEZONE
BEGIN:VEVENT
DTSTART;TZID=America/Detroit:20250812T090000
DTEND;TZID=America/Detroit:20250812T110000
DTSTAMP:20260423T154644
CREATED:20250320T141612Z
LAST-MODIFIED:20250320T142106Z
UID:10002083-1754989200-1754996400@grpickleball.com
SUMMARY:Women's 70+ Legacy Open Play
DESCRIPTION:Women’s 70+ Legacy Open Play\nMembership in the Grand Rapids Pickleball Club is required\nCourts 7-10 are reserved for this event\n9:00 am to 11:00 am
URL:https://grpickleball.com/event/womens-70-legacy-open-play/2025-08-12/
LOCATION:Belknap Park\, 30 Coldbrook St NE\, Grand Rapids\, MI\, 49503\, United States
CATEGORIES:GRPC Members Only,Organized Play
END:VEVENT
BEGIN:VEVENT
DTSTART;TZID=America/Detroit:20250811T180000
DTEND;TZID=America/Detroit:20250811T204500
DTSTAMP:20260423T154644
CREATED:20250803T120058Z
LAST-MODIFIED:20250810T184625Z
UID:10001964-1754935200-1754945100@grpickleball.com
SUMMARY:Drilling
DESCRIPTION:Frank Kirsch-Developing an Effective Serve \nThe focus of the GRPC Drill Program will be on skill repetition and exposure to theme-\nspecific drills. You will also have the opportunity to meet some of our local instructors\nwho can help you further your game.  \nSession 1:  6:00pm to 7:15pm (3.4 and below)            \nSession 2:  7:30pm to 8:45pm (3.5 and above)                                                                                                  \nLimited to 16 people per session. \nFee: $12 members; $18 nonmembers \nCourts 7-10 are reserved for this event. \nClick HERE to sign up
URL:https://grpickleball.com/event/drilling-3-11/
LOCATION:Belknap Park\, 30 Coldbrook St NE\, Grand Rapids\, MI\, 49503\, United States
CATEGORIES:Club Sponsored,Drilling
ATTACH;FMTTYPE=image/png:https://grpickleball.com/wp-content/uploads/2019/07/cropped-GRPC-favicon-1.png
ORGANIZER;CN="Janice Scharich":MAILTO:drilling@grpickleball.com
END:VEVENT
BEGIN:VEVENT
DTSTART;TZID=America/Detroit:20250810T173000
DTEND;TZID=America/Detroit:20250810T204500
DTSTAMP:20260423T154644
CREATED:20250625T145212Z
LAST-MODIFIED:20250625T154106Z
UID:10002158-1754847000-1754858700@grpickleball.com
SUMMARY:GRPC Ladder League - Session 2
DESCRIPTION:Must be a GRPC member to participate\nRegistration fee is $60\nFrom 5:30 pm to 7:00 pm\, DUPR 3.0 – 3.75 will play – Click Here to sign up\nFrom 7:15 pm to 8:45 pm\, DUPR 3.75+ will play – Click Here to sign up\nCourts 7-10 and courts 16-21 are reserved for the GRPC Ladder League\nFranklin balls will be provided\nClick Here to sign up for the Substitute List
URL:https://grpickleball.com/event/grpc-ladder-league-session-2-2-2/2025-08-10/
LOCATION:Belknap Park\, 30 Coldbrook St NE\, Grand Rapids\, MI\, 49503\, United States
CATEGORIES:Club Sponsored,GRPC Members Only,League Play
ATTACH;FMTTYPE=image/jpeg:https://grpickleball.com/wp-content/uploads/2023/05/Belknap-Aerial-View-1.jpg
ORGANIZER;CN="Vamshi Vg":MAILTO:Vvamshi06@gmail.com
END:VEVENT
BEGIN:VEVENT
DTSTART;TZID=America/Detroit:20250809T150000
DTEND;TZID=America/Detroit:20250809T210000
DTSTAMP:20260423T154644
CREATED:20250531T152036Z
LAST-MODIFIED:20250531T154043Z
UID:10002150-1754751600-1754773200@grpickleball.com
SUMMARY:Midwest Junior Pickleball Championships
DESCRIPTION:GRPC is excited to host the first Midwest Junior Pickleball Championships at Belknap Park. Tournament play is scheduled to follow the USSP North Regional Championships Tournament (Senior Pickleball). Click here for registration. \n 
URL:https://grpickleball.com/event/midwest-junior-pickleball-championships/
LOCATION:Belknap Park\, 30 Coldbrook St NE\, Grand Rapids\, MI\, 49503\, United States
CATEGORIES:Club Sponsored,Tournament
ATTACH;FMTTYPE=image/webp:https://grpickleball.com/wp-content/uploads/2025/05/IMG_0122.webp
ORGANIZER;CN="GRPC":MAILTO:mamakarenbaxter@gmail.com
END:VEVENT
BEGIN:VEVENT
DTSTART;VALUE=DATE:20250808
DTEND;VALUE=DATE:20250811
DTSTAMP:20260423T154644
CREATED:20250113T215718Z
LAST-MODIFIED:20250113T215859Z
UID:10001843-1754611200-1754870399@grpickleball.com
SUMMARY:USSP North Regional Championships (Senior Pickleball)
DESCRIPTION:USSP North Regional Championships  \nBelknap Park\, 30 Coldbrook NE
URL:https://grpickleball.com/event/ussp-north-regional-championships-senior-pickleball/
LOCATION:Belknap Park\, 30 Coldbrook St NE\, Grand Rapids\, MI\, 49503\, United States
CATEGORIES:Club Sponsored,Tournament
END:VEVENT
BEGIN:VEVENT
DTSTART;TZID=America/Detroit:20250807T090000
DTEND;TZID=America/Detroit:20250807T110000
DTSTAMP:20260423T154644
CREATED:20250308T180534Z
LAST-MODIFIED:20250313T151157Z
UID:10001943-1754557200-1754564400@grpickleball.com
SUMMARY:Organized Ladies’ Play
DESCRIPTION:Organized Ladies’ Play\, weather permitting. Every Thursday on Courts 5-15 from 9 to 11 am. You DO have to be a Grand Rapids Pickleball Club member. All levels are welcome. No sign-up is necessary; just show up ready to play. This is a fun\, social time where all levels are expected to play together.
URL:https://grpickleball.com/event/organized-ladies-play-23/2025-08-07/
LOCATION:Belknap Park\, 30 Coldbrook St NE\, Grand Rapids\, MI\, 49503\, United States
CATEGORIES:Organized Play
ATTACH;FMTTYPE=image/png:https://grpickleball.com/wp-content/uploads/2021/07/Screen-Shot-2021-07-22-at-11.30.22-AM-e1651329329657.png
END:VEVENT
BEGIN:VEVENT
DTSTART;TZID=America/Detroit:20250806T170000
DTEND;TZID=America/Detroit:20250806T190000
DTSTAMP:20260423T154644
CREATED:20250715T030920Z
LAST-MODIFIED:20250715T030920Z
UID:10002164-1754499600-1754506800@grpickleball.com
SUMMARY:Juniors Ladder League
DESCRIPTION:Juniors Ladder League is for ages 8-17. \nSupervised by members of the Youth Pickleball Committee (YPC). \nCourts 7-10 are reserved for the event. \nThis event is free\, but registration is limited to 18. Registration required at GRPC Events.
URL:https://grpickleball.com/event/juniors-ladder-league/2025-08-06/
LOCATION:Belknap Park\, 30 Coldbrook St NE\, Grand Rapids\, MI\, 49503\, United States
CATEGORIES:Junior Play
ORGANIZER;CN="Scott Verkaik":MAILTO:scottverkaik@gmail.com
END:VEVENT
BEGIN:VEVENT
DTSTART;TZID=America/Detroit:20250805T173000
DTEND;TZID=America/Detroit:20250805T200000
DTSTAMP:20260423T154644
CREATED:20250308T160854Z
LAST-MODIFIED:20250716T202126Z
UID:10001891-1754415000-1754424000@grpickleball.com
SUMMARY:First-Timer Tourney Clinic
DESCRIPTION:Have you been playing pickleball for a while?  Considering a tournament\, but feel intimidated? \nAt the First-Timer Tourney Clinic\, you will learn how a tournament is run and how to participate in a tournament. No partner is needed\, though you may optionally choose one ahead of time.  Organizers will thoughtfully select partnerships for solo players. Round-robin format \nVeteran players/volunteers will be present courtside during the matches to offer assistance with scoring\, strategy\, shot selection\, and positioning. Come ready to play. Bring your paddle\, proper shoes\, and clothing. \nCourts 7-10 are reserved for this event. \nFee: $10 GRPC members; $20 nonmembers \nClick Here to sign up for the August 5\, 2025 event!
URL:https://grpickleball.com/event/first-timer-tourney-clinic-2/2025-08-05/
LOCATION:Belknap Park\, 30 Coldbrook St NE\, Grand Rapids\, MI\, 49503\, United States
CATEGORIES:Lessons,Tournament
ATTACH;FMTTYPE=image/png:https://grpickleball.com/wp-content/uploads/2019/07/cropped-GRPC-favicon.png
END:VEVENT
BEGIN:VEVENT
DTSTART;TZID=America/Detroit:20250805T090000
DTEND;TZID=America/Detroit:20250805T110000
DTSTAMP:20260423T154644
CREATED:20250320T142416Z
LAST-MODIFIED:20250322T135829Z
UID:10002049-1754384400-1754391600@grpickleball.com
SUMMARY:GRPC Legacy Group (Men’s 70+)
DESCRIPTION:70+ age and GRPC membership required\nCourts 18 – 21 reserved\n\nCourt format: 3 intermediate\, 3 advanced. The format will be adjusted to accommodate the number of players and skill levels.\n\nPlayer rotation: After the completion of a game\, winners stay and split\, and 2 new players join for the next game.\n\nIf interested in playing with this group\, please contact:\nLarry Walters\n\nmrwalter2000@yahoo.com
URL:https://grpickleball.com/event/grpc-legacy-group-mens-70-17/2025-08-05/
LOCATION:MI
CATEGORIES:Club Sponsored,GRPC Members Only,Organized Play
ATTACH;FMTTYPE=image/png:https://grpickleball.com/wp-content/uploads/2021/07/Screen-Shot-2021-07-22-at-11.30.22-AM-e1651329329657.png
ORGANIZER;CN="Larry Walters":MAILTO:mrwalter2000@yahoo.com
END:VEVENT
BEGIN:VEVENT
DTSTART;TZID=America/Detroit:20250805T090000
DTEND;TZID=America/Detroit:20250805T110000
DTSTAMP:20260423T154644
CREATED:20250320T141612Z
LAST-MODIFIED:20250320T142106Z
UID:10002082-1754384400-1754391600@grpickleball.com
SUMMARY:Women's 70+ Legacy Open Play
DESCRIPTION:Women’s 70+ Legacy Open Play\nMembership in the Grand Rapids Pickleball Club is required\nCourts 7-10 are reserved for this event\n9:00 am to 11:00 am
URL:https://grpickleball.com/event/womens-70-legacy-open-play/2025-08-05/
LOCATION:Belknap Park\, 30 Coldbrook St NE\, Grand Rapids\, MI\, 49503\, United States
CATEGORIES:GRPC Members Only,Organized Play
END:VEVENT
BEGIN:VEVENT
DTSTART;TZID=America/Detroit:20250804T180000
DTEND;TZID=America/Detroit:20250804T204500
DTSTAMP:20260423T154644
CREATED:20250727T120013Z
LAST-MODIFIED:20250730T010554Z
UID:10001963-1754330400-1754340300@grpickleball.com
SUMMARY:Drilling
DESCRIPTION:The focus of the GRPC Drill Program will be on skill repetition and exposure to theme-\nspecific drills. You will also have the opportunity to meet some of our local instructors\nwho can help you further your game.  \nSession 1:  6:00pm to 7:15pm (3.4 and below)            \nSession 2:  7:30pm to 8:45pm (3.5 and above)                                                                                                  \nLimited to 16 people per session. \nFee: $12 members; $18 nonmembers \nCourts 7-10 are reserved for this event. \nClick HERE to sign up
URL:https://grpickleball.com/event/drilling-3-10/
LOCATION:Belknap Park\, 30 Coldbrook St NE\, Grand Rapids\, MI\, 49503\, United States
CATEGORIES:Club Sponsored,Drilling
ATTACH;FMTTYPE=image/png:https://grpickleball.com/wp-content/uploads/2019/07/cropped-GRPC-favicon-1.png
ORGANIZER;CN="Janice Scharich":MAILTO:drilling@grpickleball.com
END:VEVENT
BEGIN:VEVENT
DTSTART;TZID=America/Detroit:20250803T173000
DTEND;TZID=America/Detroit:20250803T204500
DTSTAMP:20260423T154644
CREATED:20250625T145212Z
LAST-MODIFIED:20250625T154106Z
UID:10002157-1754242200-1754253900@grpickleball.com
SUMMARY:GRPC Ladder League - Session 2
DESCRIPTION:Must be a GRPC member to participate\nRegistration fee is $60\nFrom 5:30 pm to 7:00 pm\, DUPR 3.0 – 3.75 will play – Click Here to sign up\nFrom 7:15 pm to 8:45 pm\, DUPR 3.75+ will play – Click Here to sign up\nCourts 7-10 and courts 16-21 are reserved for the GRPC Ladder League\nFranklin balls will be provided\nClick Here to sign up for the Substitute List
URL:https://grpickleball.com/event/grpc-ladder-league-session-2-2-2/2025-08-03/
LOCATION:Belknap Park\, 30 Coldbrook St NE\, Grand Rapids\, MI\, 49503\, United States
CATEGORIES:Club Sponsored,GRPC Members Only,League Play
ATTACH;FMTTYPE=image/jpeg:https://grpickleball.com/wp-content/uploads/2023/05/Belknap-Aerial-View-1.jpg
ORGANIZER;CN="Vamshi Vg":MAILTO:Vvamshi06@gmail.com
END:VEVENT
BEGIN:VEVENT
DTSTART;TZID=America/Detroit:20250731T090000
DTEND;TZID=America/Detroit:20250731T110000
DTSTAMP:20260423T154644
CREATED:20250308T180534Z
LAST-MODIFIED:20250313T151157Z
UID:10001942-1753952400-1753959600@grpickleball.com
SUMMARY:Organized Ladies’ Play
DESCRIPTION:Organized Ladies’ Play\, weather permitting. Every Thursday on Courts 5-15 from 9 to 11 am. You DO have to be a Grand Rapids Pickleball Club member. All levels are welcome. No sign-up is necessary; just show up ready to play. This is a fun\, social time where all levels are expected to play together.
URL:https://grpickleball.com/event/organized-ladies-play-23/2025-07-31/
LOCATION:Belknap Park\, 30 Coldbrook St NE\, Grand Rapids\, MI\, 49503\, United States
CATEGORIES:Organized Play
ATTACH;FMTTYPE=image/png:https://grpickleball.com/wp-content/uploads/2021/07/Screen-Shot-2021-07-22-at-11.30.22-AM-e1651329329657.png
END:VEVENT
BEGIN:VEVENT
DTSTART;TZID=America/Detroit:20250730T170000
DTEND;TZID=America/Detroit:20250730T200000
DTSTAMP:20260423T154644
CREATED:20250315T134750Z
LAST-MODIFIED:20250315T134750Z
UID:10001990-1753894800-1753905600@grpickleball.com
SUMMARY:Member Appreciation Night
DESCRIPTION:Come out to Belknap Park tonight\, Play pickleball\, enjoy the Arcane Pizza food truck\, then cool down with an ice cream! \nGRPC members will receive a ticket for a free ice cream from Ice Box Brand Ice Cream Truck
URL:https://grpickleball.com/event/member-appreciation-night/
LOCATION:Belknap Park\, 30 Coldbrook St NE\, Grand Rapids\, MI\, 49503\, United States
CATEGORIES:Club Sponsored,GRPC Members Only
ORGANIZER;CN="Pam Dykstra":MAILTO:pdpam50@gmail.com
END:VEVENT
BEGIN:VEVENT
DTSTART;TZID=America/Detroit:20250730T170000
DTEND;TZID=America/Detroit:20250730T200000
DTSTAMP:20260423T154644
CREATED:20250308T004625Z
LAST-MODIFIED:20250308T004625Z
UID:10001866-1753894800-1753905600@grpickleball.com
SUMMARY:Food Truck Wednesday
DESCRIPTION:Join us for Food Truck Wednesday from 5 to 8 pm (approximately). \nThis week’s Food Truck is Arcane Pizza.
URL:https://grpickleball.com/event/food-truck-wednesday-9/2025-07-30/
LOCATION:Belknap Park\, 30 Coldbrook St NE\, Grand Rapids\, MI\, 49503\, United States
CATEGORIES:Social Event
ATTACH;FMTTYPE=image/png:https://grpickleball.com/wp-content/uploads/2024/03/Screenshot-2024-03-14-at-1.10.23 PM.png
END:VEVENT
BEGIN:VEVENT
DTSTART;TZID=America/Detroit:20250730T170000
DTEND;TZID=America/Detroit:20250730T190000
DTSTAMP:20260423T154644
CREATED:20250715T030920Z
LAST-MODIFIED:20250715T030920Z
UID:10002163-1753894800-1753902000@grpickleball.com
SUMMARY:Juniors Ladder League
DESCRIPTION:Juniors Ladder League is for ages 8-17. \nSupervised by members of the Youth Pickleball Committee (YPC). \nCourts 7-10 are reserved for the event. \nThis event is free\, but registration is limited to 18. Registration required at GRPC Events.
URL:https://grpickleball.com/event/juniors-ladder-league/2025-07-30/
LOCATION:Belknap Park\, 30 Coldbrook St NE\, Grand Rapids\, MI\, 49503\, United States
CATEGORIES:Junior Play
ORGANIZER;CN="Scott Verkaik":MAILTO:scottverkaik@gmail.com
END:VEVENT
BEGIN:VEVENT
DTSTART;TZID=America/Detroit:20250729T173000
DTEND;TZID=America/Detroit:20250729T193000
DTSTAMP:20260423T154644
CREATED:20250420T232332Z
LAST-MODIFIED:20250619T133458Z
UID:10002111-1753810200-1753817400@grpickleball.com
SUMMARY:Introduction To Pickleball
DESCRIPTION:New to pickleball?  We have the class for you.  Build confidence\, learn the basics\, and prepare for social play! The Intro to Pickleball class is designed for the first-time adult player. Join the craze and have a blast!  We will have paddles and balls available. In the interest of allowing as many people as possible to attend this class\, we kindly request that you do not repeat attendance please. \nLed by Instructor Pati Sheldon \nDuration: 2 Hours \nFree to all players! \nCourts 7 and 9 at Belknap Park are reserved for this event. \nPlease Click Here to sign up!
URL:https://grpickleball.com/event/intro-to-pickleball/2025-07-29/
LOCATION:MI
CATEGORIES:Lessons
END:VEVENT
BEGIN:VEVENT
DTSTART;TZID=America/Detroit:20250729T090000
DTEND;TZID=America/Detroit:20250729T110000
DTSTAMP:20260423T154644
CREATED:20250320T142416Z
LAST-MODIFIED:20250322T135829Z
UID:10002048-1753779600-1753786800@grpickleball.com
SUMMARY:GRPC Legacy Group (Men’s 70+)
DESCRIPTION:70+ age and GRPC membership required\nCourts 18 – 21 reserved\n\nCourt format: 3 intermediate\, 3 advanced. The format will be adjusted to accommodate the number of players and skill levels.\n\nPlayer rotation: After the completion of a game\, winners stay and split\, and 2 new players join for the next game.\n\nIf interested in playing with this group\, please contact:\nLarry Walters\n\nmrwalter2000@yahoo.com
URL:https://grpickleball.com/event/grpc-legacy-group-mens-70-17/2025-07-29/
LOCATION:MI
CATEGORIES:Club Sponsored,GRPC Members Only,Organized Play
ATTACH;FMTTYPE=image/png:https://grpickleball.com/wp-content/uploads/2021/07/Screen-Shot-2021-07-22-at-11.30.22-AM-e1651329329657.png
ORGANIZER;CN="Larry Walters":MAILTO:mrwalter2000@yahoo.com
END:VEVENT
BEGIN:VEVENT
DTSTART;TZID=America/Detroit:20250729T090000
DTEND;TZID=America/Detroit:20250729T110000
DTSTAMP:20260423T154644
CREATED:20250320T141612Z
LAST-MODIFIED:20250320T142106Z
UID:10002081-1753779600-1753786800@grpickleball.com
SUMMARY:Women's 70+ Legacy Open Play
DESCRIPTION:Women’s 70+ Legacy Open Play\nMembership in the Grand Rapids Pickleball Club is required\nCourts 7-10 are reserved for this event\n9:00 am to 11:00 am
URL:https://grpickleball.com/event/womens-70-legacy-open-play/2025-07-29/
LOCATION:Belknap Park\, 30 Coldbrook St NE\, Grand Rapids\, MI\, 49503\, United States
CATEGORIES:GRPC Members Only,Organized Play
END:VEVENT
BEGIN:VEVENT
DTSTART;TZID=America/Detroit:20250728T180000
DTEND;TZID=America/Detroit:20250728T204500
DTSTAMP:20260423T154644
CREATED:20250720T120009Z
LAST-MODIFIED:20250623T023725Z
UID:10001962-1753725600-1753735500@grpickleball.com
SUMMARY:Drilling
DESCRIPTION:The focus of the GRPC Drill Program will be on skill repetition and exposure to theme-\nspecific drills. You will also have the opportunity to meet some of our local instructors\nwho can help you further your game.  \nSession 1:  6:00pm to 7:15pm (3.4 and below)            \nSession 2:  7:30pm to 8:45pm (3.5 and above)                                                                                                  \nLimited to 16 people per session. \nFee: $12 members; $18 nonmembers \nCourts 7-10 are reserved for this event. \nClick HERE to sign up
URL:https://grpickleball.com/event/drilling-3-9/
LOCATION:Belknap Park\, 30 Coldbrook St NE\, Grand Rapids\, MI\, 49503\, United States
CATEGORIES:Club Sponsored,Drilling
ATTACH;FMTTYPE=image/png:https://grpickleball.com/wp-content/uploads/2019/07/cropped-GRPC-favicon-1.png
ORGANIZER;CN="Janice Scharich":MAILTO:drilling@grpickleball.com
END:VEVENT
BEGIN:VEVENT
DTSTART;TZID=America/Detroit:20250727T173000
DTEND;TZID=America/Detroit:20250727T204500
DTSTAMP:20260423T154644
CREATED:20250625T145212Z
LAST-MODIFIED:20250625T154106Z
UID:10002156-1753637400-1753649100@grpickleball.com
SUMMARY:GRPC Ladder League - Session 2
DESCRIPTION:Must be a GRPC member to participate\nRegistration fee is $60\nFrom 5:30 pm to 7:00 pm\, DUPR 3.0 – 3.75 will play – Click Here to sign up\nFrom 7:15 pm to 8:45 pm\, DUPR 3.75+ will play – Click Here to sign up\nCourts 7-10 and courts 16-21 are reserved for the GRPC Ladder League\nFranklin balls will be provided\nClick Here to sign up for the Substitute List
URL:https://grpickleball.com/event/grpc-ladder-league-session-2-2-2/2025-07-27/
LOCATION:Belknap Park\, 30 Coldbrook St NE\, Grand Rapids\, MI\, 49503\, United States
CATEGORIES:Club Sponsored,GRPC Members Only,League Play
ATTACH;FMTTYPE=image/jpeg:https://grpickleball.com/wp-content/uploads/2023/05/Belknap-Aerial-View-1.jpg
ORGANIZER;CN="Vamshi Vg":MAILTO:Vvamshi06@gmail.com
END:VEVENT
BEGIN:VEVENT
DTSTART;TZID=America/Detroit:20250725T183000
DTEND;TZID=America/Detroit:20250725T223000
DTSTAMP:20260423T154644
CREATED:20250308T190648Z
LAST-MODIFIED:20250308T190648Z
UID:10001986-1753468200-1753482600@grpickleball.com
SUMMARY:Friday Night Lights
DESCRIPTION:It’s a fun tournament under the lights for GRPC members only. \nDetails will be posted on the GRPC Facebook page as the event gets closer to the date. \nAll courts are reserved for FNL.
URL:https://grpickleball.com/event/friday-night-lights-13/2025-07-25/
LOCATION:Belknap Park\, 30 Coldbrook St NE\, Grand Rapids\, MI\, 49503\, United States
CATEGORIES:Club Sponsored,FNL,GRPC Members Only,Tournament
ATTACH;FMTTYPE=image/png:https://grpickleball.com/wp-content/uploads/2022/04/Screen-Shot-2022-04-30-at-11.07.51-AM-e1651331824206.png
END:VEVENT
BEGIN:VEVENT
DTSTART;TZID=America/Detroit:20250724T090000
DTEND;TZID=America/Detroit:20250724T110000
DTSTAMP:20260423T154644
CREATED:20250308T180534Z
LAST-MODIFIED:20250313T151157Z
UID:10001941-1753347600-1753354800@grpickleball.com
SUMMARY:Organized Ladies’ Play
DESCRIPTION:Organized Ladies’ Play\, weather permitting. Every Thursday on Courts 5-15 from 9 to 11 am. You DO have to be a Grand Rapids Pickleball Club member. All levels are welcome. No sign-up is necessary; just show up ready to play. This is a fun\, social time where all levels are expected to play together.
URL:https://grpickleball.com/event/organized-ladies-play-23/2025-07-24/
LOCATION:Belknap Park\, 30 Coldbrook St NE\, Grand Rapids\, MI\, 49503\, United States
CATEGORIES:Organized Play
ATTACH;FMTTYPE=image/png:https://grpickleball.com/wp-content/uploads/2021/07/Screen-Shot-2021-07-22-at-11.30.22-AM-e1651329329657.png
END:VEVENT
BEGIN:VEVENT
DTSTART;TZID=America/Detroit:20250723T170000
DTEND;TZID=America/Detroit:20250723T190000
DTSTAMP:20260423T154644
CREATED:20250715T030920Z
LAST-MODIFIED:20250715T030920Z
UID:10002162-1753290000-1753297200@grpickleball.com
SUMMARY:Juniors Ladder League
DESCRIPTION:Juniors Ladder League is for ages 8-17. \nSupervised by members of the Youth Pickleball Committee (YPC). \nCourts 7-10 are reserved for the event. \nThis event is free\, but registration is limited to 18. Registration required at GRPC Events.
URL:https://grpickleball.com/event/juniors-ladder-league/2025-07-23/
LOCATION:Belknap Park\, 30 Coldbrook St NE\, Grand Rapids\, MI\, 49503\, United States
CATEGORIES:Junior Play
ORGANIZER;CN="Scott Verkaik":MAILTO:scottverkaik@gmail.com
END:VEVENT
BEGIN:VEVENT
DTSTART;TZID=America/Detroit:20250722T173000
DTEND;TZID=America/Detroit:20250722T193000
DTSTAMP:20260423T154644
CREATED:20250420T232332Z
LAST-MODIFIED:20250619T133458Z
UID:10002110-1753205400-1753212600@grpickleball.com
SUMMARY:Introduction To Pickleball
DESCRIPTION:New to pickleball?  We have the class for you.  Build confidence\, learn the basics\, and prepare for social play! The Intro to Pickleball class is designed for the first-time adult player. Join the craze and have a blast!  We will have paddles and balls available. In the interest of allowing as many people as possible to attend this class\, we kindly request that you do not repeat attendance please. \nLed by Instructor Pati Sheldon \nDuration: 2 Hours \nFree to all players! \nCourts 7 and 9 at Belknap Park are reserved for this event. \nPlease Click Here to sign up!
URL:https://grpickleball.com/event/intro-to-pickleball/2025-07-22/
LOCATION:MI
CATEGORIES:Lessons
END:VEVENT
BEGIN:VEVENT
DTSTART;TZID=America/Detroit:20250722T090000
DTEND;TZID=America/Detroit:20250722T110000
DTSTAMP:20260423T154644
CREATED:20250320T142416Z
LAST-MODIFIED:20250322T135829Z
UID:10002047-1753174800-1753182000@grpickleball.com
SUMMARY:GRPC Legacy Group (Men’s 70+)
DESCRIPTION:70+ age and GRPC membership required\nCourts 18 – 21 reserved\n\nCourt format: 3 intermediate\, 3 advanced. The format will be adjusted to accommodate the number of players and skill levels.\n\nPlayer rotation: After the completion of a game\, winners stay and split\, and 2 new players join for the next game.\n\nIf interested in playing with this group\, please contact:\nLarry Walters\n\nmrwalter2000@yahoo.com
URL:https://grpickleball.com/event/grpc-legacy-group-mens-70-17/2025-07-22/
LOCATION:MI
CATEGORIES:Club Sponsored,GRPC Members Only,Organized Play
ATTACH;FMTTYPE=image/png:https://grpickleball.com/wp-content/uploads/2021/07/Screen-Shot-2021-07-22-at-11.30.22-AM-e1651329329657.png
ORGANIZER;CN="Larry Walters":MAILTO:mrwalter2000@yahoo.com
END:VEVENT
BEGIN:VEVENT
DTSTART;TZID=America/Detroit:20250722T090000
DTEND;TZID=America/Detroit:20250722T110000
DTSTAMP:20260423T154644
CREATED:20250320T141612Z
LAST-MODIFIED:20250320T142106Z
UID:10002080-1753174800-1753182000@grpickleball.com
SUMMARY:Women's 70+ Legacy Open Play
DESCRIPTION:Women’s 70+ Legacy Open Play\nMembership in the Grand Rapids Pickleball Club is required\nCourts 7-10 are reserved for this event\n9:00 am to 11:00 am
URL:https://grpickleball.com/event/womens-70-legacy-open-play/2025-07-22/
LOCATION:Belknap Park\, 30 Coldbrook St NE\, Grand Rapids\, MI\, 49503\, United States
CATEGORIES:GRPC Members Only,Organized Play
END:VEVENT
BEGIN:VEVENT
DTSTART;TZID=America/Detroit:20250721T180000
DTEND;TZID=America/Detroit:20250721T204500
DTSTAMP:20260423T154644
CREATED:20250713T120000Z
LAST-MODIFIED:20250624T172305Z
UID:10001961-1753120800-1753130700@grpickleball.com
SUMMARY:Drilling
DESCRIPTION:The focus of the GRPC Drill Program will be on skill repetition and exposure to theme-\nspecific drills. You will also have the opportunity to meet some of our local instructors\nwho can help you further your game.  \nSession 1:  6:00pm to 7:15pm (3.4 and below)            \nSession 2:  7:30pm to 8:45pm (3.5 and above)                                                                                                  \nLimited to 16 people per session. \nFee: $12 members; $18 nonmembers \nCourts 7-10 are reserved for this event. \nClick HERE to sign up
URL:https://grpickleball.com/event/drilling-3-8/
LOCATION:Belknap Park\, 30 Coldbrook St NE\, Grand Rapids\, MI\, 49503\, United States
CATEGORIES:Club Sponsored,Drilling
ATTACH;FMTTYPE=image/png:https://grpickleball.com/wp-content/uploads/2019/07/cropped-GRPC-favicon-1.png
ORGANIZER;CN="Janice Scharich":MAILTO:drilling@grpickleball.com
END:VEVENT
BEGIN:VEVENT
DTSTART;TZID=America/Detroit:20250721T170000
DTEND;TZID=America/Detroit:20250721T183000
DTSTAMP:20260423T154644
CREATED:20250308T191348Z
LAST-MODIFIED:20250610T212048Z
UID:10001977-1753117200-1753122600@grpickleball.com
SUMMARY:MFB Adaptive Sports Clinic
DESCRIPTION:MFB Adaptive Sports Clinic\n\n\nClinic for adaptive/wheelchair sports participants.  Introduction to pickleball\, including\, strokes\, volleys\, serving\, rules\, positioning\, scoring\, and strategy.  Schedule: 90 minutes for instruction and 30 minutes for open play. \nTaught by MFB Adaptive Sports Coordinator\, assisted by veteran GRPC players.\n\nCourts 5 & 6 are reserved for the event.\nBelknap Park
URL:https://grpickleball.com/event/mfb-adaptive-sports-clinic-4/2025-07-21/
LOCATION:Belknap Park\, 30 Coldbrook St NE\, Grand Rapids\, MI\, 49503\, United States
CATEGORIES:Non-Club Event
ATTACH;FMTTYPE=image/png:https://grpickleball.com/wp-content/uploads/2023/04/Screenshot-2023-04-05-at-9.20.49-AM.png
END:VEVENT
BEGIN:VEVENT
DTSTART;TZID=America/Detroit:20250720T173000
DTEND;TZID=America/Detroit:20250720T204500
DTSTAMP:20260423T154644
CREATED:20250625T145212Z
LAST-MODIFIED:20250625T154106Z
UID:10002102-1753032600-1753044300@grpickleball.com
SUMMARY:GRPC Ladder League - Session 2
DESCRIPTION:Must be a GRPC member to participate\nRegistration fee is $60\nFrom 5:30 pm to 7:00 pm\, DUPR 3.0 – 3.75 will play – Click Here to sign up\nFrom 7:15 pm to 8:45 pm\, DUPR 3.75+ will play – Click Here to sign up\nCourts 7-10 and courts 16-21 are reserved for the GRPC Ladder League\nFranklin balls will be provided\nClick Here to sign up for the Substitute List
URL:https://grpickleball.com/event/grpc-ladder-league-session-2-2-2/2025-07-20/
LOCATION:Belknap Park\, 30 Coldbrook St NE\, Grand Rapids\, MI\, 49503\, United States
CATEGORIES:Club Sponsored,GRPC Members Only,League Play
ATTACH;FMTTYPE=image/jpeg:https://grpickleball.com/wp-content/uploads/2023/05/Belknap-Aerial-View-1.jpg
ORGANIZER;CN="Vamshi Vg":MAILTO:Vvamshi06@gmail.com
END:VEVENT
END:VCALENDAR