BEGIN:VCALENDAR
VERSION:2.0
PRODID:-//Grand Rapids Pickleball Club - ECPv6.15.16.1//NONSGML v1.0//EN
CALSCALE:GREGORIAN
METHOD:PUBLISH
X-ORIGINAL-URL:https://grpickleball.com
X-WR-CALDESC:Events for Grand Rapids Pickleball Club
REFRESH-INTERVAL;VALUE=DURATION:PT1H
X-Robots-Tag:noindex
X-PUBLISHED-TTL:PT1H
BEGIN:VTIMEZONE
TZID:America/Detroit
BEGIN:DAYLIGHT
TZOFFSETFROM:-0500
TZOFFSETTO:-0400
TZNAME:EDT
DTSTART:20240310T070000
END:DAYLIGHT
BEGIN:STANDARD
TZOFFSETFROM:-0400
TZOFFSETTO:-0500
TZNAME:EST
DTSTART:20241103T060000
END:STANDARD
BEGIN:DAYLIGHT
TZOFFSETFROM:-0500
TZOFFSETTO:-0400
TZNAME:EDT
DTSTART:20250309T070000
END:DAYLIGHT
BEGIN:STANDARD
TZOFFSETFROM:-0400
TZOFFSETTO:-0500
TZNAME:EST
DTSTART:20251102T060000
END:STANDARD
BEGIN:DAYLIGHT
TZOFFSETFROM:-0500
TZOFFSETTO:-0400
TZNAME:EDT
DTSTART:20260308T070000
END:DAYLIGHT
BEGIN:STANDARD
TZOFFSETFROM:-0400
TZOFFSETTO:-0500
TZNAME:EST
DTSTART:20261101T060000
END:STANDARD
END:VTIMEZONE
BEGIN:VEVENT
DTSTART;TZID=America/Detroit:20250727T173000
DTEND;TZID=America/Detroit:20250727T204500
DTSTAMP:20260423T173449
CREATED:20250625T145212Z
LAST-MODIFIED:20250625T154106Z
UID:10002156-1753637400-1753649100@grpickleball.com
SUMMARY:GRPC Ladder League - Session 2
DESCRIPTION:Must be a GRPC member to participate\nRegistration fee is $60\nFrom 5:30 pm to 7:00 pm\, DUPR 3.0 – 3.75 will play – Click Here to sign up\nFrom 7:15 pm to 8:45 pm\, DUPR 3.75+ will play – Click Here to sign up\nCourts 7-10 and courts 16-21 are reserved for the GRPC Ladder League\nFranklin balls will be provided\nClick Here to sign up for the Substitute List
URL:https://grpickleball.com/event/grpc-ladder-league-session-2-2-2/2025-07-27/
LOCATION:Belknap Park\, 30 Coldbrook St NE\, Grand Rapids\, MI\, 49503\, United States
CATEGORIES:Club Sponsored,GRPC Members Only,League Play
ATTACH;FMTTYPE=image/jpeg:https://grpickleball.com/wp-content/uploads/2023/05/Belknap-Aerial-View-1.jpg
ORGANIZER;CN="Vamshi Vg":MAILTO:Vvamshi06@gmail.com
END:VEVENT
BEGIN:VEVENT
DTSTART;TZID=America/Detroit:20250725T183000
DTEND;TZID=America/Detroit:20250725T223000
DTSTAMP:20260423T173449
CREATED:20250308T190648Z
LAST-MODIFIED:20250308T190648Z
UID:10001986-1753468200-1753482600@grpickleball.com
SUMMARY:Friday Night Lights
DESCRIPTION:It’s a fun tournament under the lights for GRPC members only. \nDetails will be posted on the GRPC Facebook page as the event gets closer to the date. \nAll courts are reserved for FNL.
URL:https://grpickleball.com/event/friday-night-lights-13/2025-07-25/
LOCATION:Belknap Park\, 30 Coldbrook St NE\, Grand Rapids\, MI\, 49503\, United States
CATEGORIES:Club Sponsored,FNL,GRPC Members Only,Tournament
ATTACH;FMTTYPE=image/png:https://grpickleball.com/wp-content/uploads/2022/04/Screen-Shot-2022-04-30-at-11.07.51-AM-e1651331824206.png
END:VEVENT
BEGIN:VEVENT
DTSTART;TZID=America/Detroit:20250724T090000
DTEND;TZID=America/Detroit:20250724T110000
DTSTAMP:20260423T173449
CREATED:20250308T180534Z
LAST-MODIFIED:20250313T151157Z
UID:10001941-1753347600-1753354800@grpickleball.com
SUMMARY:Organized Ladies’ Play
DESCRIPTION:Organized Ladies’ Play\, weather permitting. Every Thursday on Courts 5-15 from 9 to 11 am. You DO have to be a Grand Rapids Pickleball Club member. All levels are welcome. No sign-up is necessary; just show up ready to play. This is a fun\, social time where all levels are expected to play together.
URL:https://grpickleball.com/event/organized-ladies-play-23/2025-07-24/
LOCATION:Belknap Park\, 30 Coldbrook St NE\, Grand Rapids\, MI\, 49503\, United States
CATEGORIES:Organized Play
ATTACH;FMTTYPE=image/png:https://grpickleball.com/wp-content/uploads/2021/07/Screen-Shot-2021-07-22-at-11.30.22-AM-e1651329329657.png
END:VEVENT
BEGIN:VEVENT
DTSTART;TZID=America/Detroit:20250723T170000
DTEND;TZID=America/Detroit:20250723T190000
DTSTAMP:20260423T173449
CREATED:20250715T030920Z
LAST-MODIFIED:20250715T030920Z
UID:10002162-1753290000-1753297200@grpickleball.com
SUMMARY:Juniors Ladder League
DESCRIPTION:Juniors Ladder League is for ages 8-17. \nSupervised by members of the Youth Pickleball Committee (YPC). \nCourts 7-10 are reserved for the event. \nThis event is free\, but registration is limited to 18. Registration required at GRPC Events.
URL:https://grpickleball.com/event/juniors-ladder-league/2025-07-23/
LOCATION:Belknap Park\, 30 Coldbrook St NE\, Grand Rapids\, MI\, 49503\, United States
CATEGORIES:Junior Play
ORGANIZER;CN="Scott Verkaik":MAILTO:scottverkaik@gmail.com
END:VEVENT
BEGIN:VEVENT
DTSTART;TZID=America/Detroit:20250722T173000
DTEND;TZID=America/Detroit:20250722T193000
DTSTAMP:20260423T173449
CREATED:20250420T232332Z
LAST-MODIFIED:20250619T133458Z
UID:10002110-1753205400-1753212600@grpickleball.com
SUMMARY:Introduction To Pickleball
DESCRIPTION:New to pickleball?  We have the class for you.  Build confidence\, learn the basics\, and prepare for social play! The Intro to Pickleball class is designed for the first-time adult player. Join the craze and have a blast!  We will have paddles and balls available. In the interest of allowing as many people as possible to attend this class\, we kindly request that you do not repeat attendance please. \nLed by Instructor Pati Sheldon \nDuration: 2 Hours \nFree to all players! \nCourts 7 and 9 at Belknap Park are reserved for this event. \nPlease Click Here to sign up!
URL:https://grpickleball.com/event/intro-to-pickleball/2025-07-22/
LOCATION:MI
CATEGORIES:Lessons
END:VEVENT
BEGIN:VEVENT
DTSTART;TZID=America/Detroit:20250722T090000
DTEND;TZID=America/Detroit:20250722T110000
DTSTAMP:20260423T173449
CREATED:20250320T142416Z
LAST-MODIFIED:20250322T135829Z
UID:10002047-1753174800-1753182000@grpickleball.com
SUMMARY:GRPC Legacy Group (Men’s 70+)
DESCRIPTION:70+ age and GRPC membership required\nCourts 18 – 21 reserved\n\nCourt format: 3 intermediate\, 3 advanced. The format will be adjusted to accommodate the number of players and skill levels.\n\nPlayer rotation: After the completion of a game\, winners stay and split\, and 2 new players join for the next game.\n\nIf interested in playing with this group\, please contact:\nLarry Walters\n\nmrwalter2000@yahoo.com
URL:https://grpickleball.com/event/grpc-legacy-group-mens-70-17/2025-07-22/
LOCATION:MI
CATEGORIES:Club Sponsored,GRPC Members Only,Organized Play
ATTACH;FMTTYPE=image/png:https://grpickleball.com/wp-content/uploads/2021/07/Screen-Shot-2021-07-22-at-11.30.22-AM-e1651329329657.png
ORGANIZER;CN="Larry Walters":MAILTO:mrwalter2000@yahoo.com
END:VEVENT
BEGIN:VEVENT
DTSTART;TZID=America/Detroit:20250722T090000
DTEND;TZID=America/Detroit:20250722T110000
DTSTAMP:20260423T173449
CREATED:20250320T141612Z
LAST-MODIFIED:20250320T142106Z
UID:10002080-1753174800-1753182000@grpickleball.com
SUMMARY:Women's 70+ Legacy Open Play
DESCRIPTION:Women’s 70+ Legacy Open Play\nMembership in the Grand Rapids Pickleball Club is required\nCourts 7-10 are reserved for this event\n9:00 am to 11:00 am
URL:https://grpickleball.com/event/womens-70-legacy-open-play/2025-07-22/
LOCATION:Belknap Park\, 30 Coldbrook St NE\, Grand Rapids\, MI\, 49503\, United States
CATEGORIES:GRPC Members Only,Organized Play
END:VEVENT
BEGIN:VEVENT
DTSTART;TZID=America/Detroit:20250721T180000
DTEND;TZID=America/Detroit:20250721T204500
DTSTAMP:20260423T173449
CREATED:20250713T120000Z
LAST-MODIFIED:20250624T172305Z
UID:10001961-1753120800-1753130700@grpickleball.com
SUMMARY:Drilling
DESCRIPTION:The focus of the GRPC Drill Program will be on skill repetition and exposure to theme-\nspecific drills. You will also have the opportunity to meet some of our local instructors\nwho can help you further your game.  \nSession 1:  6:00pm to 7:15pm (3.4 and below)            \nSession 2:  7:30pm to 8:45pm (3.5 and above)                                                                                                  \nLimited to 16 people per session. \nFee: $12 members; $18 nonmembers \nCourts 7-10 are reserved for this event. \nClick HERE to sign up
URL:https://grpickleball.com/event/drilling-3-8/
LOCATION:Belknap Park\, 30 Coldbrook St NE\, Grand Rapids\, MI\, 49503\, United States
CATEGORIES:Club Sponsored,Drilling
ATTACH;FMTTYPE=image/png:https://grpickleball.com/wp-content/uploads/2019/07/cropped-GRPC-favicon-1.png
ORGANIZER;CN="Janice Scharich":MAILTO:drilling@grpickleball.com
END:VEVENT
BEGIN:VEVENT
DTSTART;TZID=America/Detroit:20250721T170000
DTEND;TZID=America/Detroit:20250721T183000
DTSTAMP:20260423T173449
CREATED:20250308T191348Z
LAST-MODIFIED:20250610T212048Z
UID:10001977-1753117200-1753122600@grpickleball.com
SUMMARY:MFB Adaptive Sports Clinic
DESCRIPTION:MFB Adaptive Sports Clinic\n\n\nClinic for adaptive/wheelchair sports participants.  Introduction to pickleball\, including\, strokes\, volleys\, serving\, rules\, positioning\, scoring\, and strategy.  Schedule: 90 minutes for instruction and 30 minutes for open play. \nTaught by MFB Adaptive Sports Coordinator\, assisted by veteran GRPC players.\n\nCourts 5 & 6 are reserved for the event.\nBelknap Park
URL:https://grpickleball.com/event/mfb-adaptive-sports-clinic-4/2025-07-21/
LOCATION:Belknap Park\, 30 Coldbrook St NE\, Grand Rapids\, MI\, 49503\, United States
CATEGORIES:Non-Club Event
ATTACH;FMTTYPE=image/png:https://grpickleball.com/wp-content/uploads/2023/04/Screenshot-2023-04-05-at-9.20.49-AM.png
END:VEVENT
BEGIN:VEVENT
DTSTART;TZID=America/Detroit:20250720T173000
DTEND;TZID=America/Detroit:20250720T204500
DTSTAMP:20260423T173449
CREATED:20250625T145212Z
LAST-MODIFIED:20250625T154106Z
UID:10002102-1753032600-1753044300@grpickleball.com
SUMMARY:GRPC Ladder League - Session 2
DESCRIPTION:Must be a GRPC member to participate\nRegistration fee is $60\nFrom 5:30 pm to 7:00 pm\, DUPR 3.0 – 3.75 will play – Click Here to sign up\nFrom 7:15 pm to 8:45 pm\, DUPR 3.75+ will play – Click Here to sign up\nCourts 7-10 and courts 16-21 are reserved for the GRPC Ladder League\nFranklin balls will be provided\nClick Here to sign up for the Substitute List
URL:https://grpickleball.com/event/grpc-ladder-league-session-2-2-2/2025-07-20/
LOCATION:Belknap Park\, 30 Coldbrook St NE\, Grand Rapids\, MI\, 49503\, United States
CATEGORIES:Club Sponsored,GRPC Members Only,League Play
ATTACH;FMTTYPE=image/jpeg:https://grpickleball.com/wp-content/uploads/2023/05/Belknap-Aerial-View-1.jpg
ORGANIZER;CN="Vamshi Vg":MAILTO:Vvamshi06@gmail.com
END:VEVENT
BEGIN:VEVENT
DTSTART;TZID=America/Detroit:20250718T120000
DTEND;TZID=America/Detroit:20250719T230000
DTSTAMP:20260423T173449
CREATED:20241015T002249Z
LAST-MODIFIED:20241015T002249Z
UID:10001840-1752840000-1752966000@grpickleball.com
SUMMARY:Upheaval Festival
DESCRIPTION:Upheaval Festival at Belknap Park.  The parking lot is open to pickleball players until noon. Courts are open into the evening and can go until dark (no lights) but need to park elsewhere after 12:00 pm (noon).
URL:https://grpickleball.com/event/upheaval-festival-5/
LOCATION:Belknap Park\, 30 Coldbrook St NE\, Grand Rapids\, MI\, 49503\, United States
CATEGORIES:Non-Club Event
ATTACH;FMTTYPE=image/png:https://grpickleball.com/wp-content/uploads/2024/01/Screenshot-2024-01-30-at-11.39.07 AM-e1706632833374.png
END:VEVENT
BEGIN:VEVENT
DTSTART;TZID=America/Detroit:20250717T120000
DTEND;TZID=America/Detroit:20250718T230000
DTSTAMP:20260423T173449
CREATED:20260209T192058Z
LAST-MODIFIED:20260209T192058Z
UID:10002196-1752753600-1752879600@grpickleball.com
SUMMARY:Upheaval Festival
DESCRIPTION:Upheaval Festival at Belknap Park.  The parking lot is open to pickleball players until noon. Courts are open into the evening and can go until dark (no lights) but need to park elsewhere after 12:00 pm (noon).
URL:https://grpickleball.com/event/upheaval-festival/
LOCATION:Belknap Park\, 30 Coldbrook St NE\, Grand Rapids\, MI\, 49503\, United States
CATEGORIES:Non-Club Event
ATTACH;FMTTYPE=image/png:https://grpickleball.com/wp-content/uploads/2024/01/Screenshot-2024-01-30-at-11.39.07 AM-e1706632833374.png
END:VEVENT
BEGIN:VEVENT
DTSTART;TZID=America/Detroit:20250717T090000
DTEND;TZID=America/Detroit:20250717T110000
DTSTAMP:20260423T173449
CREATED:20250308T180534Z
LAST-MODIFIED:20250313T151157Z
UID:10001940-1752742800-1752750000@grpickleball.com
SUMMARY:Organized Ladies’ Play
DESCRIPTION:Organized Ladies’ Play\, weather permitting. Every Thursday on Courts 5-15 from 9 to 11 am. You DO have to be a Grand Rapids Pickleball Club member. All levels are welcome. No sign-up is necessary; just show up ready to play. This is a fun\, social time where all levels are expected to play together.
URL:https://grpickleball.com/event/organized-ladies-play-23/2025-07-17/
LOCATION:Belknap Park\, 30 Coldbrook St NE\, Grand Rapids\, MI\, 49503\, United States
CATEGORIES:Organized Play
ATTACH;FMTTYPE=image/png:https://grpickleball.com/wp-content/uploads/2021/07/Screen-Shot-2021-07-22-at-11.30.22-AM-e1651329329657.png
END:VEVENT
BEGIN:VEVENT
DTSTART;TZID=America/Detroit:20250716T170000
DTEND;TZID=America/Detroit:20250716T200000
DTSTAMP:20260423T173449
CREATED:20250308T011622Z
LAST-MODIFIED:20250308T011622Z
UID:10001881-1752685200-1752696000@grpickleball.com
SUMMARY:Food Truck Wednesday
DESCRIPTION:Join us for Food Truck Wednesday from 5 to 8 pm (approximately). \nThis week’s Food Truck is Crepes by the Lakes.
URL:https://grpickleball.com/event/food-truck-wednesday-13/
LOCATION:Belknap Park\, 30 Coldbrook St NE\, Grand Rapids\, MI\, 49503\, United States
CATEGORIES:Social Event
ATTACH;FMTTYPE=image/png:https://grpickleball.com/wp-content/uploads/2024/03/Screenshot-2024-03-14-at-1.10.23 PM.png
END:VEVENT
BEGIN:VEVENT
DTSTART;TZID=America/Detroit:20250716T170000
DTEND;TZID=America/Detroit:20250716T190000
DTSTAMP:20260423T173449
CREATED:20250715T030920Z
LAST-MODIFIED:20250715T030920Z
UID:10002161-1752685200-1752692400@grpickleball.com
SUMMARY:Juniors Ladder League
DESCRIPTION:Juniors Ladder League is for ages 8-17. \nSupervised by members of the Youth Pickleball Committee (YPC). \nCourts 7-10 are reserved for the event. \nThis event is free\, but registration is limited to 18. Registration required at GRPC Events.
URL:https://grpickleball.com/event/juniors-ladder-league/2025-07-16/
LOCATION:Belknap Park\, 30 Coldbrook St NE\, Grand Rapids\, MI\, 49503\, United States
CATEGORIES:Junior Play
ORGANIZER;CN="Scott Verkaik":MAILTO:scottverkaik@gmail.com
END:VEVENT
BEGIN:VEVENT
DTSTART;TZID=America/Detroit:20250715T173000
DTEND;TZID=America/Detroit:20250715T193000
DTSTAMP:20260423T173449
CREATED:20250420T232332Z
LAST-MODIFIED:20250619T133458Z
UID:10002109-1752600600-1752607800@grpickleball.com
SUMMARY:Introduction To Pickleball
DESCRIPTION:New to pickleball?  We have the class for you.  Build confidence\, learn the basics\, and prepare for social play! The Intro to Pickleball class is designed for the first-time adult player. Join the craze and have a blast!  We will have paddles and balls available. In the interest of allowing as many people as possible to attend this class\, we kindly request that you do not repeat attendance please. \nLed by Instructor Pati Sheldon \nDuration: 2 Hours \nFree to all players! \nCourts 7 and 9 at Belknap Park are reserved for this event. \nPlease Click Here to sign up!
URL:https://grpickleball.com/event/intro-to-pickleball/2025-07-15/
LOCATION:MI
CATEGORIES:Lessons
END:VEVENT
BEGIN:VEVENT
DTSTART;TZID=America/Detroit:20250715T090000
DTEND;TZID=America/Detroit:20250715T110000
DTSTAMP:20260423T173449
CREATED:20250320T142416Z
LAST-MODIFIED:20250322T135829Z
UID:10002046-1752570000-1752577200@grpickleball.com
SUMMARY:GRPC Legacy Group (Men’s 70+)
DESCRIPTION:70+ age and GRPC membership required\nCourts 18 – 21 reserved\n\nCourt format: 3 intermediate\, 3 advanced. The format will be adjusted to accommodate the number of players and skill levels.\n\nPlayer rotation: After the completion of a game\, winners stay and split\, and 2 new players join for the next game.\n\nIf interested in playing with this group\, please contact:\nLarry Walters\n\nmrwalter2000@yahoo.com
URL:https://grpickleball.com/event/grpc-legacy-group-mens-70-17/2025-07-15/
LOCATION:MI
CATEGORIES:Club Sponsored,GRPC Members Only,Organized Play
ATTACH;FMTTYPE=image/png:https://grpickleball.com/wp-content/uploads/2021/07/Screen-Shot-2021-07-22-at-11.30.22-AM-e1651329329657.png
ORGANIZER;CN="Larry Walters":MAILTO:mrwalter2000@yahoo.com
END:VEVENT
BEGIN:VEVENT
DTSTART;TZID=America/Detroit:20250715T090000
DTEND;TZID=America/Detroit:20250715T110000
DTSTAMP:20260423T173449
CREATED:20250320T141612Z
LAST-MODIFIED:20250320T142106Z
UID:10002079-1752570000-1752577200@grpickleball.com
SUMMARY:Women's 70+ Legacy Open Play
DESCRIPTION:Women’s 70+ Legacy Open Play\nMembership in the Grand Rapids Pickleball Club is required\nCourts 7-10 are reserved for this event\n9:00 am to 11:00 am
URL:https://grpickleball.com/event/womens-70-legacy-open-play/2025-07-15/
LOCATION:Belknap Park\, 30 Coldbrook St NE\, Grand Rapids\, MI\, 49503\, United States
CATEGORIES:GRPC Members Only,Organized Play
END:VEVENT
BEGIN:VEVENT
DTSTART;TZID=America/Detroit:20250714T180000
DTEND;TZID=America/Detroit:20250714T204500
DTSTAMP:20260423T173449
CREATED:20250706T120043Z
LAST-MODIFIED:20250623T024352Z
UID:10001960-1752516000-1752525900@grpickleball.com
SUMMARY:Drilling
DESCRIPTION:The focus of the GRPC Drill Program will be on skill repetition and exposure to theme-\nspecific drills. You will also have the opportunity to meet some of our local instructors\nwho can help you further your game.  \nSession 1:  6:00pm to 7:15pm (3.4 and below)            \nSession 2:  7:30pm to 8:45pm (3.5 and above)                                                                                                  \nLimited to 16 people per session. \nFee: $12 members; $18 nonmembers \nCourts 7-10 are reserved for this event. \nClick HERE to sign up
URL:https://grpickleball.com/event/drilling-3-7/
LOCATION:Belknap Park\, 30 Coldbrook St NE\, Grand Rapids\, MI\, 49503\, United States
CATEGORIES:Club Sponsored,Drilling
ATTACH;FMTTYPE=image/png:https://grpickleball.com/wp-content/uploads/2019/07/cropped-GRPC-favicon-1.png
ORGANIZER;CN="Janice Scharich":MAILTO:drilling@grpickleball.com
END:VEVENT
BEGIN:VEVENT
DTSTART;TZID=America/Detroit:20250714T083000
DTEND;TZID=America/Detroit:20250714T143000
DTSTAMP:20260423T173449
CREATED:20250531T162042Z
LAST-MODIFIED:20250531T162248Z
UID:10002151-1752481800-1752503400@grpickleball.com
SUMMARY:MLP Pro Coaching Clinics
DESCRIPTION:Beer City Open Clinics with PPA/MLP pros Irina Tereschenko and Lina Padegimaite. Two-hour Skills and Strategies Clinic sessions. There will be an 8:1 Pro-Student ratio or better. You will be hitting with similar-level players\, so please choose the appropriate skill-level session. \nThere are 3 sessions currently available: \n\n8:30 am – 10:15 am: Intermediate 3.0/3.5\n10:30 am – 12:15 pm: Intermediate-Advanced 3.5/4.0\n12:30 pm – 2:15 pm: Advanced 4.0+\n\nGRPC members and BCO players get $20 off with code BCO20 \nhttps://pickleballclinics.playbookapi.com/programs/more_info/class_package/40496/
URL:https://grpickleball.com/event/mlp-pro-coaching-clinics/
LOCATION:Belknap Park\, 30 Coldbrook St NE\, Grand Rapids\, MI\, 49503\, United States
CATEGORIES:Club Sponsored,Lessons
ATTACH;FMTTYPE=image/png:https://grpickleball.com/wp-content/uploads/2023/05/BeerCityLogo-copy-1-300x184-1.png
ORGANIZER;CN="Paul Richards":MAILTO:prpickleball@gmail.com
END:VEVENT
BEGIN:VEVENT
DTSTART;VALUE=DATE:20250707
DTEND;VALUE=DATE:20250714
DTSTAMP:20260423T173449
CREATED:20240729T215832Z
LAST-MODIFIED:20241014T231807Z
UID:10001827-1751846400-1752451199@grpickleball.com
SUMMARY:Beer City Open
DESCRIPTION:Registration opens in April 2025
URL:https://grpickleball.com/event/beer-city-open-13/
LOCATION:Belknap Park\, 30 Coldbrook St NE\, Grand Rapids\, MI\, 49503\, United States
CATEGORIES:Tournament
ATTACH;FMTTYPE=image/png:https://grpickleball.com/wp-content/uploads/2022/04/BeerCityLogo-copy-1-e1651351444411.png
ORGANIZER;CN="Andrea Koop":MAILTO:aremynse@outlook.com
END:VEVENT
BEGIN:VEVENT
DTSTART;TZID=America/Detroit:20250703T090000
DTEND;TZID=America/Detroit:20250703T110000
DTSTAMP:20260423T173449
CREATED:20250308T180534Z
LAST-MODIFIED:20250313T151157Z
UID:10001938-1751533200-1751540400@grpickleball.com
SUMMARY:Organized Ladies’ Play
DESCRIPTION:Organized Ladies’ Play\, weather permitting. Every Thursday on Courts 5-15 from 9 to 11 am. You DO have to be a Grand Rapids Pickleball Club member. All levels are welcome. No sign-up is necessary; just show up ready to play. This is a fun\, social time where all levels are expected to play together.
URL:https://grpickleball.com/event/organized-ladies-play-23/2025-07-03/
LOCATION:Belknap Park\, 30 Coldbrook St NE\, Grand Rapids\, MI\, 49503\, United States
CATEGORIES:Organized Play
ATTACH;FMTTYPE=image/png:https://grpickleball.com/wp-content/uploads/2021/07/Screen-Shot-2021-07-22-at-11.30.22-AM-e1651329329657.png
END:VEVENT
BEGIN:VEVENT
DTSTART;TZID=America/Detroit:20250702T170000
DTEND;TZID=America/Detroit:20250702T200000
DTSTAMP:20260423T173449
CREATED:20250308T005247Z
LAST-MODIFIED:20250308T005247Z
UID:10001870-1751475600-1751486400@grpickleball.com
SUMMARY:Food Truck Wednesday
DESCRIPTION:Join us for Food Truck Wednesday from 5 to 8 pm (approximately). \nThis week’s Food Truck is 616 Kabob.
URL:https://grpickleball.com/event/food-truck-wednesday-10/2025-07-02/
LOCATION:Belknap Park\, 30 Coldbrook St NE\, Grand Rapids\, MI\, 49503\, United States
CATEGORIES:Social Event
ATTACH;FMTTYPE=image/png:https://grpickleball.com/wp-content/uploads/2024/03/Screenshot-2024-03-14-at-1.10.23 PM.png
END:VEVENT
BEGIN:VEVENT
DTSTART;TZID=America/Detroit:20250701T173000
DTEND;TZID=America/Detroit:20250701T200000
DTSTAMP:20260423T173449
CREATED:20250308T160854Z
LAST-MODIFIED:20250716T202126Z
UID:10001890-1751391000-1751400000@grpickleball.com
SUMMARY:First-Timer Tourney Clinic
DESCRIPTION:Have you been playing pickleball for a while?  Considering a tournament\, but feel intimidated? \nAt the First-Timer Tourney Clinic\, you will learn how a tournament is run and how to participate in a tournament. No partner is needed\, though you may optionally choose one ahead of time.  Organizers will thoughtfully select partnerships for solo players. Round-robin format \nVeteran players/volunteers will be present courtside during the matches to offer assistance with scoring\, strategy\, shot selection\, and positioning. Come ready to play. Bring your paddle\, proper shoes\, and clothing. \nCourts 7-10 are reserved for this event. \nFee: $10 GRPC members; $20 nonmembers \nClick Here to sign up for the August 5\, 2025 event!
URL:https://grpickleball.com/event/first-timer-tourney-clinic-2/2025-07-01/
LOCATION:Belknap Park\, 30 Coldbrook St NE\, Grand Rapids\, MI\, 49503\, United States
CATEGORIES:Lessons,Tournament
ATTACH;FMTTYPE=image/png:https://grpickleball.com/wp-content/uploads/2019/07/cropped-GRPC-favicon.png
END:VEVENT
BEGIN:VEVENT
DTSTART;TZID=America/Detroit:20250701T090000
DTEND;TZID=America/Detroit:20250701T110000
DTSTAMP:20260423T173449
CREATED:20250320T142416Z
LAST-MODIFIED:20250322T135829Z
UID:10002045-1751360400-1751367600@grpickleball.com
SUMMARY:GRPC Legacy Group (Men’s 70+)
DESCRIPTION:70+ age and GRPC membership required\nCourts 18 – 21 reserved\n\nCourt format: 3 intermediate\, 3 advanced. The format will be adjusted to accommodate the number of players and skill levels.\n\nPlayer rotation: After the completion of a game\, winners stay and split\, and 2 new players join for the next game.\n\nIf interested in playing with this group\, please contact:\nLarry Walters\n\nmrwalter2000@yahoo.com
URL:https://grpickleball.com/event/grpc-legacy-group-mens-70-17/2025-07-01/
LOCATION:MI
CATEGORIES:Club Sponsored,GRPC Members Only,Organized Play
ATTACH;FMTTYPE=image/png:https://grpickleball.com/wp-content/uploads/2021/07/Screen-Shot-2021-07-22-at-11.30.22-AM-e1651329329657.png
ORGANIZER;CN="Larry Walters":MAILTO:mrwalter2000@yahoo.com
END:VEVENT
BEGIN:VEVENT
DTSTART;TZID=America/Detroit:20250701T090000
DTEND;TZID=America/Detroit:20250701T110000
DTSTAMP:20260423T173449
CREATED:20250320T141612Z
LAST-MODIFIED:20250320T142106Z
UID:10002078-1751360400-1751367600@grpickleball.com
SUMMARY:Women's 70+ Legacy Open Play
DESCRIPTION:Women’s 70+ Legacy Open Play\nMembership in the Grand Rapids Pickleball Club is required\nCourts 7-10 are reserved for this event\n9:00 am to 11:00 am
URL:https://grpickleball.com/event/womens-70-legacy-open-play/2025-07-01/
LOCATION:Belknap Park\, 30 Coldbrook St NE\, Grand Rapids\, MI\, 49503\, United States
CATEGORIES:GRPC Members Only,Organized Play
END:VEVENT
BEGIN:VEVENT
DTSTART;TZID=America/Detroit:20250630T180000
DTEND;TZID=America/Detroit:20250630T204500
DTSTAMP:20260423T173449
CREATED:20250622T120013Z
LAST-MODIFIED:20250623T012258Z
UID:10001958-1751306400-1751316300@grpickleball.com
SUMMARY:Drilling
DESCRIPTION:The focus of the GRPC Drill Program will be on skill repetition and exposure to theme- specific drills. You will also have the opportunity to meet some of our local instructors who can help you further your game.  \nSession 1:  6:00pm to 7:15pm (3.4 and below)            \nSession 2:  7:30pm to 8:45pm (3.5 and above)                                                                                                  \nLimited to 16 people per session. Fee: $12 members; $18 nonmembers \nCourts 7-10 are reserved for this event. \nClick HERE to sign up
URL:https://grpickleball.com/event/drilling-3-6/
LOCATION:Belknap Park\, 30 Coldbrook St NE\, Grand Rapids\, MI\, 49503\, United States
CATEGORIES:Club Sponsored,Drilling
ATTACH;FMTTYPE=image/png:https://grpickleball.com/wp-content/uploads/2019/07/cropped-GRPC-favicon-1.png
ORGANIZER;CN="Janice Scharich":MAILTO:drilling@grpickleball.com
END:VEVENT
BEGIN:VEVENT
DTSTART;TZID=America/Detroit:20250629T173000
DTEND;TZID=America/Detroit:20250629T204500
DTSTAMP:20260423T173449
CREATED:20250428T014924Z
LAST-MODIFIED:20250511T191411Z
UID:10002149-1751218200-1751229900@grpickleball.com
SUMMARY:GRPC Ladder League - Session 1
DESCRIPTION:Must be a GRPC member to participate\nSession 1 will meet June 1\, 8\, 22\, 29. (June 8 may have a delayed start time due to Meijer State Games)\nRegistration fee is $40\nFrom 5:30 to 7 pm\, Women’s Session – Click Here to sign up and indicate DUPR\nFrom 7:15 to 8:45 pm\, Men’s Session – Click Here to sign up and indicate DUPR\nCourts 7-10 and Courts 16-21 are reserved for the GRPC Ladder League\nRegistration limited to 40 participants for each session\nPlayers will complete two rounds each night (6 matches)\nFranklin balls will be provided\nSubstitute List – Click Here
URL:https://grpickleball.com/event/grpc-ladder-league-session-1-2/2025-06-29/
LOCATION:Belknap Park\, 30 Coldbrook St NE\, Grand Rapids\, MI\, 49503\, United States
CATEGORIES:Club Sponsored,GRPC Members Only,League Play
ATTACH;FMTTYPE=image/jpeg:https://grpickleball.com/wp-content/uploads/2023/05/Belknap-Aerial-View-1.jpg
ORGANIZER;CN="Vamshi Vg":MAILTO:Vvamshi06@gmail.com
END:VEVENT
BEGIN:VEVENT
DTSTART;TZID=America/Detroit:20250626T090000
DTEND;TZID=America/Detroit:20250626T110000
DTSTAMP:20260423T173449
CREATED:20250308T180534Z
LAST-MODIFIED:20250313T151157Z
UID:10001937-1750928400-1750935600@grpickleball.com
SUMMARY:Organized Ladies’ Play
DESCRIPTION:Organized Ladies’ Play\, weather permitting. Every Thursday on Courts 5-15 from 9 to 11 am. You DO have to be a Grand Rapids Pickleball Club member. All levels are welcome. No sign-up is necessary; just show up ready to play. This is a fun\, social time where all levels are expected to play together.
URL:https://grpickleball.com/event/organized-ladies-play-23/2025-06-26/
LOCATION:Belknap Park\, 30 Coldbrook St NE\, Grand Rapids\, MI\, 49503\, United States
CATEGORIES:Organized Play
ATTACH;FMTTYPE=image/png:https://grpickleball.com/wp-content/uploads/2021/07/Screen-Shot-2021-07-22-at-11.30.22-AM-e1651329329657.png
END:VEVENT
BEGIN:VEVENT
DTSTART;TZID=America/Detroit:20250625T170000
DTEND;TZID=America/Detroit:20250625T200000
DTSTAMP:20260423T173449
CREATED:20250308T004625Z
LAST-MODIFIED:20250308T004625Z
UID:10001865-1750870800-1750881600@grpickleball.com
SUMMARY:Food Truck Wednesday
DESCRIPTION:Join us for Food Truck Wednesday from 5 to 8 pm (approximately). \nThis week’s Food Truck is Arcane Pizza.
URL:https://grpickleball.com/event/food-truck-wednesday-9/2025-06-25/
LOCATION:Belknap Park\, 30 Coldbrook St NE\, Grand Rapids\, MI\, 49503\, United States
CATEGORIES:Social Event
ATTACH;FMTTYPE=image/png:https://grpickleball.com/wp-content/uploads/2024/03/Screenshot-2024-03-14-at-1.10.23 PM.png
END:VEVENT
END:VCALENDAR