BEGIN:VCALENDAR
VERSION:2.0
PRODID:-//Grand Rapids Pickleball Club - ECPv6.15.16.1//NONSGML v1.0//EN
CALSCALE:GREGORIAN
METHOD:PUBLISH
X-WR-CALNAME:Grand Rapids Pickleball Club
X-ORIGINAL-URL:https://grpickleball.com
X-WR-CALDESC:Events for Grand Rapids Pickleball Club
REFRESH-INTERVAL;VALUE=DURATION:PT1H
X-Robots-Tag:noindex
X-PUBLISHED-TTL:PT1H
BEGIN:VTIMEZONE
TZID:America/Detroit
BEGIN:DAYLIGHT
TZOFFSETFROM:-0500
TZOFFSETTO:-0400
TZNAME:EDT
DTSTART:20240310T070000
END:DAYLIGHT
BEGIN:STANDARD
TZOFFSETFROM:-0400
TZOFFSETTO:-0500
TZNAME:EST
DTSTART:20241103T060000
END:STANDARD
BEGIN:DAYLIGHT
TZOFFSETFROM:-0500
TZOFFSETTO:-0400
TZNAME:EDT
DTSTART:20250309T070000
END:DAYLIGHT
BEGIN:STANDARD
TZOFFSETFROM:-0400
TZOFFSETTO:-0500
TZNAME:EST
DTSTART:20251102T060000
END:STANDARD
BEGIN:DAYLIGHT
TZOFFSETFROM:-0500
TZOFFSETTO:-0400
TZNAME:EDT
DTSTART:20260308T070000
END:DAYLIGHT
BEGIN:STANDARD
TZOFFSETFROM:-0400
TZOFFSETTO:-0500
TZNAME:EST
DTSTART:20261101T060000
END:STANDARD
BEGIN:DAYLIGHT
TZOFFSETFROM:-0500
TZOFFSETTO:-0400
TZNAME:EDT
DTSTART:20270314T070000
END:DAYLIGHT
BEGIN:STANDARD
TZOFFSETFROM:-0400
TZOFFSETTO:-0500
TZNAME:EST
DTSTART:20271107T060000
END:STANDARD
END:VTIMEZONE
BEGIN:VEVENT
DTSTART;TZID=America/Detroit:20250826T090000
DTEND;TZID=America/Detroit:20250826T110000
DTSTAMP:20260424T112817
CREATED:20250320T141612Z
LAST-MODIFIED:20250320T142106Z
UID:10002085-1756198800-1756206000@grpickleball.com
SUMMARY:Women's 70+ Legacy Open Play
DESCRIPTION:Women’s 70+ Legacy Open Play\nMembership in the Grand Rapids Pickleball Club is required\nCourts 7-10 are reserved for this event\n9:00 am to 11:00 am
URL:https://grpickleball.com/event/womens-70-legacy-open-play/2025-08-26/
LOCATION:Belknap Park\, 30 Coldbrook St NE\, Grand Rapids\, MI\, 49503\, United States
CATEGORIES:GRPC Members Only,Organized Play
END:VEVENT
BEGIN:VEVENT
DTSTART;TZID=America/Detroit:20250826T090000
DTEND;TZID=America/Detroit:20250826T110000
DTSTAMP:20260424T112817
CREATED:20250320T142416Z
LAST-MODIFIED:20250322T135829Z
UID:10002052-1756198800-1756206000@grpickleball.com
SUMMARY:GRPC Legacy Group (Men’s 70+)
DESCRIPTION:70+ age and GRPC membership required\nCourts 18 – 21 reserved\n\nCourt format: 3 intermediate\, 3 advanced. The format will be adjusted to accommodate the number of players and skill levels.\n\nPlayer rotation: After the completion of a game\, winners stay and split\, and 2 new players join for the next game.\n\nIf interested in playing with this group\, please contact:\nLarry Walters\n\nmrwalter2000@yahoo.com
URL:https://grpickleball.com/event/grpc-legacy-group-mens-70-17/2025-08-26/
LOCATION:MI
CATEGORIES:Club Sponsored,GRPC Members Only,Organized Play
ATTACH;FMTTYPE=image/png:https://grpickleball.com/wp-content/uploads/2021/07/Screen-Shot-2021-07-22-at-11.30.22-AM-e1651329329657.png
ORGANIZER;CN="Larry Walters":MAILTO:mrwalter2000@yahoo.com
END:VEVENT
BEGIN:VEVENT
DTSTART;TZID=America/Detroit:20250827T170000
DTEND;TZID=America/Detroit:20250827T190000
DTSTAMP:20260424T112817
CREATED:20250715T030920Z
LAST-MODIFIED:20250715T030920Z
UID:10002167-1756314000-1756321200@grpickleball.com
SUMMARY:Juniors Ladder League
DESCRIPTION:Juniors Ladder League is for ages 8-17. \nSupervised by members of the Youth Pickleball Committee (YPC). \nCourts 7-10 are reserved for the event. \nThis event is free\, but registration is limited to 18. Registration required at GRPC Events.
URL:https://grpickleball.com/event/juniors-ladder-league/2025-08-27/
LOCATION:Belknap Park\, 30 Coldbrook St NE\, Grand Rapids\, MI\, 49503\, United States
CATEGORIES:Junior Play
ORGANIZER;CN="Scott Verkaik":MAILTO:scottverkaik@gmail.com
END:VEVENT
BEGIN:VEVENT
DTSTART;TZID=America/Detroit:20250828T090000
DTEND;TZID=America/Detroit:20250828T110000
DTSTAMP:20260424T112817
CREATED:20250308T180534Z
LAST-MODIFIED:20250313T151157Z
UID:10001946-1756371600-1756378800@grpickleball.com
SUMMARY:Organized Ladies’ Play
DESCRIPTION:Organized Ladies’ Play\, weather permitting. Every Thursday on Courts 5-15 from 9 to 11 am. You DO have to be a Grand Rapids Pickleball Club member. All levels are welcome. No sign-up is necessary; just show up ready to play. This is a fun\, social time where all levels are expected to play together.
URL:https://grpickleball.com/event/organized-ladies-play-23/2025-08-28/
LOCATION:Belknap Park\, 30 Coldbrook St NE\, Grand Rapids\, MI\, 49503\, United States
CATEGORIES:Organized Play
ATTACH;FMTTYPE=image/png:https://grpickleball.com/wp-content/uploads/2021/07/Screen-Shot-2021-07-22-at-11.30.22-AM-e1651329329657.png
END:VEVENT
BEGIN:VEVENT
DTSTART;TZID=America/Detroit:20250829T183000
DTEND;TZID=America/Detroit:20250829T223000
DTSTAMP:20260424T112817
CREATED:20250308T190648Z
LAST-MODIFIED:20250308T190648Z
UID:10001987-1756492200-1756506600@grpickleball.com
SUMMARY:Friday Night Lights
DESCRIPTION:It’s a fun tournament under the lights for GRPC members only. \nDetails will be posted on the GRPC Facebook page as the event gets closer to the date. \nAll courts are reserved for FNL.
URL:https://grpickleball.com/event/friday-night-lights-13/2025-08-29/
LOCATION:Belknap Park\, 30 Coldbrook St NE\, Grand Rapids\, MI\, 49503\, United States
CATEGORIES:Club Sponsored,FNL,GRPC Members Only,Tournament
ATTACH;FMTTYPE=image/png:https://grpickleball.com/wp-content/uploads/2022/04/Screen-Shot-2022-04-30-at-11.07.51-AM-e1651331824206.png
END:VEVENT
BEGIN:VEVENT
DTSTART;TZID=America/Detroit:20250902T090000
DTEND;TZID=America/Detroit:20250902T110000
DTSTAMP:20260424T112817
CREATED:20250320T141612Z
LAST-MODIFIED:20250320T142106Z
UID:10002086-1756803600-1756810800@grpickleball.com
SUMMARY:Women's 70+ Legacy Open Play
DESCRIPTION:Women’s 70+ Legacy Open Play\nMembership in the Grand Rapids Pickleball Club is required\nCourts 7-10 are reserved for this event\n9:00 am to 11:00 am
URL:https://grpickleball.com/event/womens-70-legacy-open-play/2025-09-02/
LOCATION:Belknap Park\, 30 Coldbrook St NE\, Grand Rapids\, MI\, 49503\, United States
CATEGORIES:GRPC Members Only,Organized Play
END:VEVENT
BEGIN:VEVENT
DTSTART;TZID=America/Detroit:20250902T090000
DTEND;TZID=America/Detroit:20250902T110000
DTSTAMP:20260424T112817
CREATED:20250320T142416Z
LAST-MODIFIED:20250322T135829Z
UID:10002053-1756803600-1756810800@grpickleball.com
SUMMARY:GRPC Legacy Group (Men’s 70+)
DESCRIPTION:70+ age and GRPC membership required\nCourts 18 – 21 reserved\n\nCourt format: 3 intermediate\, 3 advanced. The format will be adjusted to accommodate the number of players and skill levels.\n\nPlayer rotation: After the completion of a game\, winners stay and split\, and 2 new players join for the next game.\n\nIf interested in playing with this group\, please contact:\nLarry Walters\n\nmrwalter2000@yahoo.com
URL:https://grpickleball.com/event/grpc-legacy-group-mens-70-17/2025-09-02/
LOCATION:MI
CATEGORIES:Club Sponsored,GRPC Members Only,Organized Play
ATTACH;FMTTYPE=image/png:https://grpickleball.com/wp-content/uploads/2021/07/Screen-Shot-2021-07-22-at-11.30.22-AM-e1651329329657.png
ORGANIZER;CN="Larry Walters":MAILTO:mrwalter2000@yahoo.com
END:VEVENT
BEGIN:VEVENT
DTSTART;TZID=America/Detroit:20250903T170000
DTEND;TZID=America/Detroit:20250903T190000
DTSTAMP:20260424T112817
CREATED:20250715T030920Z
LAST-MODIFIED:20250715T030920Z
UID:10002168-1756918800-1756926000@grpickleball.com
SUMMARY:Juniors Ladder League
DESCRIPTION:Juniors Ladder League is for ages 8-17. \nSupervised by members of the Youth Pickleball Committee (YPC). \nCourts 7-10 are reserved for the event. \nThis event is free\, but registration is limited to 18. Registration required at GRPC Events.
URL:https://grpickleball.com/event/juniors-ladder-league/2025-09-03/
LOCATION:Belknap Park\, 30 Coldbrook St NE\, Grand Rapids\, MI\, 49503\, United States
CATEGORIES:Junior Play
ORGANIZER;CN="Scott Verkaik":MAILTO:scottverkaik@gmail.com
END:VEVENT
BEGIN:VEVENT
DTSTART;TZID=America/Detroit:20250904T090000
DTEND;TZID=America/Detroit:20250904T110000
DTSTAMP:20260424T112817
CREATED:20250308T180534Z
LAST-MODIFIED:20250313T151157Z
UID:10001947-1756976400-1756983600@grpickleball.com
SUMMARY:Organized Ladies’ Play
DESCRIPTION:Organized Ladies’ Play\, weather permitting. Every Thursday on Courts 5-15 from 9 to 11 am. You DO have to be a Grand Rapids Pickleball Club member. All levels are welcome. No sign-up is necessary; just show up ready to play. This is a fun\, social time where all levels are expected to play together.
URL:https://grpickleball.com/event/organized-ladies-play-23/2025-09-04/
LOCATION:Belknap Park\, 30 Coldbrook St NE\, Grand Rapids\, MI\, 49503\, United States
CATEGORIES:Organized Play
ATTACH;FMTTYPE=image/png:https://grpickleball.com/wp-content/uploads/2021/07/Screen-Shot-2021-07-22-at-11.30.22-AM-e1651329329657.png
END:VEVENT
BEGIN:VEVENT
DTSTART;TZID=America/Detroit:20250909T090000
DTEND;TZID=America/Detroit:20250909T110000
DTSTAMP:20260424T112817
CREATED:20250320T141612Z
LAST-MODIFIED:20250320T142106Z
UID:10002087-1757408400-1757415600@grpickleball.com
SUMMARY:Women's 70+ Legacy Open Play
DESCRIPTION:Women’s 70+ Legacy Open Play\nMembership in the Grand Rapids Pickleball Club is required\nCourts 7-10 are reserved for this event\n9:00 am to 11:00 am
URL:https://grpickleball.com/event/womens-70-legacy-open-play/2025-09-09/
LOCATION:Belknap Park\, 30 Coldbrook St NE\, Grand Rapids\, MI\, 49503\, United States
CATEGORIES:GRPC Members Only,Organized Play
END:VEVENT
BEGIN:VEVENT
DTSTART;TZID=America/Detroit:20250909T090000
DTEND;TZID=America/Detroit:20250909T110000
DTSTAMP:20260424T112817
CREATED:20250320T142416Z
LAST-MODIFIED:20250322T135829Z
UID:10002054-1757408400-1757415600@grpickleball.com
SUMMARY:GRPC Legacy Group (Men’s 70+)
DESCRIPTION:70+ age and GRPC membership required\nCourts 18 – 21 reserved\n\nCourt format: 3 intermediate\, 3 advanced. The format will be adjusted to accommodate the number of players and skill levels.\n\nPlayer rotation: After the completion of a game\, winners stay and split\, and 2 new players join for the next game.\n\nIf interested in playing with this group\, please contact:\nLarry Walters\n\nmrwalter2000@yahoo.com
URL:https://grpickleball.com/event/grpc-legacy-group-mens-70-17/2025-09-09/
LOCATION:MI
CATEGORIES:Club Sponsored,GRPC Members Only,Organized Play
ATTACH;FMTTYPE=image/png:https://grpickleball.com/wp-content/uploads/2021/07/Screen-Shot-2021-07-22-at-11.30.22-AM-e1651329329657.png
ORGANIZER;CN="Larry Walters":MAILTO:mrwalter2000@yahoo.com
END:VEVENT
BEGIN:VEVENT
DTSTART;TZID=America/Detroit:20250910T170000
DTEND;TZID=America/Detroit:20250910T190000
DTSTAMP:20260424T112817
CREATED:20250715T030920Z
LAST-MODIFIED:20250715T030920Z
UID:10002169-1757523600-1757530800@grpickleball.com
SUMMARY:Juniors Ladder League
DESCRIPTION:Juniors Ladder League is for ages 8-17. \nSupervised by members of the Youth Pickleball Committee (YPC). \nCourts 7-10 are reserved for the event. \nThis event is free\, but registration is limited to 18. Registration required at GRPC Events.
URL:https://grpickleball.com/event/juniors-ladder-league/2025-09-10/
LOCATION:Belknap Park\, 30 Coldbrook St NE\, Grand Rapids\, MI\, 49503\, United States
CATEGORIES:Junior Play
ORGANIZER;CN="Scott Verkaik":MAILTO:scottverkaik@gmail.com
END:VEVENT
BEGIN:VEVENT
DTSTART;TZID=America/Detroit:20250911T090000
DTEND;TZID=America/Detroit:20250911T110000
DTSTAMP:20260424T112817
CREATED:20250308T180534Z
LAST-MODIFIED:20250313T151157Z
UID:10001948-1757581200-1757588400@grpickleball.com
SUMMARY:Organized Ladies’ Play
DESCRIPTION:Organized Ladies’ Play\, weather permitting. Every Thursday on Courts 5-15 from 9 to 11 am. You DO have to be a Grand Rapids Pickleball Club member. All levels are welcome. No sign-up is necessary; just show up ready to play. This is a fun\, social time where all levels are expected to play together.
URL:https://grpickleball.com/event/organized-ladies-play-23/2025-09-11/
LOCATION:Belknap Park\, 30 Coldbrook St NE\, Grand Rapids\, MI\, 49503\, United States
CATEGORIES:Organized Play
ATTACH;FMTTYPE=image/png:https://grpickleball.com/wp-content/uploads/2021/07/Screen-Shot-2021-07-22-at-11.30.22-AM-e1651329329657.png
END:VEVENT
BEGIN:VEVENT
DTSTART;TZID=America/Detroit:20250912T080000
DTEND;TZID=America/Detroit:20250914T190000
DTSTAMP:20260424T112817
CREATED:20241121T011615Z
LAST-MODIFIED:20250906T153928Z
UID:10001842-1757664000-1757876400@grpickleball.com
SUMMARY:2025 Michigan State Pickleball Championship Series Event
DESCRIPTION:A United Pickleball State Championship Series Event\nAll courts reserved for this event\nRegister for the tournament on Pickleball Brackets\nVolunteer for the tournament on the GRPC Website
URL:https://grpickleball.com/event/2025-michigan-state-pickleball-championship-series-event/
LOCATION:Belknap Park\, 30 Coldbrook St NE\, Grand Rapids\, MI\, 49503\, United States
CATEGORIES:Club Sponsored,Tournament
ATTACH;FMTTYPE=image/png:https://grpickleball.com/wp-content/uploads/2024/11/Screenshot-2025-03-03-at-1.36.32 PM.png
END:VEVENT
BEGIN:VEVENT
DTSTART;TZID=America/Detroit:20250916T090000
DTEND;TZID=America/Detroit:20250916T110000
DTSTAMP:20260424T112817
CREATED:20250320T141612Z
LAST-MODIFIED:20250320T142106Z
UID:10002088-1758013200-1758020400@grpickleball.com
SUMMARY:Women's 70+ Legacy Open Play
DESCRIPTION:Women’s 70+ Legacy Open Play\nMembership in the Grand Rapids Pickleball Club is required\nCourts 7-10 are reserved for this event\n9:00 am to 11:00 am
URL:https://grpickleball.com/event/womens-70-legacy-open-play/2025-09-16/
LOCATION:Belknap Park\, 30 Coldbrook St NE\, Grand Rapids\, MI\, 49503\, United States
CATEGORIES:GRPC Members Only,Organized Play
END:VEVENT
BEGIN:VEVENT
DTSTART;TZID=America/Detroit:20250916T090000
DTEND;TZID=America/Detroit:20250916T110000
DTSTAMP:20260424T112817
CREATED:20250320T142416Z
LAST-MODIFIED:20250322T135829Z
UID:10002055-1758013200-1758020400@grpickleball.com
SUMMARY:GRPC Legacy Group (Men’s 70+)
DESCRIPTION:70+ age and GRPC membership required\nCourts 18 – 21 reserved\n\nCourt format: 3 intermediate\, 3 advanced. The format will be adjusted to accommodate the number of players and skill levels.\n\nPlayer rotation: After the completion of a game\, winners stay and split\, and 2 new players join for the next game.\n\nIf interested in playing with this group\, please contact:\nLarry Walters\n\nmrwalter2000@yahoo.com
URL:https://grpickleball.com/event/grpc-legacy-group-mens-70-17/2025-09-16/
LOCATION:MI
CATEGORIES:Club Sponsored,GRPC Members Only,Organized Play
ATTACH;FMTTYPE=image/png:https://grpickleball.com/wp-content/uploads/2021/07/Screen-Shot-2021-07-22-at-11.30.22-AM-e1651329329657.png
ORGANIZER;CN="Larry Walters":MAILTO:mrwalter2000@yahoo.com
END:VEVENT
BEGIN:VEVENT
DTSTART;TZID=America/Detroit:20250917T170000
DTEND;TZID=America/Detroit:20250917T190000
DTSTAMP:20260424T112817
CREATED:20250715T030920Z
LAST-MODIFIED:20250715T030920Z
UID:10002170-1758128400-1758135600@grpickleball.com
SUMMARY:Juniors Ladder League
DESCRIPTION:Juniors Ladder League is for ages 8-17. \nSupervised by members of the Youth Pickleball Committee (YPC). \nCourts 7-10 are reserved for the event. \nThis event is free\, but registration is limited to 18. Registration required at GRPC Events.
URL:https://grpickleball.com/event/juniors-ladder-league/2025-09-17/
LOCATION:Belknap Park\, 30 Coldbrook St NE\, Grand Rapids\, MI\, 49503\, United States
CATEGORIES:Junior Play
ORGANIZER;CN="Scott Verkaik":MAILTO:scottverkaik@gmail.com
END:VEVENT
BEGIN:VEVENT
DTSTART;TZID=America/Detroit:20250918T090000
DTEND;TZID=America/Detroit:20250918T110000
DTSTAMP:20260424T112817
CREATED:20250308T180534Z
LAST-MODIFIED:20250313T151157Z
UID:10001949-1758186000-1758193200@grpickleball.com
SUMMARY:Organized Ladies’ Play
DESCRIPTION:Organized Ladies’ Play\, weather permitting. Every Thursday on Courts 5-15 from 9 to 11 am. You DO have to be a Grand Rapids Pickleball Club member. All levels are welcome. No sign-up is necessary; just show up ready to play. This is a fun\, social time where all levels are expected to play together.
URL:https://grpickleball.com/event/organized-ladies-play-23/2025-09-18/
LOCATION:Belknap Park\, 30 Coldbrook St NE\, Grand Rapids\, MI\, 49503\, United States
CATEGORIES:Organized Play
ATTACH;FMTTYPE=image/png:https://grpickleball.com/wp-content/uploads/2021/07/Screen-Shot-2021-07-22-at-11.30.22-AM-e1651329329657.png
END:VEVENT
BEGIN:VEVENT
DTSTART;TZID=America/Detroit:20250920T110000
DTEND;TZID=America/Detroit:20250920T160000
DTSTAMP:20260424T112817
CREATED:20250806T115521Z
LAST-MODIFIED:20250806T115521Z
UID:10002174-1758366000-1758384000@grpickleball.com
SUMMARY:Volunteer Appreciation Luncheon\, Pickleball\, and Raffle
DESCRIPTION:Event begins at noon.  Grab your paddle and play some pickleball with friends before\, during\, and after. \nSchedule of Events:\n12:00 pm – 1:30 pm Lunch Served\n12:00 pm – 1:30 pm Pickleball with Friends\n1:30 pm Picture on Stadium Court\n1:45 pm Draigh Award Announced\n2 pm Raffle Drawings
URL:https://grpickleball.com/event/volunteer-appreciation-luncheon-pickleball-and-raffle/
LOCATION:Belknap Park\, 30 Coldbrook St NE\, Grand Rapids\, MI\, 49503\, United States
ATTACH;FMTTYPE=image/png:https://grpickleball.com/wp-content/uploads/2024/06/Screenshot-2024-08-23-at-1.53.52 PM.png
END:VEVENT
BEGIN:VEVENT
DTSTART;TZID=America/Detroit:20250923T090000
DTEND;TZID=America/Detroit:20250923T110000
DTSTAMP:20260424T112817
CREATED:20250320T141612Z
LAST-MODIFIED:20250320T142106Z
UID:10002089-1758618000-1758625200@grpickleball.com
SUMMARY:Women's 70+ Legacy Open Play
DESCRIPTION:Women’s 70+ Legacy Open Play\nMembership in the Grand Rapids Pickleball Club is required\nCourts 7-10 are reserved for this event\n9:00 am to 11:00 am
URL:https://grpickleball.com/event/womens-70-legacy-open-play/2025-09-23/
LOCATION:Belknap Park\, 30 Coldbrook St NE\, Grand Rapids\, MI\, 49503\, United States
CATEGORIES:GRPC Members Only,Organized Play
END:VEVENT
BEGIN:VEVENT
DTSTART;TZID=America/Detroit:20250923T090000
DTEND;TZID=America/Detroit:20250923T110000
DTSTAMP:20260424T112817
CREATED:20250320T142416Z
LAST-MODIFIED:20250322T135829Z
UID:10002056-1758618000-1758625200@grpickleball.com
SUMMARY:GRPC Legacy Group (Men’s 70+)
DESCRIPTION:70+ age and GRPC membership required\nCourts 18 – 21 reserved\n\nCourt format: 3 intermediate\, 3 advanced. The format will be adjusted to accommodate the number of players and skill levels.\n\nPlayer rotation: After the completion of a game\, winners stay and split\, and 2 new players join for the next game.\n\nIf interested in playing with this group\, please contact:\nLarry Walters\n\nmrwalter2000@yahoo.com
URL:https://grpickleball.com/event/grpc-legacy-group-mens-70-17/2025-09-23/
LOCATION:MI
CATEGORIES:Club Sponsored,GRPC Members Only,Organized Play
ATTACH;FMTTYPE=image/png:https://grpickleball.com/wp-content/uploads/2021/07/Screen-Shot-2021-07-22-at-11.30.22-AM-e1651329329657.png
ORGANIZER;CN="Larry Walters":MAILTO:mrwalter2000@yahoo.com
END:VEVENT
BEGIN:VEVENT
DTSTART;TZID=America/Detroit:20250925T090000
DTEND;TZID=America/Detroit:20250925T110000
DTSTAMP:20260424T112817
CREATED:20250308T180534Z
LAST-MODIFIED:20250313T151157Z
UID:10001950-1758790800-1758798000@grpickleball.com
SUMMARY:Organized Ladies’ Play
DESCRIPTION:Organized Ladies’ Play\, weather permitting. Every Thursday on Courts 5-15 from 9 to 11 am. You DO have to be a Grand Rapids Pickleball Club member. All levels are welcome. No sign-up is necessary; just show up ready to play. This is a fun\, social time where all levels are expected to play together.
URL:https://grpickleball.com/event/organized-ladies-play-23/2025-09-25/
LOCATION:Belknap Park\, 30 Coldbrook St NE\, Grand Rapids\, MI\, 49503\, United States
CATEGORIES:Organized Play
ATTACH;FMTTYPE=image/png:https://grpickleball.com/wp-content/uploads/2021/07/Screen-Shot-2021-07-22-at-11.30.22-AM-e1651329329657.png
END:VEVENT
BEGIN:VEVENT
DTSTART;TZID=America/Detroit:20250926T183000
DTEND;TZID=America/Detroit:20250926T223000
DTSTAMP:20260424T112817
CREATED:20250308T190648Z
LAST-MODIFIED:20250308T190648Z
UID:10001988-1758911400-1758925800@grpickleball.com
SUMMARY:Friday Night Lights
DESCRIPTION:It’s a fun tournament under the lights for GRPC members only. \nDetails will be posted on the GRPC Facebook page as the event gets closer to the date. \nAll courts are reserved for FNL.
URL:https://grpickleball.com/event/friday-night-lights-13/2025-09-26/
LOCATION:Belknap Park\, 30 Coldbrook St NE\, Grand Rapids\, MI\, 49503\, United States
CATEGORIES:Club Sponsored,FNL,GRPC Members Only,Tournament
ATTACH;FMTTYPE=image/png:https://grpickleball.com/wp-content/uploads/2022/04/Screen-Shot-2022-04-30-at-11.07.51-AM-e1651331824206.png
END:VEVENT
BEGIN:VEVENT
DTSTART;TZID=America/Detroit:20250930T090000
DTEND;TZID=America/Detroit:20250930T110000
DTSTAMP:20260424T112817
CREATED:20250320T141612Z
LAST-MODIFIED:20250320T142106Z
UID:10002090-1759222800-1759230000@grpickleball.com
SUMMARY:Women's 70+ Legacy Open Play
DESCRIPTION:Women’s 70+ Legacy Open Play\nMembership in the Grand Rapids Pickleball Club is required\nCourts 7-10 are reserved for this event\n9:00 am to 11:00 am
URL:https://grpickleball.com/event/womens-70-legacy-open-play/2025-09-30/
LOCATION:Belknap Park\, 30 Coldbrook St NE\, Grand Rapids\, MI\, 49503\, United States
CATEGORIES:GRPC Members Only,Organized Play
END:VEVENT
BEGIN:VEVENT
DTSTART;TZID=America/Detroit:20250930T173000
DTEND;TZID=America/Detroit:20250930T193000
DTSTAMP:20260424T112817
CREATED:20250420T232332Z
LAST-MODIFIED:20250619T133458Z
UID:10002118-1759253400-1759260600@grpickleball.com
SUMMARY:Introduction To Pickleball
DESCRIPTION:New to pickleball?  We have the class for you.  Build confidence\, learn the basics\, and prepare for social play! The Intro to Pickleball class is designed for the first-time adult player. Join the craze and have a blast!  We will have paddles and balls available. In the interest of allowing as many people as possible to attend this class\, we kindly request that you do not repeat attendance please. \nLed by Instructor Pati Sheldon \nDuration: 2 Hours \nFree to all players! \nCourts 7 and 9 at Belknap Park are reserved for this event. \nPlease Click Here to sign up!
URL:https://grpickleball.com/event/intro-to-pickleball/2025-09-30/
LOCATION:MI
CATEGORIES:Lessons
END:VEVENT
BEGIN:VEVENT
DTSTART;VALUE=DATE:20260102
DTEND;VALUE=DATE:20260103
DTSTAMP:20260424T112817
CREATED:20251119T211041Z
LAST-MODIFIED:20251120T181601Z
UID:10002182-1767312000-1767398399@grpickleball.com
SUMMARY:GRPC Holiday Party
DESCRIPTION:Members\, join us at the GRRF for the GRPC Holiday Party\, Friday\, January 2\, 6 to 9 p.m.     Pizza will be provided. Cost is $5 per person\, payable at the event. Please bring a dish to share. Watch for an email with a link to respond via Sign-up Genius so we will know how many to expect. \n  \n 
URL:https://grpickleball.com/event/grpc-holiday-party-3/
LOCATION:GRRF\, 4940 Plainfield Ave NE\, Grand Rapids\, MI\, 49525\, United States
CATEGORIES:Club Sponsored,GRPC Members Only,Social Event
ATTACH;FMTTYPE=image/webp:https://grpickleball.com/wp-content/uploads/2023/11/IMG_0828.webp
END:VEVENT
BEGIN:VEVENT
DTSTART;VALUE=DATE:20260424
DTEND;VALUE=DATE:20260427
DTSTAMP:20260424T112817
CREATED:20250915T144002Z
LAST-MODIFIED:20260209T182747Z
UID:10002176-1776988800-1777247999@grpickleball.com
SUMMARY:Earth Day Open Tournament
DESCRIPTION:Earth Day Open tournament powered by Revolin Sports. \nThe tournament is a round-robin event with singles\, gendered doubles\, and mixed doubles. \nAll Belknap courts are reserved for the event. \nRegistration is open until April 15. \nhttps://pickleballtournaments.com/tournaments/2026-grpc-earth-day-open-powered-by-revolin-sports
URL:https://grpickleball.com/event/earth-day-open-tournament/
LOCATION:Belknap Park\, 30 Coldbrook St NE\, Grand Rapids\, MI\, 49503\, United States
CATEGORIES:Club Sponsored,Tournament
ATTACH;FMTTYPE=image/webp:https://grpickleball.com/wp-content/uploads/2025/09/IMG_0170.webp
END:VEVENT
BEGIN:VEVENT
DTSTART;TZID=America/Detroit:20260505T090000
DTEND;TZID=America/Detroit:20260505T110000
DTSTAMP:20260424T112817
CREATED:20260317T173623Z
LAST-MODIFIED:20260317T181749Z
UID:10002373-1777971600-1777978800@grpickleball.com
SUMMARY:GRPC Legacy Group (Men’s 70+)
DESCRIPTION:70+ age and GRPC membership required\nCourts 18 – 21 reserved\n\nCourt format: 3 intermediate\, 3 advanced. The format will be adjusted to accommodate the number of players and skill levels.\n\nPlayer rotation: After the completion of a game\, winners stay and split\, and 2 new players join for the next game.\n\nIf interested in playing with this group\, please contact:\nLarry Walters\n\nmrwalter2000@yahoo.com
URL:https://grpickleball.com/event/grpc-legacy-group-mens-70-17-2/2026-05-05/
LOCATION:MI
CATEGORIES:Club Sponsored,GRPC Members Only,Organized Play
ATTACH;FMTTYPE=image/png:https://grpickleball.com/wp-content/uploads/2021/07/Screen-Shot-2021-07-22-at-11.30.22-AM-e1651329329657.png
ORGANIZER;CN="Larry Walters":MAILTO:mrwalter2000@yahoo.com
END:VEVENT
BEGIN:VEVENT
DTSTART;TZID=America/Detroit:20260505T090000
DTEND;TZID=America/Detroit:20260505T110000
DTSTAMP:20260424T112817
CREATED:20260317T174352Z
LAST-MODIFIED:20260317T211940Z
UID:10002300-1777971600-1777978800@grpickleball.com
SUMMARY:Women's 70+ Legacy Open Play
DESCRIPTION:Women’s 70+ Legacy Open Play\nMembership in the Grand Rapids Pickleball Club is required\nCourts 7-10 are reserved for this event\n9:00 am to 11:00 am
URL:https://grpickleball.com/event/womens-70-legacy-open-play-2/2026-05-05/
LOCATION:Belknap Park\, 30 Coldbrook St NE\, Grand Rapids\, MI\, 49503\, United States
CATEGORIES:GRPC Members Only,Organized Play
ATTACH;FMTTYPE=image/png:https://grpickleball.com/wp-content/uploads/2026/03/IMG_0176.png
END:VEVENT
BEGIN:VEVENT
DTSTART;TZID=America/Detroit:20260506T170000
DTEND;TZID=America/Detroit:20260506T190000
DTSTAMP:20260424T112817
CREATED:20260317T172326Z
LAST-MODIFIED:20260413T201504Z
UID:10002220-1778086800-1778094000@grpickleball.com
SUMMARY:Youth Drop-In Play
DESCRIPTION:Youth Drop-In Play offers structured play to junior players age 8-17. This event is appropriate for junior players of all skill levels; however\, attendees should have a basic understanding of scorekeeping and general pickleball rules. The youth will be organized based on skill levels and supervised by adult members of the Grand Rapids Pickleball Club. The majority of the time will be game play with some occasional instruction and low pressure competitions. Club membership is not required. \nThis event is free\, but registration is limited to 28 participants. Registration required at GRPC Events.
URL:https://grpickleball.com/event/junior-ladder-league/2026-05-06/
LOCATION:Belknap Park\, 30 Coldbrook St NE\, Grand Rapids\, MI\, 49503\, United States
CATEGORIES:Club Sponsored,Junior Play
ATTACH;FMTTYPE=image/png:https://grpickleball.com/wp-content/uploads/2026/03/IMG_0175.png
ORGANIZER;CN="Scott Verkaik":MAILTO:scottverkaik@gmail.com
END:VEVENT
END:VCALENDAR