BEGIN:VCALENDAR
VERSION:2.0
PRODID:-//Grand Rapids Pickleball Club - ECPv6.15.16.1//NONSGML v1.0//EN
CALSCALE:GREGORIAN
METHOD:PUBLISH
X-ORIGINAL-URL:https://grpickleball.com
X-WR-CALDESC:Events for Grand Rapids Pickleball Club
REFRESH-INTERVAL;VALUE=DURATION:PT1H
X-Robots-Tag:noindex
X-PUBLISHED-TTL:PT1H
BEGIN:VTIMEZONE
TZID:America/Detroit
BEGIN:DAYLIGHT
TZOFFSETFROM:-0500
TZOFFSETTO:-0400
TZNAME:EDT
DTSTART:20240310T070000
END:DAYLIGHT
BEGIN:STANDARD
TZOFFSETFROM:-0400
TZOFFSETTO:-0500
TZNAME:EST
DTSTART:20241103T060000
END:STANDARD
BEGIN:DAYLIGHT
TZOFFSETFROM:-0500
TZOFFSETTO:-0400
TZNAME:EDT
DTSTART:20250309T070000
END:DAYLIGHT
BEGIN:STANDARD
TZOFFSETFROM:-0400
TZOFFSETTO:-0500
TZNAME:EST
DTSTART:20251102T060000
END:STANDARD
BEGIN:DAYLIGHT
TZOFFSETFROM:-0500
TZOFFSETTO:-0400
TZNAME:EDT
DTSTART:20260308T070000
END:DAYLIGHT
BEGIN:STANDARD
TZOFFSETFROM:-0400
TZOFFSETTO:-0500
TZNAME:EST
DTSTART:20261101T060000
END:STANDARD
END:VTIMEZONE
BEGIN:VEVENT
DTSTART;TZID=America/Detroit:20250617T090000
DTEND;TZID=America/Detroit:20250617T110000
DTSTAMP:20260423T210806
CREATED:20250320T142416Z
LAST-MODIFIED:20250322T135829Z
UID:10002043-1750150800-1750158000@grpickleball.com
SUMMARY:GRPC Legacy Group (Men’s 70+)
DESCRIPTION:70+ age and GRPC membership required\nCourts 18 – 21 reserved\n\nCourt format: 3 intermediate\, 3 advanced. The format will be adjusted to accommodate the number of players and skill levels.\n\nPlayer rotation: After the completion of a game\, winners stay and split\, and 2 new players join for the next game.\n\nIf interested in playing with this group\, please contact:\nLarry Walters\n\nmrwalter2000@yahoo.com
URL:https://grpickleball.com/event/grpc-legacy-group-mens-70-17/2025-06-17/
LOCATION:MI
CATEGORIES:Club Sponsored,GRPC Members Only,Organized Play
ATTACH;FMTTYPE=image/png:https://grpickleball.com/wp-content/uploads/2021/07/Screen-Shot-2021-07-22-at-11.30.22-AM-e1651329329657.png
ORGANIZER;CN="Larry Walters":MAILTO:mrwalter2000@yahoo.com
END:VEVENT
BEGIN:VEVENT
DTSTART;TZID=America/Detroit:20250617T090000
DTEND;TZID=America/Detroit:20250617T110000
DTSTAMP:20260423T210806
CREATED:20250320T141612Z
LAST-MODIFIED:20250320T142106Z
UID:10002076-1750150800-1750158000@grpickleball.com
SUMMARY:Women's 70+ Legacy Open Play
DESCRIPTION:Women’s 70+ Legacy Open Play\nMembership in the Grand Rapids Pickleball Club is required\nCourts 7-10 are reserved for this event\n9:00 am to 11:00 am
URL:https://grpickleball.com/event/womens-70-legacy-open-play/2025-06-17/
LOCATION:Belknap Park\, 30 Coldbrook St NE\, Grand Rapids\, MI\, 49503\, United States
CATEGORIES:GRPC Members Only,Organized Play
END:VEVENT
BEGIN:VEVENT
DTSTART;TZID=America/Detroit:20250616T180000
DTEND;TZID=America/Detroit:20250616T204500
DTSTAMP:20260423T210806
CREATED:20250608T120054Z
LAST-MODIFIED:20250522T020501Z
UID:10001956-1750096800-1750106700@grpickleball.com
SUMMARY:Drilling
DESCRIPTION:The focus of the GRPC Drill Program will be on skill repetition and exposure to theme-\nspecific drills. You will also have the opportunity to meet some of our local instructors\nwho can help you further your game.  \nSession 1:  6:00pm to 7:15pm (3.4 and below)            \nSession 2:  7:30pm to 8:45pm (3.5 and above)                                                                                                  \nLimited to 16 people per session. \nFee: $12 members; $18 nonmembers \nCourts 7-10 are reserved for this event. \nClick HERE to sign up
URL:https://grpickleball.com/event/drilling-3-4/
LOCATION:Belknap Park\, 30 Coldbrook St NE\, Grand Rapids\, MI\, 49503\, United States
CATEGORIES:Club Sponsored,Drilling
ATTACH;FMTTYPE=image/png:https://grpickleball.com/wp-content/uploads/2019/07/cropped-GRPC-favicon-1.png
ORGANIZER;CN="Janice Scharich":MAILTO:drilling@grpickleball.com
END:VEVENT
BEGIN:VEVENT
DTSTART;TZID=America/Detroit:20250612T090000
DTEND;TZID=America/Detroit:20250612T110000
DTSTAMP:20260423T210806
CREATED:20250308T180534Z
LAST-MODIFIED:20250313T151157Z
UID:10001935-1749718800-1749726000@grpickleball.com
SUMMARY:Organized Ladies’ Play
DESCRIPTION:Organized Ladies’ Play\, weather permitting. Every Thursday on Courts 5-15 from 9 to 11 am. You DO have to be a Grand Rapids Pickleball Club member. All levels are welcome. No sign-up is necessary; just show up ready to play. This is a fun\, social time where all levels are expected to play together.
URL:https://grpickleball.com/event/organized-ladies-play-23/2025-06-12/
LOCATION:Belknap Park\, 30 Coldbrook St NE\, Grand Rapids\, MI\, 49503\, United States
CATEGORIES:Organized Play
ATTACH;FMTTYPE=image/png:https://grpickleball.com/wp-content/uploads/2021/07/Screen-Shot-2021-07-22-at-11.30.22-AM-e1651329329657.png
END:VEVENT
BEGIN:VEVENT
DTSTART;TZID=America/Detroit:20250611T170000
DTEND;TZID=America/Detroit:20250611T200000
DTSTAMP:20260423T210806
CREATED:20250308T005947Z
LAST-MODIFIED:20250308T005947Z
UID:10001874-1749661200-1749672000@grpickleball.com
SUMMARY:Food Truck Wednesday
DESCRIPTION:Join us for Food Truck Wednesday from 5 to 8 pm (approximately). \nThis week’s Food Truck is Toasted Pineapple.
URL:https://grpickleball.com/event/food-truck-wednesday-11/
LOCATION:Belknap Park\, 30 Coldbrook St NE\, Grand Rapids\, MI\, 49503\, United States
CATEGORIES:Social Event
ATTACH;FMTTYPE=image/png:https://grpickleball.com/wp-content/uploads/2024/03/Screenshot-2024-03-14-at-1.10.23 PM.png
END:VEVENT
BEGIN:VEVENT
DTSTART;TZID=America/Detroit:20250610T173000
DTEND;TZID=America/Detroit:20250610T193000
DTSTAMP:20260423T210806
CREATED:20250420T232332Z
LAST-MODIFIED:20250619T133458Z
UID:10002106-1749576600-1749583800@grpickleball.com
SUMMARY:Introduction To Pickleball
DESCRIPTION:New to pickleball?  We have the class for you.  Build confidence\, learn the basics\, and prepare for social play! The Intro to Pickleball class is designed for the first-time adult player. Join the craze and have a blast!  We will have paddles and balls available. In the interest of allowing as many people as possible to attend this class\, we kindly request that you do not repeat attendance please. \nLed by Instructor Pati Sheldon \nDuration: 2 Hours \nFree to all players! \nCourts 7 and 9 at Belknap Park are reserved for this event. \nPlease Click Here to sign up!
URL:https://grpickleball.com/event/intro-to-pickleball/2025-06-10/
LOCATION:MI
CATEGORIES:Lessons
END:VEVENT
BEGIN:VEVENT
DTSTART;TZID=America/Detroit:20250610T090000
DTEND;TZID=America/Detroit:20250610T110000
DTSTAMP:20260423T210806
CREATED:20250320T142416Z
LAST-MODIFIED:20250322T135829Z
UID:10002042-1749546000-1749553200@grpickleball.com
SUMMARY:GRPC Legacy Group (Men’s 70+)
DESCRIPTION:70+ age and GRPC membership required\nCourts 18 – 21 reserved\n\nCourt format: 3 intermediate\, 3 advanced. The format will be adjusted to accommodate the number of players and skill levels.\n\nPlayer rotation: After the completion of a game\, winners stay and split\, and 2 new players join for the next game.\n\nIf interested in playing with this group\, please contact:\nLarry Walters\n\nmrwalter2000@yahoo.com
URL:https://grpickleball.com/event/grpc-legacy-group-mens-70-17/2025-06-10/
LOCATION:MI
CATEGORIES:Club Sponsored,GRPC Members Only,Organized Play
ATTACH;FMTTYPE=image/png:https://grpickleball.com/wp-content/uploads/2021/07/Screen-Shot-2021-07-22-at-11.30.22-AM-e1651329329657.png
ORGANIZER;CN="Larry Walters":MAILTO:mrwalter2000@yahoo.com
END:VEVENT
BEGIN:VEVENT
DTSTART;TZID=America/Detroit:20250610T090000
DTEND;TZID=America/Detroit:20250610T110000
DTSTAMP:20260423T210806
CREATED:20250320T141612Z
LAST-MODIFIED:20250320T142106Z
UID:10002075-1749546000-1749553200@grpickleball.com
SUMMARY:Women's 70+ Legacy Open Play
DESCRIPTION:Women’s 70+ Legacy Open Play\nMembership in the Grand Rapids Pickleball Club is required\nCourts 7-10 are reserved for this event\n9:00 am to 11:00 am
URL:https://grpickleball.com/event/womens-70-legacy-open-play/2025-06-10/
LOCATION:Belknap Park\, 30 Coldbrook St NE\, Grand Rapids\, MI\, 49503\, United States
CATEGORIES:GRPC Members Only,Organized Play
END:VEVENT
BEGIN:VEVENT
DTSTART;TZID=America/Detroit:20250609T180000
DTEND;TZID=America/Detroit:20250609T204500
DTSTAMP:20260423T210806
CREATED:20250601T120056Z
LAST-MODIFIED:20250522T015721Z
UID:10001955-1749492000-1749501900@grpickleball.com
SUMMARY:Drilling
DESCRIPTION:The focus of the GRPC Drill Program will be on skill repetition and exposure to theme-\nspecific drills. You will also have the opportunity to meet some of our local instructors\nwho can help you further your game.  \nSession 1:  6:00pm to 7:15pm (3.4 and below)            \nSession 2:  7:30pm to 8:45pm (3.5 and above)                                                                                                  \nLimited to 16 people per session. \nFee: $12 members; $18 nonmembers \nCourts 7-10 are reserved for this event. \nClick HERE to sign up
URL:https://grpickleball.com/event/drilling-3-3/
LOCATION:Belknap Park\, 30 Coldbrook St NE\, Grand Rapids\, MI\, 49503\, United States
CATEGORIES:Club Sponsored,Drilling
ATTACH;FMTTYPE=image/png:https://grpickleball.com/wp-content/uploads/2019/07/cropped-GRPC-favicon-1.png
ORGANIZER;CN="Janice Scharich":MAILTO:drilling@grpickleball.com
END:VEVENT
BEGIN:VEVENT
DTSTART;TZID=America/Detroit:20250608T173000
DTEND;TZID=America/Detroit:20250608T204500
DTSTAMP:20260423T210806
CREATED:20250428T014924Z
LAST-MODIFIED:20250511T191411Z
UID:10002147-1749403800-1749415500@grpickleball.com
SUMMARY:GRPC Ladder League - Session 1
DESCRIPTION:Must be a GRPC member to participate\nSession 1 will meet June 1\, 8\, 22\, 29. (June 8 may have a delayed start time due to Meijer State Games)\nRegistration fee is $40\nFrom 5:30 to 7 pm\, Women’s Session – Click Here to sign up and indicate DUPR\nFrom 7:15 to 8:45 pm\, Men’s Session – Click Here to sign up and indicate DUPR\nCourts 7-10 and Courts 16-21 are reserved for the GRPC Ladder League\nRegistration limited to 40 participants for each session\nPlayers will complete two rounds each night (6 matches)\nFranklin balls will be provided\nSubstitute List – Click Here
URL:https://grpickleball.com/event/grpc-ladder-league-session-1-2/2025-06-08/
LOCATION:Belknap Park\, 30 Coldbrook St NE\, Grand Rapids\, MI\, 49503\, United States
CATEGORIES:Club Sponsored,GRPC Members Only,League Play
ATTACH;FMTTYPE=image/jpeg:https://grpickleball.com/wp-content/uploads/2023/05/Belknap-Aerial-View-1.jpg
ORGANIZER;CN="Vamshi Vg":MAILTO:Vvamshi06@gmail.com
END:VEVENT
BEGIN:VEVENT
DTSTART;VALUE=DATE:20250606
DTEND;VALUE=DATE:20250609
DTSTAMP:20260423T210806
CREATED:20241015T001214Z
LAST-MODIFIED:20250505T030849Z
UID:10001836-1749168000-1749427199@grpickleball.com
SUMMARY:Meijer State Games of Michigan
DESCRIPTION:All courts reserved at Belknap for this event \nRegistration opens in the spring of 2025 \n 
URL:https://grpickleball.com/event/meijer-state-games-of-michigan-6/
LOCATION:Belknap Park\, 30 Coldbrook St NE\, Grand Rapids\, MI\, 49503\, United States
CATEGORIES:Tournament
ATTACH;FMTTYPE=image/png:https://grpickleball.com/wp-content/uploads/2023/04/Screenshot-2023-04-05-at-9.30.05-AM.png
END:VEVENT
BEGIN:VEVENT
DTSTART;TZID=America/Detroit:20250605T090000
DTEND;TZID=America/Detroit:20250605T110000
DTSTAMP:20260423T210807
CREATED:20250308T180534Z
LAST-MODIFIED:20250313T151157Z
UID:10001934-1749114000-1749121200@grpickleball.com
SUMMARY:Organized Ladies’ Play
DESCRIPTION:Organized Ladies’ Play\, weather permitting. Every Thursday on Courts 5-15 from 9 to 11 am. You DO have to be a Grand Rapids Pickleball Club member. All levels are welcome. No sign-up is necessary; just show up ready to play. This is a fun\, social time where all levels are expected to play together.
URL:https://grpickleball.com/event/organized-ladies-play-23/2025-06-05/
LOCATION:Belknap Park\, 30 Coldbrook St NE\, Grand Rapids\, MI\, 49503\, United States
CATEGORIES:Organized Play
ATTACH;FMTTYPE=image/png:https://grpickleball.com/wp-content/uploads/2021/07/Screen-Shot-2021-07-22-at-11.30.22-AM-e1651329329657.png
END:VEVENT
BEGIN:VEVENT
DTSTART;TZID=America/Detroit:20250604T170000
DTEND;TZID=America/Detroit:20250604T200000
DTSTAMP:20260423T210807
CREATED:20250308T005247Z
LAST-MODIFIED:20250308T005247Z
UID:10001869-1749056400-1749067200@grpickleball.com
SUMMARY:Food Truck Wednesday
DESCRIPTION:Join us for Food Truck Wednesday from 5 to 8 pm (approximately). \nThis week’s Food Truck is 616 Kabob.
URL:https://grpickleball.com/event/food-truck-wednesday-10/2025-06-04/
LOCATION:Belknap Park\, 30 Coldbrook St NE\, Grand Rapids\, MI\, 49503\, United States
CATEGORIES:Social Event
ATTACH;FMTTYPE=image/png:https://grpickleball.com/wp-content/uploads/2024/03/Screenshot-2024-03-14-at-1.10.23 PM.png
END:VEVENT
BEGIN:VEVENT
DTSTART;TZID=America/Detroit:20250603T173000
DTEND;TZID=America/Detroit:20250603T200000
DTSTAMP:20260423T210807
CREATED:20250308T160854Z
LAST-MODIFIED:20250716T202126Z
UID:10001889-1748971800-1748980800@grpickleball.com
SUMMARY:First-Timer Tourney Clinic
DESCRIPTION:Have you been playing pickleball for a while?  Considering a tournament\, but feel intimidated? \nAt the First-Timer Tourney Clinic\, you will learn how a tournament is run and how to participate in a tournament. No partner is needed\, though you may optionally choose one ahead of time.  Organizers will thoughtfully select partnerships for solo players. Round-robin format \nVeteran players/volunteers will be present courtside during the matches to offer assistance with scoring\, strategy\, shot selection\, and positioning. Come ready to play. Bring your paddle\, proper shoes\, and clothing. \nCourts 7-10 are reserved for this event. \nFee: $10 GRPC members; $20 nonmembers \nClick Here to sign up for the August 5\, 2025 event!
URL:https://grpickleball.com/event/first-timer-tourney-clinic-2/2025-06-03/
LOCATION:Belknap Park\, 30 Coldbrook St NE\, Grand Rapids\, MI\, 49503\, United States
CATEGORIES:Lessons,Tournament
ATTACH;FMTTYPE=image/png:https://grpickleball.com/wp-content/uploads/2019/07/cropped-GRPC-favicon.png
END:VEVENT
BEGIN:VEVENT
DTSTART;TZID=America/Detroit:20250603T090000
DTEND;TZID=America/Detroit:20250603T110000
DTSTAMP:20260423T210807
CREATED:20250320T142416Z
LAST-MODIFIED:20250322T135829Z
UID:10002041-1748941200-1748948400@grpickleball.com
SUMMARY:GRPC Legacy Group (Men’s 70+)
DESCRIPTION:70+ age and GRPC membership required\nCourts 18 – 21 reserved\n\nCourt format: 3 intermediate\, 3 advanced. The format will be adjusted to accommodate the number of players and skill levels.\n\nPlayer rotation: After the completion of a game\, winners stay and split\, and 2 new players join for the next game.\n\nIf interested in playing with this group\, please contact:\nLarry Walters\n\nmrwalter2000@yahoo.com
URL:https://grpickleball.com/event/grpc-legacy-group-mens-70-17/2025-06-03/
LOCATION:MI
CATEGORIES:Club Sponsored,GRPC Members Only,Organized Play
ATTACH;FMTTYPE=image/png:https://grpickleball.com/wp-content/uploads/2021/07/Screen-Shot-2021-07-22-at-11.30.22-AM-e1651329329657.png
ORGANIZER;CN="Larry Walters":MAILTO:mrwalter2000@yahoo.com
END:VEVENT
BEGIN:VEVENT
DTSTART;TZID=America/Detroit:20250603T090000
DTEND;TZID=America/Detroit:20250603T110000
DTSTAMP:20260423T210807
CREATED:20250320T141612Z
LAST-MODIFIED:20250320T142106Z
UID:10002074-1748941200-1748948400@grpickleball.com
SUMMARY:Women's 70+ Legacy Open Play
DESCRIPTION:Women’s 70+ Legacy Open Play\nMembership in the Grand Rapids Pickleball Club is required\nCourts 7-10 are reserved for this event\n9:00 am to 11:00 am
URL:https://grpickleball.com/event/womens-70-legacy-open-play/2025-06-03/
LOCATION:Belknap Park\, 30 Coldbrook St NE\, Grand Rapids\, MI\, 49503\, United States
CATEGORIES:GRPC Members Only,Organized Play
END:VEVENT
BEGIN:VEVENT
DTSTART;TZID=America/Detroit:20250602T180000
DTEND;TZID=America/Detroit:20250602T204500
DTSTAMP:20260423T210807
CREATED:20250525T120030Z
LAST-MODIFIED:20250518T000252Z
UID:10001954-1748887200-1748897100@grpickleball.com
SUMMARY:Drilling
DESCRIPTION:The focus of the GRPC Drill Program will be on skill repetition and exposure to theme-\nspecific drills. You will also have the opportunity to meet some of our local instructors\nwho can help you further your game.  \nSession 1:  6:00pm to 7:15pm (3.4 and below)            \nSession 2:  7:30pm to 8:45pm (3.5 and above)                                                                                                  \nLimited to 16 people per session. \nFee: $12 members; $18 nonmembers \nCourts 7-10 are reserved for this event. \nClick HERE to sign up
URL:https://grpickleball.com/event/drilling-3-2/
LOCATION:Belknap Park\, 30 Coldbrook St NE\, Grand Rapids\, MI\, 49503\, United States
CATEGORIES:Club Sponsored,Drilling
ATTACH;FMTTYPE=image/png:https://grpickleball.com/wp-content/uploads/2019/07/cropped-GRPC-favicon-1.png
ORGANIZER;CN="Janice Scharich":MAILTO:drilling@grpickleball.com
END:VEVENT
BEGIN:VEVENT
DTSTART;TZID=America/Detroit:20250601T173000
DTEND;TZID=America/Detroit:20250601T204500
DTSTAMP:20260423T210807
CREATED:20250428T014924Z
LAST-MODIFIED:20250511T191411Z
UID:10002121-1748799000-1748810700@grpickleball.com
SUMMARY:GRPC Ladder League - Session 1
DESCRIPTION:Must be a GRPC member to participate\nSession 1 will meet June 1\, 8\, 22\, 29. (June 8 may have a delayed start time due to Meijer State Games)\nRegistration fee is $40\nFrom 5:30 to 7 pm\, Women’s Session – Click Here to sign up and indicate DUPR\nFrom 7:15 to 8:45 pm\, Men’s Session – Click Here to sign up and indicate DUPR\nCourts 7-10 and Courts 16-21 are reserved for the GRPC Ladder League\nRegistration limited to 40 participants for each session\nPlayers will complete two rounds each night (6 matches)\nFranklin balls will be provided\nSubstitute List – Click Here
URL:https://grpickleball.com/event/grpc-ladder-league-session-1-2/2025-06-01/
LOCATION:Belknap Park\, 30 Coldbrook St NE\, Grand Rapids\, MI\, 49503\, United States
CATEGORIES:Club Sponsored,GRPC Members Only,League Play
ATTACH;FMTTYPE=image/jpeg:https://grpickleball.com/wp-content/uploads/2023/05/Belknap-Aerial-View-1.jpg
ORGANIZER;CN="Vamshi Vg":MAILTO:Vvamshi06@gmail.com
END:VEVENT
BEGIN:VEVENT
DTSTART;TZID=America/Detroit:20250529T090000
DTEND;TZID=America/Detroit:20250529T110000
DTSTAMP:20260423T210807
CREATED:20250308T180534Z
LAST-MODIFIED:20250313T151157Z
UID:10001933-1748509200-1748516400@grpickleball.com
SUMMARY:Organized Ladies’ Play
DESCRIPTION:Organized Ladies’ Play\, weather permitting. Every Thursday on Courts 5-15 from 9 to 11 am. You DO have to be a Grand Rapids Pickleball Club member. All levels are welcome. No sign-up is necessary; just show up ready to play. This is a fun\, social time where all levels are expected to play together.
URL:https://grpickleball.com/event/organized-ladies-play-23/2025-05-29/
LOCATION:Belknap Park\, 30 Coldbrook St NE\, Grand Rapids\, MI\, 49503\, United States
CATEGORIES:Organized Play
ATTACH;FMTTYPE=image/png:https://grpickleball.com/wp-content/uploads/2021/07/Screen-Shot-2021-07-22-at-11.30.22-AM-e1651329329657.png
END:VEVENT
BEGIN:VEVENT
DTSTART;TZID=America/Detroit:20250528T170000
DTEND;TZID=America/Detroit:20250528T200000
DTSTAMP:20260423T210807
CREATED:20250308T002500Z
LAST-MODIFIED:20250308T002730Z
UID:10001861-1748451600-1748462400@grpickleball.com
SUMMARY:Food Truck Wednesday
DESCRIPTION:Join us for Food Truck Wednesday from 5 to 8 pm (approximately). \nThis week’s Food Truck is Pizza Parliament.
URL:https://grpickleball.com/event/food-truck-wednesday-8/
LOCATION:Belknap Park\, 30 Coldbrook St NE\, Grand Rapids\, MI\, 49503\, United States
CATEGORIES:Social Event
ATTACH;FMTTYPE=image/png:https://grpickleball.com/wp-content/uploads/2024/03/Screenshot-2024-03-14-at-1.10.23 PM.png
END:VEVENT
BEGIN:VEVENT
DTSTART;TZID=America/Detroit:20250527T173000
DTEND;TZID=America/Detroit:20250527T193000
DTSTAMP:20260423T210807
CREATED:20250420T232332Z
LAST-MODIFIED:20250619T133458Z
UID:10002105-1748367000-1748374200@grpickleball.com
SUMMARY:Introduction To Pickleball
DESCRIPTION:New to pickleball?  We have the class for you.  Build confidence\, learn the basics\, and prepare for social play! The Intro to Pickleball class is designed for the first-time adult player. Join the craze and have a blast!  We will have paddles and balls available. In the interest of allowing as many people as possible to attend this class\, we kindly request that you do not repeat attendance please. \nLed by Instructor Pati Sheldon \nDuration: 2 Hours \nFree to all players! \nCourts 7 and 9 at Belknap Park are reserved for this event. \nPlease Click Here to sign up!
URL:https://grpickleball.com/event/intro-to-pickleball/2025-05-27/
LOCATION:MI
CATEGORIES:Lessons
END:VEVENT
BEGIN:VEVENT
DTSTART;TZID=America/Detroit:20250527T090000
DTEND;TZID=America/Detroit:20250527T110000
DTSTAMP:20260423T210807
CREATED:20250320T142416Z
LAST-MODIFIED:20250322T135829Z
UID:10002040-1748336400-1748343600@grpickleball.com
SUMMARY:GRPC Legacy Group (Men’s 70+)
DESCRIPTION:70+ age and GRPC membership required\nCourts 18 – 21 reserved\n\nCourt format: 3 intermediate\, 3 advanced. The format will be adjusted to accommodate the number of players and skill levels.\n\nPlayer rotation: After the completion of a game\, winners stay and split\, and 2 new players join for the next game.\n\nIf interested in playing with this group\, please contact:\nLarry Walters\n\nmrwalter2000@yahoo.com
URL:https://grpickleball.com/event/grpc-legacy-group-mens-70-17/2025-05-27/
LOCATION:MI
CATEGORIES:Club Sponsored,GRPC Members Only,Organized Play
ATTACH;FMTTYPE=image/png:https://grpickleball.com/wp-content/uploads/2021/07/Screen-Shot-2021-07-22-at-11.30.22-AM-e1651329329657.png
ORGANIZER;CN="Larry Walters":MAILTO:mrwalter2000@yahoo.com
END:VEVENT
BEGIN:VEVENT
DTSTART;TZID=America/Detroit:20250527T090000
DTEND;TZID=America/Detroit:20250527T110000
DTSTAMP:20260423T210807
CREATED:20250320T141612Z
LAST-MODIFIED:20250320T142106Z
UID:10002094-1748336400-1748343600@grpickleball.com
SUMMARY:Women's 70+ Legacy Open Play
DESCRIPTION:Women’s 70+ Legacy Open Play\nMembership in the Grand Rapids Pickleball Club is required\nCourts 7-10 are reserved for this event\n9:00 am to 11:00 am
URL:https://grpickleball.com/event/womens-70-legacy-open-play/2025-05-27/
LOCATION:Belknap Park\, 30 Coldbrook St NE\, Grand Rapids\, MI\, 49503\, United States
CATEGORIES:GRPC Members Only,Organized Play
END:VEVENT
BEGIN:VEVENT
DTSTART;TZID=America/Detroit:20250526T170000
DTEND;TZID=America/Detroit:20250526T170000
DTSTAMP:20260423T210807
CREATED:20250425T153323Z
LAST-MODIFIED:20250425T153323Z
UID:10002120-1748278800-1748278800@grpickleball.com
SUMMARY:GRPC Annual Meeting and Potluck
DESCRIPTION:On May 26th\, we will hold the GRPC Annual Meeting.  During the annual meeting\, there will be a potluck for our members.  Enjoy Memorial Day by coming to Belknap to play pickleball\, enjoy time with fellow members\, attend the annual meeting\, and have dinner.  The Club will provide hotdogs\, brats\, and beverages.  Please bring a dish to contribute to the potluck.  The dinner will begin at 5:00 pm\, and the meeting will be held at 5:30 pm. Hope to see you there.  Play PB before\, after\, or both!
URL:https://grpickleball.com/event/grpc-annual-meeting-and-potluck/
LOCATION:Belknap Park\, 30 Coldbrook St NE\, Grand Rapids\, MI\, 49503\, United States
CATEGORIES:Club Sponsored,GRPC Members Only,Meeting
END:VEVENT
BEGIN:VEVENT
DTSTART;TZID=America/Detroit:20250522T090000
DTEND;TZID=America/Detroit:20250522T110000
DTSTAMP:20260423T210807
CREATED:20250308T180534Z
LAST-MODIFIED:20250313T151157Z
UID:10001932-1747904400-1747911600@grpickleball.com
SUMMARY:Organized Ladies’ Play
DESCRIPTION:Organized Ladies’ Play\, weather permitting. Every Thursday on Courts 5-15 from 9 to 11 am. You DO have to be a Grand Rapids Pickleball Club member. All levels are welcome. No sign-up is necessary; just show up ready to play. This is a fun\, social time where all levels are expected to play together.
URL:https://grpickleball.com/event/organized-ladies-play-23/2025-05-22/
LOCATION:Belknap Park\, 30 Coldbrook St NE\, Grand Rapids\, MI\, 49503\, United States
CATEGORIES:Organized Play
ATTACH;FMTTYPE=image/png:https://grpickleball.com/wp-content/uploads/2021/07/Screen-Shot-2021-07-22-at-11.30.22-AM-e1651329329657.png
END:VEVENT
BEGIN:VEVENT
DTSTART;TZID=America/Detroit:20250520T173000
DTEND;TZID=America/Detroit:20250520T193000
DTSTAMP:20260423T210807
CREATED:20250420T232332Z
LAST-MODIFIED:20250619T133458Z
UID:10002104-1747762200-1747769400@grpickleball.com
SUMMARY:Introduction To Pickleball
DESCRIPTION:New to pickleball?  We have the class for you.  Build confidence\, learn the basics\, and prepare for social play! The Intro to Pickleball class is designed for the first-time adult player. Join the craze and have a blast!  We will have paddles and balls available. In the interest of allowing as many people as possible to attend this class\, we kindly request that you do not repeat attendance please. \nLed by Instructor Pati Sheldon \nDuration: 2 Hours \nFree to all players! \nCourts 7 and 9 at Belknap Park are reserved for this event. \nPlease Click Here to sign up!
URL:https://grpickleball.com/event/intro-to-pickleball/2025-05-20/
LOCATION:MI
CATEGORIES:Lessons
END:VEVENT
BEGIN:VEVENT
DTSTART;TZID=America/Detroit:20250520T090000
DTEND;TZID=America/Detroit:20250520T110000
DTSTAMP:20260423T210807
CREATED:20250320T142416Z
LAST-MODIFIED:20250322T135829Z
UID:10002039-1747731600-1747738800@grpickleball.com
SUMMARY:GRPC Legacy Group (Men’s 70+)
DESCRIPTION:70+ age and GRPC membership required\nCourts 18 – 21 reserved\n\nCourt format: 3 intermediate\, 3 advanced. The format will be adjusted to accommodate the number of players and skill levels.\n\nPlayer rotation: After the completion of a game\, winners stay and split\, and 2 new players join for the next game.\n\nIf interested in playing with this group\, please contact:\nLarry Walters\n\nmrwalter2000@yahoo.com
URL:https://grpickleball.com/event/grpc-legacy-group-mens-70-17/2025-05-20/
LOCATION:MI
CATEGORIES:Club Sponsored,GRPC Members Only,Organized Play
ATTACH;FMTTYPE=image/png:https://grpickleball.com/wp-content/uploads/2021/07/Screen-Shot-2021-07-22-at-11.30.22-AM-e1651329329657.png
ORGANIZER;CN="Larry Walters":MAILTO:mrwalter2000@yahoo.com
END:VEVENT
BEGIN:VEVENT
DTSTART;TZID=America/Detroit:20250520T090000
DTEND;TZID=America/Detroit:20250520T110000
DTSTAMP:20260423T210807
CREATED:20250320T141612Z
LAST-MODIFIED:20250320T142106Z
UID:10002093-1747731600-1747738800@grpickleball.com
SUMMARY:Women's 70+ Legacy Open Play
DESCRIPTION:Women’s 70+ Legacy Open Play\nMembership in the Grand Rapids Pickleball Club is required\nCourts 7-10 are reserved for this event\n9:00 am to 11:00 am
URL:https://grpickleball.com/event/womens-70-legacy-open-play/2025-05-20/
LOCATION:Belknap Park\, 30 Coldbrook St NE\, Grand Rapids\, MI\, 49503\, United States
CATEGORIES:GRPC Members Only,Organized Play
END:VEVENT
BEGIN:VEVENT
DTSTART;TZID=America/Detroit:20250516T183000
DTEND;TZID=America/Detroit:20250516T223000
DTSTAMP:20260423T210807
CREATED:20250308T190648Z
LAST-MODIFIED:20250308T190648Z
UID:10001984-1747420200-1747434600@grpickleball.com
SUMMARY:Friday Night Lights
DESCRIPTION:It’s a fun tournament under the lights for GRPC members only. \nDetails will be posted on the GRPC Facebook page as the event gets closer to the date. \nAll courts are reserved for FNL.
URL:https://grpickleball.com/event/friday-night-lights-13/2025-05-16/
LOCATION:Belknap Park\, 30 Coldbrook St NE\, Grand Rapids\, MI\, 49503\, United States
CATEGORIES:Club Sponsored,FNL,GRPC Members Only,Tournament
ATTACH;FMTTYPE=image/png:https://grpickleball.com/wp-content/uploads/2022/04/Screen-Shot-2022-04-30-at-11.07.51-AM-e1651331824206.png
END:VEVENT
BEGIN:VEVENT
DTSTART;TZID=America/Detroit:20250515T090000
DTEND;TZID=America/Detroit:20250515T110000
DTSTAMP:20260423T210807
CREATED:20250308T180534Z
LAST-MODIFIED:20250313T151157Z
UID:10001931-1747299600-1747306800@grpickleball.com
SUMMARY:Organized Ladies’ Play
DESCRIPTION:Organized Ladies’ Play\, weather permitting. Every Thursday on Courts 5-15 from 9 to 11 am. You DO have to be a Grand Rapids Pickleball Club member. All levels are welcome. No sign-up is necessary; just show up ready to play. This is a fun\, social time where all levels are expected to play together.
URL:https://grpickleball.com/event/organized-ladies-play-23/2025-05-15/
LOCATION:Belknap Park\, 30 Coldbrook St NE\, Grand Rapids\, MI\, 49503\, United States
CATEGORIES:Organized Play
ATTACH;FMTTYPE=image/png:https://grpickleball.com/wp-content/uploads/2021/07/Screen-Shot-2021-07-22-at-11.30.22-AM-e1651329329657.png
END:VEVENT
END:VCALENDAR