BEGIN:VCALENDAR
VERSION:2.0
PRODID:-//Grand Rapids Pickleball Club - ECPv6.15.16.1//NONSGML v1.0//EN
CALSCALE:GREGORIAN
METHOD:PUBLISH
X-WR-CALNAME:Grand Rapids Pickleball Club
X-ORIGINAL-URL:https://grpickleball.com
X-WR-CALDESC:Events for Grand Rapids Pickleball Club
REFRESH-INTERVAL;VALUE=DURATION:PT1H
X-Robots-Tag:noindex
X-PUBLISHED-TTL:PT1H
BEGIN:VTIMEZONE
TZID:America/Detroit
BEGIN:DAYLIGHT
TZOFFSETFROM:-0500
TZOFFSETTO:-0400
TZNAME:EDT
DTSTART:20230312T070000
END:DAYLIGHT
BEGIN:STANDARD
TZOFFSETFROM:-0400
TZOFFSETTO:-0500
TZNAME:EST
DTSTART:20231105T060000
END:STANDARD
BEGIN:DAYLIGHT
TZOFFSETFROM:-0500
TZOFFSETTO:-0400
TZNAME:EDT
DTSTART:20240310T070000
END:DAYLIGHT
BEGIN:STANDARD
TZOFFSETFROM:-0400
TZOFFSETTO:-0500
TZNAME:EST
DTSTART:20241103T060000
END:STANDARD
BEGIN:DAYLIGHT
TZOFFSETFROM:-0500
TZOFFSETTO:-0400
TZNAME:EDT
DTSTART:20250309T070000
END:DAYLIGHT
BEGIN:STANDARD
TZOFFSETFROM:-0400
TZOFFSETTO:-0500
TZNAME:EST
DTSTART:20251102T060000
END:STANDARD
BEGIN:DAYLIGHT
TZOFFSETFROM:-0500
TZOFFSETTO:-0400
TZNAME:EDT
DTSTART:20260308T070000
END:DAYLIGHT
BEGIN:STANDARD
TZOFFSETFROM:-0400
TZOFFSETTO:-0500
TZNAME:EST
DTSTART:20261101T060000
END:STANDARD
END:VTIMEZONE
BEGIN:VEVENT
DTSTART;TZID=America/Detroit:20250527T173000
DTEND;TZID=America/Detroit:20250527T193000
DTSTAMP:20260424T044521
CREATED:20250420T232332Z
LAST-MODIFIED:20250619T133458Z
UID:10002105-1748367000-1748374200@grpickleball.com
SUMMARY:Introduction To Pickleball
DESCRIPTION:New to pickleball?  We have the class for you.  Build confidence\, learn the basics\, and prepare for social play! The Intro to Pickleball class is designed for the first-time adult player. Join the craze and have a blast!  We will have paddles and balls available. In the interest of allowing as many people as possible to attend this class\, we kindly request that you do not repeat attendance please. \nLed by Instructor Pati Sheldon \nDuration: 2 Hours \nFree to all players! \nCourts 7 and 9 at Belknap Park are reserved for this event. \nPlease Click Here to sign up!
URL:https://grpickleball.com/event/intro-to-pickleball/2025-05-27/
LOCATION:MI
CATEGORIES:Lessons
END:VEVENT
BEGIN:VEVENT
DTSTART;TZID=America/Detroit:20250527T090000
DTEND;TZID=America/Detroit:20250527T110000
DTSTAMP:20260424T044521
CREATED:20250320T142416Z
LAST-MODIFIED:20250322T135829Z
UID:10002040-1748336400-1748343600@grpickleball.com
SUMMARY:GRPC Legacy Group (Men’s 70+)
DESCRIPTION:70+ age and GRPC membership required\nCourts 18 – 21 reserved\n\nCourt format: 3 intermediate\, 3 advanced. The format will be adjusted to accommodate the number of players and skill levels.\n\nPlayer rotation: After the completion of a game\, winners stay and split\, and 2 new players join for the next game.\n\nIf interested in playing with this group\, please contact:\nLarry Walters\n\nmrwalter2000@yahoo.com
URL:https://grpickleball.com/event/grpc-legacy-group-mens-70-17/2025-05-27/
LOCATION:MI
CATEGORIES:Club Sponsored,GRPC Members Only,Organized Play
ATTACH;FMTTYPE=image/png:https://grpickleball.com/wp-content/uploads/2021/07/Screen-Shot-2021-07-22-at-11.30.22-AM-e1651329329657.png
ORGANIZER;CN="Larry Walters":MAILTO:mrwalter2000@yahoo.com
END:VEVENT
BEGIN:VEVENT
DTSTART;TZID=America/Detroit:20250527T090000
DTEND;TZID=America/Detroit:20250527T110000
DTSTAMP:20260424T044521
CREATED:20250320T141612Z
LAST-MODIFIED:20250320T142106Z
UID:10002094-1748336400-1748343600@grpickleball.com
SUMMARY:Women's 70+ Legacy Open Play
DESCRIPTION:Women’s 70+ Legacy Open Play\nMembership in the Grand Rapids Pickleball Club is required\nCourts 7-10 are reserved for this event\n9:00 am to 11:00 am
URL:https://grpickleball.com/event/womens-70-legacy-open-play/2025-05-27/
LOCATION:Belknap Park\, 30 Coldbrook St NE\, Grand Rapids\, MI\, 49503\, United States
CATEGORIES:GRPC Members Only,Organized Play
END:VEVENT
BEGIN:VEVENT
DTSTART;TZID=America/Detroit:20250526T170000
DTEND;TZID=America/Detroit:20250526T170000
DTSTAMP:20260424T044521
CREATED:20250425T153323Z
LAST-MODIFIED:20250425T153323Z
UID:10002120-1748278800-1748278800@grpickleball.com
SUMMARY:GRPC Annual Meeting and Potluck
DESCRIPTION:On May 26th\, we will hold the GRPC Annual Meeting.  During the annual meeting\, there will be a potluck for our members.  Enjoy Memorial Day by coming to Belknap to play pickleball\, enjoy time with fellow members\, attend the annual meeting\, and have dinner.  The Club will provide hotdogs\, brats\, and beverages.  Please bring a dish to contribute to the potluck.  The dinner will begin at 5:00 pm\, and the meeting will be held at 5:30 pm. Hope to see you there.  Play PB before\, after\, or both!
URL:https://grpickleball.com/event/grpc-annual-meeting-and-potluck/
LOCATION:Belknap Park\, 30 Coldbrook St NE\, Grand Rapids\, MI\, 49503\, United States
CATEGORIES:Club Sponsored,GRPC Members Only,Meeting
END:VEVENT
BEGIN:VEVENT
DTSTART;TZID=America/Detroit:20250522T090000
DTEND;TZID=America/Detroit:20250522T110000
DTSTAMP:20260424T044521
CREATED:20250308T180534Z
LAST-MODIFIED:20250313T151157Z
UID:10001932-1747904400-1747911600@grpickleball.com
SUMMARY:Organized Ladies’ Play
DESCRIPTION:Organized Ladies’ Play\, weather permitting. Every Thursday on Courts 5-15 from 9 to 11 am. You DO have to be a Grand Rapids Pickleball Club member. All levels are welcome. No sign-up is necessary; just show up ready to play. This is a fun\, social time where all levels are expected to play together.
URL:https://grpickleball.com/event/organized-ladies-play-23/2025-05-22/
LOCATION:Belknap Park\, 30 Coldbrook St NE\, Grand Rapids\, MI\, 49503\, United States
CATEGORIES:Organized Play
ATTACH;FMTTYPE=image/png:https://grpickleball.com/wp-content/uploads/2021/07/Screen-Shot-2021-07-22-at-11.30.22-AM-e1651329329657.png
END:VEVENT
BEGIN:VEVENT
DTSTART;TZID=America/Detroit:20250520T173000
DTEND;TZID=America/Detroit:20250520T193000
DTSTAMP:20260424T044521
CREATED:20250420T232332Z
LAST-MODIFIED:20250619T133458Z
UID:10002104-1747762200-1747769400@grpickleball.com
SUMMARY:Introduction To Pickleball
DESCRIPTION:New to pickleball?  We have the class for you.  Build confidence\, learn the basics\, and prepare for social play! The Intro to Pickleball class is designed for the first-time adult player. Join the craze and have a blast!  We will have paddles and balls available. In the interest of allowing as many people as possible to attend this class\, we kindly request that you do not repeat attendance please. \nLed by Instructor Pati Sheldon \nDuration: 2 Hours \nFree to all players! \nCourts 7 and 9 at Belknap Park are reserved for this event. \nPlease Click Here to sign up!
URL:https://grpickleball.com/event/intro-to-pickleball/2025-05-20/
LOCATION:MI
CATEGORIES:Lessons
END:VEVENT
BEGIN:VEVENT
DTSTART;TZID=America/Detroit:20250520T090000
DTEND;TZID=America/Detroit:20250520T110000
DTSTAMP:20260424T044521
CREATED:20250320T142416Z
LAST-MODIFIED:20250322T135829Z
UID:10002039-1747731600-1747738800@grpickleball.com
SUMMARY:GRPC Legacy Group (Men’s 70+)
DESCRIPTION:70+ age and GRPC membership required\nCourts 18 – 21 reserved\n\nCourt format: 3 intermediate\, 3 advanced. The format will be adjusted to accommodate the number of players and skill levels.\n\nPlayer rotation: After the completion of a game\, winners stay and split\, and 2 new players join for the next game.\n\nIf interested in playing with this group\, please contact:\nLarry Walters\n\nmrwalter2000@yahoo.com
URL:https://grpickleball.com/event/grpc-legacy-group-mens-70-17/2025-05-20/
LOCATION:MI
CATEGORIES:Club Sponsored,GRPC Members Only,Organized Play
ATTACH;FMTTYPE=image/png:https://grpickleball.com/wp-content/uploads/2021/07/Screen-Shot-2021-07-22-at-11.30.22-AM-e1651329329657.png
ORGANIZER;CN="Larry Walters":MAILTO:mrwalter2000@yahoo.com
END:VEVENT
BEGIN:VEVENT
DTSTART;TZID=America/Detroit:20250520T090000
DTEND;TZID=America/Detroit:20250520T110000
DTSTAMP:20260424T044521
CREATED:20250320T141612Z
LAST-MODIFIED:20250320T142106Z
UID:10002093-1747731600-1747738800@grpickleball.com
SUMMARY:Women's 70+ Legacy Open Play
DESCRIPTION:Women’s 70+ Legacy Open Play\nMembership in the Grand Rapids Pickleball Club is required\nCourts 7-10 are reserved for this event\n9:00 am to 11:00 am
URL:https://grpickleball.com/event/womens-70-legacy-open-play/2025-05-20/
LOCATION:Belknap Park\, 30 Coldbrook St NE\, Grand Rapids\, MI\, 49503\, United States
CATEGORIES:GRPC Members Only,Organized Play
END:VEVENT
BEGIN:VEVENT
DTSTART;TZID=America/Detroit:20250516T183000
DTEND;TZID=America/Detroit:20250516T223000
DTSTAMP:20260424T044521
CREATED:20250308T190648Z
LAST-MODIFIED:20250308T190648Z
UID:10001984-1747420200-1747434600@grpickleball.com
SUMMARY:Friday Night Lights
DESCRIPTION:It’s a fun tournament under the lights for GRPC members only. \nDetails will be posted on the GRPC Facebook page as the event gets closer to the date. \nAll courts are reserved for FNL.
URL:https://grpickleball.com/event/friday-night-lights-13/2025-05-16/
LOCATION:Belknap Park\, 30 Coldbrook St NE\, Grand Rapids\, MI\, 49503\, United States
CATEGORIES:Club Sponsored,FNL,GRPC Members Only,Tournament
ATTACH;FMTTYPE=image/png:https://grpickleball.com/wp-content/uploads/2022/04/Screen-Shot-2022-04-30-at-11.07.51-AM-e1651331824206.png
END:VEVENT
BEGIN:VEVENT
DTSTART;TZID=America/Detroit:20250515T090000
DTEND;TZID=America/Detroit:20250515T110000
DTSTAMP:20260424T044521
CREATED:20250308T180534Z
LAST-MODIFIED:20250313T151157Z
UID:10001931-1747299600-1747306800@grpickleball.com
SUMMARY:Organized Ladies’ Play
DESCRIPTION:Organized Ladies’ Play\, weather permitting. Every Thursday on Courts 5-15 from 9 to 11 am. You DO have to be a Grand Rapids Pickleball Club member. All levels are welcome. No sign-up is necessary; just show up ready to play. This is a fun\, social time where all levels are expected to play together.
URL:https://grpickleball.com/event/organized-ladies-play-23/2025-05-15/
LOCATION:Belknap Park\, 30 Coldbrook St NE\, Grand Rapids\, MI\, 49503\, United States
CATEGORIES:Organized Play
ATTACH;FMTTYPE=image/png:https://grpickleball.com/wp-content/uploads/2021/07/Screen-Shot-2021-07-22-at-11.30.22-AM-e1651329329657.png
END:VEVENT
BEGIN:VEVENT
DTSTART;TZID=America/Detroit:20250513T173000
DTEND;TZID=America/Detroit:20250513T193000
DTSTAMP:20260424T044521
CREATED:20250420T232332Z
LAST-MODIFIED:20250619T133458Z
UID:10002103-1747157400-1747164600@grpickleball.com
SUMMARY:Introduction To Pickleball
DESCRIPTION:New to pickleball?  We have the class for you.  Build confidence\, learn the basics\, and prepare for social play! The Intro to Pickleball class is designed for the first-time adult player. Join the craze and have a blast!  We will have paddles and balls available. In the interest of allowing as many people as possible to attend this class\, we kindly request that you do not repeat attendance please. \nLed by Instructor Pati Sheldon \nDuration: 2 Hours \nFree to all players! \nCourts 7 and 9 at Belknap Park are reserved for this event. \nPlease Click Here to sign up!
URL:https://grpickleball.com/event/intro-to-pickleball/2025-05-13/
LOCATION:MI
CATEGORIES:Lessons
END:VEVENT
BEGIN:VEVENT
DTSTART;TZID=America/Detroit:20250513T090000
DTEND;TZID=America/Detroit:20250513T110000
DTSTAMP:20260424T044521
CREATED:20250320T142416Z
LAST-MODIFIED:20250322T135829Z
UID:10002038-1747126800-1747134000@grpickleball.com
SUMMARY:GRPC Legacy Group (Men’s 70+)
DESCRIPTION:70+ age and GRPC membership required\nCourts 18 – 21 reserved\n\nCourt format: 3 intermediate\, 3 advanced. The format will be adjusted to accommodate the number of players and skill levels.\n\nPlayer rotation: After the completion of a game\, winners stay and split\, and 2 new players join for the next game.\n\nIf interested in playing with this group\, please contact:\nLarry Walters\n\nmrwalter2000@yahoo.com
URL:https://grpickleball.com/event/grpc-legacy-group-mens-70-17/2025-05-13/
LOCATION:MI
CATEGORIES:Club Sponsored,GRPC Members Only,Organized Play
ATTACH;FMTTYPE=image/png:https://grpickleball.com/wp-content/uploads/2021/07/Screen-Shot-2021-07-22-at-11.30.22-AM-e1651329329657.png
ORGANIZER;CN="Larry Walters":MAILTO:mrwalter2000@yahoo.com
END:VEVENT
BEGIN:VEVENT
DTSTART;TZID=America/Detroit:20250513T090000
DTEND;TZID=America/Detroit:20250513T110000
DTSTAMP:20260424T044521
CREATED:20250320T141612Z
LAST-MODIFIED:20250320T142106Z
UID:10002092-1747126800-1747134000@grpickleball.com
SUMMARY:Women's 70+ Legacy Open Play
DESCRIPTION:Women’s 70+ Legacy Open Play\nMembership in the Grand Rapids Pickleball Club is required\nCourts 7-10 are reserved for this event\n9:00 am to 11:00 am
URL:https://grpickleball.com/event/womens-70-legacy-open-play/2025-05-13/
LOCATION:Belknap Park\, 30 Coldbrook St NE\, Grand Rapids\, MI\, 49503\, United States
CATEGORIES:GRPC Members Only,Organized Play
END:VEVENT
BEGIN:VEVENT
DTSTART;TZID=America/Detroit:20250510T070000
DTEND;TZID=America/Detroit:20250510T180000
DTSTAMP:20260424T044521
CREATED:20240516T142359Z
LAST-MODIFIED:20240516T142613Z
UID:10001795-1746860400-1746900000@grpickleball.com
SUMMARY:You Go Girl Tournament
DESCRIPTION:Women’s tournament sponsored by Elders’ Helpers \nAll courts reserved for this event \n  \n  \n  \n 
URL:https://grpickleball.com/event/you-go-girl-tournament-2/
LOCATION:Belknap Park\, 30 Coldbrook St NE\, Grand Rapids\, MI\, 49503\, United States
CATEGORIES:Fund Raiser
ATTACH;FMTTYPE=image/jpeg:https://grpickleball.com/wp-content/uploads/2023/06/YGG-Logo.jpg
END:VEVENT
BEGIN:VEVENT
DTSTART;TZID=America/Detroit:20250508T090000
DTEND;TZID=America/Detroit:20250508T110000
DTSTAMP:20260424T044521
CREATED:20250308T180534Z
LAST-MODIFIED:20250313T151157Z
UID:10001930-1746694800-1746702000@grpickleball.com
SUMMARY:Organized Ladies’ Play
DESCRIPTION:Organized Ladies’ Play\, weather permitting. Every Thursday on Courts 5-15 from 9 to 11 am. You DO have to be a Grand Rapids Pickleball Club member. All levels are welcome. No sign-up is necessary; just show up ready to play. This is a fun\, social time where all levels are expected to play together.
URL:https://grpickleball.com/event/organized-ladies-play-23/2025-05-08/
LOCATION:Belknap Park\, 30 Coldbrook St NE\, Grand Rapids\, MI\, 49503\, United States
CATEGORIES:Organized Play
ATTACH;FMTTYPE=image/png:https://grpickleball.com/wp-content/uploads/2021/07/Screen-Shot-2021-07-22-at-11.30.22-AM-e1651329329657.png
END:VEVENT
BEGIN:VEVENT
DTSTART;TZID=America/Detroit:20250507T140000
DTEND;TZID=America/Detroit:20250507T160000
DTSTAMP:20260424T044521
CREATED:20250314T202942Z
LAST-MODIFIED:20250330T034629Z
UID:10001892-1746626400-1746633600@grpickleball.com
SUMMARY:Ready\, Set\, Go - You Go Girl Clinic
DESCRIPTION:This clinic is for players registered for the You Go Girl Tournament who want to prepare for their first tournament. Instructors will walk you through what you need to know in order to have a fun\, successful first tournament experience. Please bring your paddle and wear appropriate shoes. \nCourts 7-10 are reserved for this event. \nThis event is free\, but registration is limited to 16 people. \nTo sign up for this event\, click here.
URL:https://grpickleball.com/event/ready-set-go-you-go-girl-clinic/
LOCATION:Belknap Park\, 30 Coldbrook St NE\, Grand Rapids\, MI\, 49503\, United States
CATEGORIES:Club Sponsored
ATTACH;FMTTYPE=image/jpeg:https://grpickleball.com/wp-content/uploads/2023/06/YGG-Logo.jpg
END:VEVENT
BEGIN:VEVENT
DTSTART;TZID=America/Detroit:20250506T090000
DTEND;TZID=America/Detroit:20250506T110000
DTSTAMP:20260424T044521
CREATED:20250320T142416Z
LAST-MODIFIED:20250322T135829Z
UID:10002037-1746522000-1746529200@grpickleball.com
SUMMARY:GRPC Legacy Group (Men’s 70+)
DESCRIPTION:70+ age and GRPC membership required\nCourts 18 – 21 reserved\n\nCourt format: 3 intermediate\, 3 advanced. The format will be adjusted to accommodate the number of players and skill levels.\n\nPlayer rotation: After the completion of a game\, winners stay and split\, and 2 new players join for the next game.\n\nIf interested in playing with this group\, please contact:\nLarry Walters\n\nmrwalter2000@yahoo.com
URL:https://grpickleball.com/event/grpc-legacy-group-mens-70-17/2025-05-06/
LOCATION:MI
CATEGORIES:Club Sponsored,GRPC Members Only,Organized Play
ATTACH;FMTTYPE=image/png:https://grpickleball.com/wp-content/uploads/2021/07/Screen-Shot-2021-07-22-at-11.30.22-AM-e1651329329657.png
ORGANIZER;CN="Larry Walters":MAILTO:mrwalter2000@yahoo.com
END:VEVENT
BEGIN:VEVENT
DTSTART;TZID=America/Detroit:20250506T090000
DTEND;TZID=America/Detroit:20250506T110000
DTSTAMP:20260424T044521
CREATED:20250320T141612Z
LAST-MODIFIED:20250320T142106Z
UID:10002091-1746522000-1746529200@grpickleball.com
SUMMARY:Women's 70+ Legacy Open Play
DESCRIPTION:Women’s 70+ Legacy Open Play\nMembership in the Grand Rapids Pickleball Club is required\nCourts 7-10 are reserved for this event\n9:00 am to 11:00 am
URL:https://grpickleball.com/event/womens-70-legacy-open-play/2025-05-06/
LOCATION:Belknap Park\, 30 Coldbrook St NE\, Grand Rapids\, MI\, 49503\, United States
CATEGORIES:GRPC Members Only,Organized Play
END:VEVENT
BEGIN:VEVENT
DTSTART;TZID=America/Detroit:20250501T090000
DTEND;TZID=America/Detroit:20250501T110000
DTSTAMP:20260424T044521
CREATED:20250308T180534Z
LAST-MODIFIED:20250313T151157Z
UID:10001929-1746090000-1746097200@grpickleball.com
SUMMARY:Organized Ladies’ Play
DESCRIPTION:Organized Ladies’ Play\, weather permitting. Every Thursday on Courts 5-15 from 9 to 11 am. You DO have to be a Grand Rapids Pickleball Club member. All levels are welcome. No sign-up is necessary; just show up ready to play. This is a fun\, social time where all levels are expected to play together.
URL:https://grpickleball.com/event/organized-ladies-play-23/2025-05-01/
LOCATION:Belknap Park\, 30 Coldbrook St NE\, Grand Rapids\, MI\, 49503\, United States
CATEGORIES:Organized Play
ATTACH;FMTTYPE=image/png:https://grpickleball.com/wp-content/uploads/2021/07/Screen-Shot-2021-07-22-at-11.30.22-AM-e1651329329657.png
END:VEVENT
BEGIN:VEVENT
DTSTART;VALUE=DATE:20250425
DTEND;VALUE=DATE:20250428
DTSTAMP:20260424T044521
CREATED:20241015T001709Z
LAST-MODIFIED:20250304T160020Z
UID:10001837-1745539200-1745798399@grpickleball.com
SUMMARY:Earth Day Pickleball Tournament
DESCRIPTION:Earth Day Open tournament powered by Revolin Sports. \nThe tournament is a round-robin event with singles\, gendered doubles\, and mixed doubles. \nAll Belknap courts are reserved for the event. \n 
URL:https://grpickleball.com/event/earth-day-pickleball-tournament-2/
LOCATION:Belknap Park\, 30 Coldbrook St NE\, Grand Rapids\, MI\, 49503\, United States
CATEGORIES:Club Sponsored,Tournament
ATTACH;FMTTYPE=image/png:https://grpickleball.com/wp-content/uploads/2023/11/Earth-Day-2024.png
END:VEVENT
BEGIN:VEVENT
DTSTART;VALUE=DATE:20241228
DTEND;VALUE=DATE:20241229
DTSTAMP:20260424T044521
CREATED:20240923T222505Z
LAST-MODIFIED:20240923T222505Z
UID:10001834-1735344000-1735430399@grpickleball.com
SUMMARY:GRPC Holiday Party
DESCRIPTION:Members\, join us at the GRRF for the GRPC Holiday party \nDetails to come
URL:https://grpickleball.com/event/grpc-holiday-party-2/
LOCATION:GRRF\, 4940 Plainfield Ave NE\, Grand Rapids\, MI\, 49525\, United States
CATEGORIES:Club Sponsored,GRPC Members Only,Social Event
ATTACH;FMTTYPE=image/webp:https://grpickleball.com/wp-content/uploads/2023/11/IMG_0828.webp
END:VEVENT
BEGIN:VEVENT
DTSTART;TZID=America/Detroit:20241005T180000
DTEND;TZID=America/Detroit:20241005T220000
DTSTAMP:20260424T044521
CREATED:20240717T141537Z
LAST-MODIFIED:20240927T231114Z
UID:10001824-1728151200-1728165600@grpickleball.com
SUMMARY:CANCELED;  Murder Mystery Dinner Theatre Fundraiser for GRPC
DESCRIPTION:EVENT CANCELLED \nFUNDRAISER for the Grand Rapids Pickleball Club\nSupport the Grand Rapids Pickleball Club and enjoy an evening of entertainment and community spirit!\nWHAT: Murder at The Pickleball Lesson: Dink\, Drop\, or Die! \nWHEN: October 5\, 2024\, at 6:30 PM (Doors open at 6:00)\nWHERE: Northview High School\, 4365 Hunsberger Ave NE\, Grand Rapids\nWHO: Tickets will be EXCLUSIVELY available for GRPC members through Thursday\, September 12th. After this\, they will be available to the general public.   \nLog in to your GRPC account to purchase tickets https://grpickleball.com/product/murder-at-the-pickleball-lesson-dink-drop-or-die/ \nEvent Highlights:\n• Interactive murder mystery play\n• Delicious BBQ cuisine\n• Raffle with 40+ great prizes\n• Opportunity to sponsor a table with premium perks \n“whodunnit” evening\, “Murder at The Pickleball Lesson”\, a captivating murder mystery dinner theater play written by GRPC member\, Spence Tower.\n• Through many laugh-out-loud moments\, this “lesson” will remind you of the many odd characters seen and experienced on the pickleball courts.\n• Enjoy a night of suspense\, murder\, and immersive entertainment as you work to unravel the mystery and identify the culprit. You’ll be questioning suspects such as Dr. Annette Tuuhie; Coach Biff Bragzlott; Wannabee Coach Ernie Misser; and the PNOB\, Peter Drupin. \nRaffle Tickets:\n• 40+ small pickleball-related gifts will be available. Put your tickets in the\nenvelopes for the gifts you want\n• Additional raffle tickets can be purchased during the event \nFood & Drinks\n• Includes a delectable pulled chicken and pulled pork BBQ buffet with mac & cheese\, cheesy tots\, and green beans with slivered almonds (from The Pit Stop BBQ & Catering Company)\n• Tasteless\, colorless\, lukewarm lemonade will be freely available\n• Sodas and pickleball-themed mocktails will also be available for purchase. \nImportant Note:\n• As this event is held at a public school\, nonalcoholic beverages will be served. No alcohol is allowed on the premises.
URL:https://grpickleball.com/event/https-grpickleball-com-product-murder-at-the-pickleball-lesson-dink-drop-or-die/
LOCATION:Northview High School\, 4451 Hunsberger Ave NE\, Grand Rapids\, MI\, 49525\, United States
CATEGORIES:Club Sponsored,Fund Raiser,Social Event
END:VEVENT
BEGIN:VEVENT
DTSTART;TZID=America/Detroit:20240929T120000
DTEND;TZID=America/Detroit:20240929T170000
DTSTAMP:20260424T044521
CREATED:20240913T140259Z
LAST-MODIFIED:20240923T223625Z
UID:10001832-1727611200-1727629200@grpickleball.com
SUMMARY:Court Reservation - KC-2024
DESCRIPTION:Courts 7-10  and 16-21\, reserved for a private party \n 
URL:https://grpickleball.com/event/court-reservation-2/
LOCATION:Belknap Park\, 30 Coldbrook St NE\, Grand Rapids\, MI\, 49503\, United States
CATEGORIES:Court Reservation Approved
END:VEVENT
BEGIN:VEVENT
DTSTART;TZID=America/Detroit:20240928T120000
DTEND;TZID=America/Detroit:20240928T160000
DTSTAMP:20260424T044521
CREATED:20240620T014153Z
LAST-MODIFIED:20240823T180338Z
UID:10001814-1727524800-1727539200@grpickleball.com
SUMMARY:Volunteer Appreciation Luncheon\, Pickleball\, and Raffle
DESCRIPTION:Schedule of Events September 28th:\n12:00 pm – 1:30 pm Lunch Served\n12:00 pm – 1:45 pm Pickleball with Andrea Koop\n2:00 pm Picture on Stadium Court\n2:15 pm Draigh Award Announced\n2:30 pm Raffle Drawings
URL:https://grpickleball.com/event/volunteer-appreciation-luncheon-and-raffle/
LOCATION:Belknap Park\, 30 Coldbrook St NE\, Grand Rapids\, MI\, 49503\, United States
ATTACH;FMTTYPE=image/png:https://grpickleball.com/wp-content/uploads/2024/06/Screenshot-2024-08-23-at-1.53.52 PM.png
END:VEVENT
BEGIN:VEVENT
DTSTART;TZID=America/Detroit:20240926T090000
DTEND;TZID=America/Detroit:20240926T110000
DTSTAMP:20260424T044521
CREATED:20240327T141015Z
LAST-MODIFIED:20240502T234809Z
UID:10001748-1727341200-1727348400@grpickleball.com
SUMMARY:Organized Ladies' Play
DESCRIPTION:Organized Ladies’ Play\, weather permitting\, from 9:00 am -11:00 am on Thursdays\, May – September. \n\nYou MUST be a Grand Rapids Pickleball Club member\nAll levels are welcome\, no sign-up is necessary\nYou must know the rules of pickleball and be able to keep score\nThis is a fun social time where all levels are expected to play together\n\n Click here to join the GRPC \nCourts 1-4 and 11-21 are reserved for this event \nLadies’ Play will not use courts 5-10.   These are reserved for open play at all skill levels.  Players will mix regardless of skill.   \n 
URL:https://grpickleball.com/event/51938/2024-09-26/
LOCATION:Belknap Park\, 30 Coldbrook St NE\, Grand Rapids\, MI\, 49503\, United States
CATEGORIES:GRPC Members Only,Organized Play
ATTACH;FMTTYPE=image/png:https://grpickleball.com/wp-content/uploads/2021/07/Screen-Shot-2021-07-22-at-11.30.22-AM-e1651329329657.png
END:VEVENT
BEGIN:VEVENT
DTSTART;TZID=America/Detroit:20240924T090000
DTEND;TZID=America/Detroit:20240924T110000
DTSTAMP:20260424T044521
CREATED:20240601T130517Z
LAST-MODIFIED:20240601T205339Z
UID:10001813-1727168400-1727175600@grpickleball.com
SUMMARY:Women's 70+ Legacy Open Play
DESCRIPTION:Women’s 70+ Legacy Open Play\nMembership in the Grand Rapids Pickleball Club is  required\nCourts 7-10 are reserved for this event\n9:00 am to 11:00 am
URL:https://grpickleball.com/event/70-women-crushers/2024-09-24/
LOCATION:Belknap Park\, 30 Coldbrook St NE\, Grand Rapids\, MI\, 49503\, United States
CATEGORIES:GRPC Members Only,Organized Play
END:VEVENT
BEGIN:VEVENT
DTSTART;TZID=America/Detroit:20240924T090000
DTEND;TZID=America/Detroit:20240924T110000
DTSTAMP:20260424T044521
CREATED:20240324T150800Z
LAST-MODIFIED:20240525T014048Z
UID:10001670-1727168400-1727175600@grpickleball.com
SUMMARY:GRPC Legacy Group (Men’s 70+)
DESCRIPTION:70+ age and GRPC membership required\n\nCourt format: 3 intermediate\, 3 advanced. The format will be adjusted to accommodate the number of players and skill levels\n\nPlayer rotation: after the completion of a game\, winners stay and split\, and 2 new players join for the next game.\n\nIf interested in playing with this group\, please contact:\nLarry Walters\n\nmrwalter2000@yahoo.com
URL:https://grpickleball.com/event/grpc-legacy-group-mens-70-16/2024-09-24/
LOCATION:MI
CATEGORIES:Club Sponsored,GRPC Members Only,Organized Play
ATTACH;FMTTYPE=image/png:https://grpickleball.com/wp-content/uploads/2021/07/Screen-Shot-2021-07-22-at-11.30.22-AM-e1651329329657.png
END:VEVENT
BEGIN:VEVENT
DTSTART;TZID=America/Detroit:20240923T173000
DTEND;TZID=America/Detroit:20240923T190000
DTSTAMP:20260424T044521
CREATED:20240326T153041Z
LAST-MODIFIED:20240911T223052Z
UID:10001821-1727112600-1727118000@grpickleball.com
SUMMARY:Introduction to Pickleball
DESCRIPTION:New to pickleball?   We have the class for you.  Build confidence\, learn the basics\, and prepare for social play!\nThe Intro to Pickleball class is designed for the first-time adult player. Join the craze and have a blast!  We will have paddles and balls available. \nLed by Instructor Pati Sheldon \n$15 Fee – please Click Here to sign up \nCourts 7- 9 at Belknap Park are reserved for this event.
URL:https://grpickleball.com/event/introduction-to-pickleball/2024-09-23/
LOCATION:Belknap Park\, 30 Coldbrook St NE\, Grand Rapids\, MI\, 49503\, United States
CATEGORIES:Club Sponsored,Lessons
ATTACH;FMTTYPE=image/png:https://grpickleball.com/wp-content/uploads/2021/07/Screen-Shot-2021-07-22-at-11.30.22-AM-e1651329329657.png
END:VEVENT
BEGIN:VEVENT
DTSTART;TZID=America/Detroit:20240922T190000
DTEND;TZID=America/Detroit:20240922T223000
DTSTAMP:20260424T044521
CREATED:20240327T192608Z
LAST-MODIFIED:20240722T184447Z
UID:10001825-1727031600-1727044200@grpickleball.com
SUMMARY:GRPC  Ladder League - Session 2
DESCRIPTION:Must be a GRPC member to participate\nFrom 7:00 pm to 8:35 pm\, DUPR 3.0 – 3.75 and above will play – Click Here to sign up\nFrom 8:40 pm -10:30 pm\, DUPR 3.75 and above will play – Click Here to sign up\nCourts 7-10 and courts 16-21 are reserved for the GRPC Ladder League\nClick Here to sign up for the Substitute List
URL:https://grpickleball.com/event/grpc-ladder-league-session-2/2024-09-22/
LOCATION:MI
CATEGORIES:Club Sponsored,GRPC Members Only,League Play
ATTACH;FMTTYPE=image/jpeg:https://grpickleball.com/wp-content/uploads/2023/05/Belknap-Aerial-View-1.jpg
ORGANIZER;CN="Alex Jandernoa":MAILTO:Jandernoa@gmail.com
END:VEVENT
BEGIN:VEVENT
DTSTART;TZID=America/Detroit:20240920T183000
DTEND;TZID=America/Detroit:20240920T223000
DTSTAMP:20260424T044521
CREATED:20240118T154105Z
LAST-MODIFIED:20240130T230525Z
UID:10001594-1726857000-1726871400@grpickleball.com
SUMMARY:Friday Night Lights
DESCRIPTION:It’s a fun tournament under the lights for GRPC members only. \nDetails will be posted on the GRPC Facebook page as the event gets closer to the date. \nAll courts are reserved for FNL.
URL:https://grpickleball.com/event/friday-night-lights-12/2024-09-20/
LOCATION:Belknap Park\, 30 Coldbrook St NE\, Grand Rapids\, MI\, 49503\, United States
CATEGORIES:Club Sponsored,FNL,GRPC Members Only,Tournament
ATTACH;FMTTYPE=image/png:https://grpickleball.com/wp-content/uploads/2022/04/Screen-Shot-2022-04-30-at-11.07.51-AM-e1651331824206.png
END:VEVENT
END:VCALENDAR