BEGIN:VCALENDAR
VERSION:2.0
PRODID:-//Grand Rapids Pickleball Club - ECPv6.15.16.1//NONSGML v1.0//EN
CALSCALE:GREGORIAN
METHOD:PUBLISH
X-ORIGINAL-URL:https://grpickleball.com
X-WR-CALDESC:Events for Grand Rapids Pickleball Club
REFRESH-INTERVAL;VALUE=DURATION:PT1H
X-Robots-Tag:noindex
X-PUBLISHED-TTL:PT1H
BEGIN:VTIMEZONE
TZID:America/Detroit
BEGIN:DAYLIGHT
TZOFFSETFROM:-0500
TZOFFSETTO:-0400
TZNAME:EDT
DTSTART:20230312T070000
END:DAYLIGHT
BEGIN:STANDARD
TZOFFSETFROM:-0400
TZOFFSETTO:-0500
TZNAME:EST
DTSTART:20231105T060000
END:STANDARD
BEGIN:DAYLIGHT
TZOFFSETFROM:-0500
TZOFFSETTO:-0400
TZNAME:EDT
DTSTART:20240310T070000
END:DAYLIGHT
BEGIN:STANDARD
TZOFFSETFROM:-0400
TZOFFSETTO:-0500
TZNAME:EST
DTSTART:20241103T060000
END:STANDARD
BEGIN:DAYLIGHT
TZOFFSETFROM:-0500
TZOFFSETTO:-0400
TZNAME:EDT
DTSTART:20250309T070000
END:DAYLIGHT
BEGIN:STANDARD
TZOFFSETFROM:-0400
TZOFFSETTO:-0500
TZNAME:EST
DTSTART:20251102T060000
END:STANDARD
END:VTIMEZONE
BEGIN:VEVENT
DTSTART;TZID=America/Detroit:20240903T090000
DTEND;TZID=America/Detroit:20240903T110000
DTSTAMP:20260424T195855
CREATED:20240324T150800Z
LAST-MODIFIED:20240525T014048Z
UID:10001667-1725354000-1725361200@grpickleball.com
SUMMARY:GRPC Legacy Group (Men’s 70+)
DESCRIPTION:70+ age and GRPC membership required\n\nCourt format: 3 intermediate\, 3 advanced. The format will be adjusted to accommodate the number of players and skill levels\n\nPlayer rotation: after the completion of a game\, winners stay and split\, and 2 new players join for the next game.\n\nIf interested in playing with this group\, please contact:\nLarry Walters\n\nmrwalter2000@yahoo.com
URL:https://grpickleball.com/event/grpc-legacy-group-mens-70-16/2024-09-03/
LOCATION:MI
CATEGORIES:Club Sponsored,GRPC Members Only,Organized Play
ATTACH;FMTTYPE=image/png:https://grpickleball.com/wp-content/uploads/2021/07/Screen-Shot-2021-07-22-at-11.30.22-AM-e1651329329657.png
END:VEVENT
BEGIN:VEVENT
DTSTART;TZID=America/Detroit:20240903T090000
DTEND;TZID=America/Detroit:20240903T110000
DTSTAMP:20260424T195855
CREATED:20240601T130517Z
LAST-MODIFIED:20240601T205339Z
UID:10001810-1725354000-1725361200@grpickleball.com
SUMMARY:Women's 70+ Legacy Open Play
DESCRIPTION:Women’s 70+ Legacy Open Play\nMembership in the Grand Rapids Pickleball Club is  required\nCourts 7-10 are reserved for this event\n9:00 am to 11:00 am
URL:https://grpickleball.com/event/70-women-crushers/2024-09-03/
LOCATION:Belknap Park\, 30 Coldbrook St NE\, Grand Rapids\, MI\, 49503\, United States
CATEGORIES:GRPC Members Only,Organized Play
END:VEVENT
BEGIN:VEVENT
DTSTART;TZID=America/Detroit:20240905T090000
DTEND;TZID=America/Detroit:20240905T110000
DTSTAMP:20260424T195855
CREATED:20240327T141015Z
LAST-MODIFIED:20240502T234809Z
UID:10001745-1725526800-1725534000@grpickleball.com
SUMMARY:Organized Ladies' Play
DESCRIPTION:Organized Ladies’ Play\, weather permitting\, from 9:00 am -11:00 am on Thursdays\, May – September. \n\nYou MUST be a Grand Rapids Pickleball Club member\nAll levels are welcome\, no sign-up is necessary\nYou must know the rules of pickleball and be able to keep score\nThis is a fun social time where all levels are expected to play together\n\n Click here to join the GRPC \nCourts 1-4 and 11-21 are reserved for this event \nLadies’ Play will not use courts 5-10.   These are reserved for open play at all skill levels.  Players will mix regardless of skill.   \n 
URL:https://grpickleball.com/event/51938/2024-09-05/
LOCATION:Belknap Park\, 30 Coldbrook St NE\, Grand Rapids\, MI\, 49503\, United States
CATEGORIES:GRPC Members Only,Organized Play
ATTACH;FMTTYPE=image/png:https://grpickleball.com/wp-content/uploads/2021/07/Screen-Shot-2021-07-22-at-11.30.22-AM-e1651329329657.png
END:VEVENT
BEGIN:VEVENT
DTSTART;TZID=America/Detroit:20240907T120000
DTEND;TZID=America/Detroit:20240907T153000
DTSTAMP:20260424T195855
CREATED:20240729T220605Z
LAST-MODIFIED:20240729T220832Z
UID:10001828-1725710400-1725723000@grpickleball.com
SUMMARY:Court Reservation Private Party
DESCRIPTION:Courts 7-10 are reserved for Elliott Digison\, private party
URL:https://grpickleball.com/event/court-reservation/
LOCATION:Belknap Park\, 30 Coldbrook St NE\, Grand Rapids\, MI\, 49503\, United States
CATEGORIES:Non-Club Event,Social Event
END:VEVENT
BEGIN:VEVENT
DTSTART;TZID=America/Detroit:20240908T190000
DTEND;TZID=America/Detroit:20240908T223000
DTSTAMP:20260424T195855
CREATED:20240327T192608Z
LAST-MODIFIED:20240722T184447Z
UID:10001768-1725822000-1725834600@grpickleball.com
SUMMARY:GRPC  Ladder League - Session 2
DESCRIPTION:Must be a GRPC member to participate\nFrom 7:00 pm to 8:35 pm\, DUPR 3.0 – 3.75 and above will play – Click Here to sign up\nFrom 8:40 pm -10:30 pm\, DUPR 3.75 and above will play – Click Here to sign up\nCourts 7-10 and courts 16-21 are reserved for the GRPC Ladder League\nClick Here to sign up for the Substitute List
URL:https://grpickleball.com/event/grpc-ladder-league-session-2/2024-09-08/
LOCATION:MI
CATEGORIES:Club Sponsored,GRPC Members Only,League Play
ATTACH;FMTTYPE=image/jpeg:https://grpickleball.com/wp-content/uploads/2023/05/Belknap-Aerial-View-1.jpg
ORGANIZER;CN="Alex Jandernoa":MAILTO:Jandernoa@gmail.com
END:VEVENT
BEGIN:VEVENT
DTSTART;TZID=America/Detroit:20240909T123000
DTEND;TZID=America/Detroit:20240909T160000
DTSTAMP:20260424T195855
CREATED:20240825T120456Z
LAST-MODIFIED:20240825T120456Z
UID:10001831-1725885000-1725897600@grpickleball.com
SUMMARY:Team Bonding- Private Reservation
DESCRIPTION:Urgent Care Department for Corewell Health \nPrivate Party \nCourts 7-10 Reserved for this event \n 
URL:https://grpickleball.com/event/team-bonding-private-reservation/
LOCATION:Belknap Park\, 30 Coldbrook St NE\, Grand Rapids\, MI\, 49503\, United States
CATEGORIES:Court Reservation Approved,Non-Club Event
END:VEVENT
BEGIN:VEVENT
DTSTART;TZID=America/Detroit:20240909T173000
DTEND;TZID=America/Detroit:20240909T190000
DTSTAMP:20260424T195855
CREATED:20240326T153041Z
LAST-MODIFIED:20240911T223052Z
UID:10001820-1725903000-1725908400@grpickleball.com
SUMMARY:Introduction to Pickleball
DESCRIPTION:New to pickleball?   We have the class for you.  Build confidence\, learn the basics\, and prepare for social play!\nThe Intro to Pickleball class is designed for the first-time adult player. Join the craze and have a blast!  We will have paddles and balls available. \nLed by Instructor Pati Sheldon \n$15 Fee – please Click Here to sign up \nCourts 7- 9 at Belknap Park are reserved for this event.
URL:https://grpickleball.com/event/introduction-to-pickleball/2024-09-09/
LOCATION:Belknap Park\, 30 Coldbrook St NE\, Grand Rapids\, MI\, 49503\, United States
CATEGORIES:Club Sponsored,Lessons
ATTACH;FMTTYPE=image/png:https://grpickleball.com/wp-content/uploads/2021/07/Screen-Shot-2021-07-22-at-11.30.22-AM-e1651329329657.png
END:VEVENT
BEGIN:VEVENT
DTSTART;TZID=America/Detroit:20240910T090000
DTEND;TZID=America/Detroit:20240910T110000
DTSTAMP:20260424T195855
CREATED:20240324T150800Z
LAST-MODIFIED:20240525T014048Z
UID:10001668-1725958800-1725966000@grpickleball.com
SUMMARY:GRPC Legacy Group (Men’s 70+)
DESCRIPTION:70+ age and GRPC membership required\n\nCourt format: 3 intermediate\, 3 advanced. The format will be adjusted to accommodate the number of players and skill levels\n\nPlayer rotation: after the completion of a game\, winners stay and split\, and 2 new players join for the next game.\n\nIf interested in playing with this group\, please contact:\nLarry Walters\n\nmrwalter2000@yahoo.com
URL:https://grpickleball.com/event/grpc-legacy-group-mens-70-16/2024-09-10/
LOCATION:MI
CATEGORIES:Club Sponsored,GRPC Members Only,Organized Play
ATTACH;FMTTYPE=image/png:https://grpickleball.com/wp-content/uploads/2021/07/Screen-Shot-2021-07-22-at-11.30.22-AM-e1651329329657.png
END:VEVENT
BEGIN:VEVENT
DTSTART;TZID=America/Detroit:20240910T090000
DTEND;TZID=America/Detroit:20240910T110000
DTSTAMP:20260424T195855
CREATED:20240601T130517Z
LAST-MODIFIED:20240601T205339Z
UID:10001811-1725958800-1725966000@grpickleball.com
SUMMARY:Women's 70+ Legacy Open Play
DESCRIPTION:Women’s 70+ Legacy Open Play\nMembership in the Grand Rapids Pickleball Club is  required\nCourts 7-10 are reserved for this event\n9:00 am to 11:00 am
URL:https://grpickleball.com/event/70-women-crushers/2024-09-10/
LOCATION:Belknap Park\, 30 Coldbrook St NE\, Grand Rapids\, MI\, 49503\, United States
CATEGORIES:GRPC Members Only,Organized Play
END:VEVENT
BEGIN:VEVENT
DTSTART;TZID=America/Detroit:20240912T090000
DTEND;TZID=America/Detroit:20240912T110000
DTSTAMP:20260424T195855
CREATED:20240327T141015Z
LAST-MODIFIED:20240502T234809Z
UID:10001746-1726131600-1726138800@grpickleball.com
SUMMARY:Organized Ladies' Play
DESCRIPTION:Organized Ladies’ Play\, weather permitting\, from 9:00 am -11:00 am on Thursdays\, May – September. \n\nYou MUST be a Grand Rapids Pickleball Club member\nAll levels are welcome\, no sign-up is necessary\nYou must know the rules of pickleball and be able to keep score\nThis is a fun social time where all levels are expected to play together\n\n Click here to join the GRPC \nCourts 1-4 and 11-21 are reserved for this event \nLadies’ Play will not use courts 5-10.   These are reserved for open play at all skill levels.  Players will mix regardless of skill.   \n 
URL:https://grpickleball.com/event/51938/2024-09-12/
LOCATION:Belknap Park\, 30 Coldbrook St NE\, Grand Rapids\, MI\, 49503\, United States
CATEGORIES:GRPC Members Only,Organized Play
ATTACH;FMTTYPE=image/png:https://grpickleball.com/wp-content/uploads/2021/07/Screen-Shot-2021-07-22-at-11.30.22-AM-e1651329329657.png
END:VEVENT
BEGIN:VEVENT
DTSTART;TZID=America/Detroit:20240912T130000
DTEND;TZID=America/Detroit:20240912T170000
DTSTAMP:20260424T195855
CREATED:20240822T170333Z
LAST-MODIFIED:20240822T170333Z
UID:10001830-1726146000-1726160400@grpickleball.com
SUMMARY:Proctor & Gamble with Meijer-Private Event
DESCRIPTION:Courts 5-10 are reserved for this event
URL:https://grpickleball.com/event/proctor-gamble-with-meijer-private-event/
LOCATION:Belknap Park\, 30 Coldbrook St NE\, Grand Rapids\, MI\, 49503\, United States
CATEGORIES:Court Reservation Approved,Non-Club Event
END:VEVENT
BEGIN:VEVENT
DTSTART;VALUE=DATE:20240913
DTEND;VALUE=DATE:20240916
DTSTAMP:20260424T195855
CREATED:20231011T132035Z
LAST-MODIFIED:20240130T164423Z
UID:10001579-1726185600-1726444799@grpickleball.com
SUMMARY:GRPC Club Championships
DESCRIPTION:This is a tournament for Grand Rapids Pickleball Club Members and a GRPC Membership is required to play. This is an outdoor event with no indoor backup.
URL:https://grpickleball.com/event/grpc-club-championships/
LOCATION:Belknap Park\, 30 Coldbrook St NE\, Grand Rapids\, MI\, 49503\, United States
CATEGORIES:Club Sponsored,GRPC Members Only,Tournament
ATTACH;FMTTYPE=image/png:https://grpickleball.com/wp-content/uploads/2022/09/Screen-Shot-2022-09-20-at-2.23.51-PM.png
END:VEVENT
BEGIN:VEVENT
DTSTART;TZID=America/Detroit:20240915T190000
DTEND;TZID=America/Detroit:20240915T223000
DTSTAMP:20260424T195855
CREATED:20240327T192608Z
LAST-MODIFIED:20240722T184447Z
UID:10001769-1726426800-1726439400@grpickleball.com
SUMMARY:GRPC  Ladder League - Session 2
DESCRIPTION:Must be a GRPC member to participate\nFrom 7:00 pm to 8:35 pm\, DUPR 3.0 – 3.75 and above will play – Click Here to sign up\nFrom 8:40 pm -10:30 pm\, DUPR 3.75 and above will play – Click Here to sign up\nCourts 7-10 and courts 16-21 are reserved for the GRPC Ladder League\nClick Here to sign up for the Substitute List
URL:https://grpickleball.com/event/grpc-ladder-league-session-2/2024-09-15/
LOCATION:MI
CATEGORIES:Club Sponsored,GRPC Members Only,League Play
ATTACH;FMTTYPE=image/jpeg:https://grpickleball.com/wp-content/uploads/2023/05/Belknap-Aerial-View-1.jpg
ORGANIZER;CN="Alex Jandernoa":MAILTO:Jandernoa@gmail.com
END:VEVENT
BEGIN:VEVENT
DTSTART;TZID=America/Detroit:20240917T090000
DTEND;TZID=America/Detroit:20240917T110000
DTSTAMP:20260424T195855
CREATED:20240324T150800Z
LAST-MODIFIED:20240525T014048Z
UID:10001669-1726563600-1726570800@grpickleball.com
SUMMARY:GRPC Legacy Group (Men’s 70+)
DESCRIPTION:70+ age and GRPC membership required\n\nCourt format: 3 intermediate\, 3 advanced. The format will be adjusted to accommodate the number of players and skill levels\n\nPlayer rotation: after the completion of a game\, winners stay and split\, and 2 new players join for the next game.\n\nIf interested in playing with this group\, please contact:\nLarry Walters\n\nmrwalter2000@yahoo.com
URL:https://grpickleball.com/event/grpc-legacy-group-mens-70-16/2024-09-17/
LOCATION:MI
CATEGORIES:Club Sponsored,GRPC Members Only,Organized Play
ATTACH;FMTTYPE=image/png:https://grpickleball.com/wp-content/uploads/2021/07/Screen-Shot-2021-07-22-at-11.30.22-AM-e1651329329657.png
END:VEVENT
BEGIN:VEVENT
DTSTART;TZID=America/Detroit:20240917T090000
DTEND;TZID=America/Detroit:20240917T110000
DTSTAMP:20260424T195855
CREATED:20240601T130517Z
LAST-MODIFIED:20240601T205339Z
UID:10001812-1726563600-1726570800@grpickleball.com
SUMMARY:Women's 70+ Legacy Open Play
DESCRIPTION:Women’s 70+ Legacy Open Play\nMembership in the Grand Rapids Pickleball Club is  required\nCourts 7-10 are reserved for this event\n9:00 am to 11:00 am
URL:https://grpickleball.com/event/70-women-crushers/2024-09-17/
LOCATION:Belknap Park\, 30 Coldbrook St NE\, Grand Rapids\, MI\, 49503\, United States
CATEGORIES:GRPC Members Only,Organized Play
END:VEVENT
BEGIN:VEVENT
DTSTART;TZID=America/Detroit:20240917T160000
DTEND;TZID=America/Detroit:20240917T173000
DTSTAMP:20260424T195855
CREATED:20240304T161822Z
LAST-MODIFIED:20240520T170654Z
UID:10001610-1726588800-1726594200@grpickleball.com
SUMMARY:Wheelchair Pickleball
DESCRIPTION:In partnership with the Grand Rapids Pickleball Club\, Mary Free Bed Wheelchair and Adaptive Sports is excited to host a wheelchair pickleball! Whether you’ve never picked up a paddle or are a seasoned enthusiast\, come join us to learn more about this amazing sport that has been growing at a fast rate. Participants will learn the basics of pickleball and play as much as possible. Wheelchair pickleball is played by anyone with a physical disability that uses a wheelchair. All levels are welcome to attend! Ages 15 & up. \nSign up for one date or multiple\, pricing applies per session:  $10 per session \nCourts 5-6 \nRegistration through Mary Free Bed
URL:https://grpickleball.com/event/adaptive-sports-pickleball/2024-09-17/
LOCATION:Belknap Park\, 30 Coldbrook St NE\, Grand Rapids\, MI\, 49503\, United States
ATTACH;FMTTYPE=image/png:https://grpickleball.com/wp-content/uploads/2024/03/Screenshot-2024-05-20-at-1.04.12 PM.png
END:VEVENT
BEGIN:VEVENT
DTSTART;TZID=America/Detroit:20240919T090000
DTEND;TZID=America/Detroit:20240919T110000
DTSTAMP:20260424T195855
CREATED:20240327T141015Z
LAST-MODIFIED:20240502T234809Z
UID:10001747-1726736400-1726743600@grpickleball.com
SUMMARY:Organized Ladies' Play
DESCRIPTION:Organized Ladies’ Play\, weather permitting\, from 9:00 am -11:00 am on Thursdays\, May – September. \n\nYou MUST be a Grand Rapids Pickleball Club member\nAll levels are welcome\, no sign-up is necessary\nYou must know the rules of pickleball and be able to keep score\nThis is a fun social time where all levels are expected to play together\n\n Click here to join the GRPC \nCourts 1-4 and 11-21 are reserved for this event \nLadies’ Play will not use courts 5-10.   These are reserved for open play at all skill levels.  Players will mix regardless of skill.   \n 
URL:https://grpickleball.com/event/51938/2024-09-19/
LOCATION:Belknap Park\, 30 Coldbrook St NE\, Grand Rapids\, MI\, 49503\, United States
CATEGORIES:GRPC Members Only,Organized Play
ATTACH;FMTTYPE=image/png:https://grpickleball.com/wp-content/uploads/2021/07/Screen-Shot-2021-07-22-at-11.30.22-AM-e1651329329657.png
END:VEVENT
BEGIN:VEVENT
DTSTART;TZID=America/Detroit:20240920T183000
DTEND;TZID=America/Detroit:20240920T223000
DTSTAMP:20260424T195855
CREATED:20240118T154105Z
LAST-MODIFIED:20240130T230525Z
UID:10001594-1726857000-1726871400@grpickleball.com
SUMMARY:Friday Night Lights
DESCRIPTION:It’s a fun tournament under the lights for GRPC members only. \nDetails will be posted on the GRPC Facebook page as the event gets closer to the date. \nAll courts are reserved for FNL.
URL:https://grpickleball.com/event/friday-night-lights-12/2024-09-20/
LOCATION:Belknap Park\, 30 Coldbrook St NE\, Grand Rapids\, MI\, 49503\, United States
CATEGORIES:Club Sponsored,FNL,GRPC Members Only,Tournament
ATTACH;FMTTYPE=image/png:https://grpickleball.com/wp-content/uploads/2022/04/Screen-Shot-2022-04-30-at-11.07.51-AM-e1651331824206.png
END:VEVENT
BEGIN:VEVENT
DTSTART;TZID=America/Detroit:20240922T190000
DTEND;TZID=America/Detroit:20240922T223000
DTSTAMP:20260424T195855
CREATED:20240327T192608Z
LAST-MODIFIED:20240722T184447Z
UID:10001825-1727031600-1727044200@grpickleball.com
SUMMARY:GRPC  Ladder League - Session 2
DESCRIPTION:Must be a GRPC member to participate\nFrom 7:00 pm to 8:35 pm\, DUPR 3.0 – 3.75 and above will play – Click Here to sign up\nFrom 8:40 pm -10:30 pm\, DUPR 3.75 and above will play – Click Here to sign up\nCourts 7-10 and courts 16-21 are reserved for the GRPC Ladder League\nClick Here to sign up for the Substitute List
URL:https://grpickleball.com/event/grpc-ladder-league-session-2/2024-09-22/
LOCATION:MI
CATEGORIES:Club Sponsored,GRPC Members Only,League Play
ATTACH;FMTTYPE=image/jpeg:https://grpickleball.com/wp-content/uploads/2023/05/Belknap-Aerial-View-1.jpg
ORGANIZER;CN="Alex Jandernoa":MAILTO:Jandernoa@gmail.com
END:VEVENT
BEGIN:VEVENT
DTSTART;TZID=America/Detroit:20240923T173000
DTEND;TZID=America/Detroit:20240923T190000
DTSTAMP:20260424T195855
CREATED:20240326T153041Z
LAST-MODIFIED:20240911T223052Z
UID:10001821-1727112600-1727118000@grpickleball.com
SUMMARY:Introduction to Pickleball
DESCRIPTION:New to pickleball?   We have the class for you.  Build confidence\, learn the basics\, and prepare for social play!\nThe Intro to Pickleball class is designed for the first-time adult player. Join the craze and have a blast!  We will have paddles and balls available. \nLed by Instructor Pati Sheldon \n$15 Fee – please Click Here to sign up \nCourts 7- 9 at Belknap Park are reserved for this event.
URL:https://grpickleball.com/event/introduction-to-pickleball/2024-09-23/
LOCATION:Belknap Park\, 30 Coldbrook St NE\, Grand Rapids\, MI\, 49503\, United States
CATEGORIES:Club Sponsored,Lessons
ATTACH;FMTTYPE=image/png:https://grpickleball.com/wp-content/uploads/2021/07/Screen-Shot-2021-07-22-at-11.30.22-AM-e1651329329657.png
END:VEVENT
BEGIN:VEVENT
DTSTART;TZID=America/Detroit:20240924T090000
DTEND;TZID=America/Detroit:20240924T110000
DTSTAMP:20260424T195855
CREATED:20240324T150800Z
LAST-MODIFIED:20240525T014048Z
UID:10001670-1727168400-1727175600@grpickleball.com
SUMMARY:GRPC Legacy Group (Men’s 70+)
DESCRIPTION:70+ age and GRPC membership required\n\nCourt format: 3 intermediate\, 3 advanced. The format will be adjusted to accommodate the number of players and skill levels\n\nPlayer rotation: after the completion of a game\, winners stay and split\, and 2 new players join for the next game.\n\nIf interested in playing with this group\, please contact:\nLarry Walters\n\nmrwalter2000@yahoo.com
URL:https://grpickleball.com/event/grpc-legacy-group-mens-70-16/2024-09-24/
LOCATION:MI
CATEGORIES:Club Sponsored,GRPC Members Only,Organized Play
ATTACH;FMTTYPE=image/png:https://grpickleball.com/wp-content/uploads/2021/07/Screen-Shot-2021-07-22-at-11.30.22-AM-e1651329329657.png
END:VEVENT
BEGIN:VEVENT
DTSTART;TZID=America/Detroit:20240924T090000
DTEND;TZID=America/Detroit:20240924T110000
DTSTAMP:20260424T195856
CREATED:20240601T130517Z
LAST-MODIFIED:20240601T205339Z
UID:10001813-1727168400-1727175600@grpickleball.com
SUMMARY:Women's 70+ Legacy Open Play
DESCRIPTION:Women’s 70+ Legacy Open Play\nMembership in the Grand Rapids Pickleball Club is  required\nCourts 7-10 are reserved for this event\n9:00 am to 11:00 am
URL:https://grpickleball.com/event/70-women-crushers/2024-09-24/
LOCATION:Belknap Park\, 30 Coldbrook St NE\, Grand Rapids\, MI\, 49503\, United States
CATEGORIES:GRPC Members Only,Organized Play
END:VEVENT
BEGIN:VEVENT
DTSTART;TZID=America/Detroit:20240926T090000
DTEND;TZID=America/Detroit:20240926T110000
DTSTAMP:20260424T195856
CREATED:20240327T141015Z
LAST-MODIFIED:20240502T234809Z
UID:10001748-1727341200-1727348400@grpickleball.com
SUMMARY:Organized Ladies' Play
DESCRIPTION:Organized Ladies’ Play\, weather permitting\, from 9:00 am -11:00 am on Thursdays\, May – September. \n\nYou MUST be a Grand Rapids Pickleball Club member\nAll levels are welcome\, no sign-up is necessary\nYou must know the rules of pickleball and be able to keep score\nThis is a fun social time where all levels are expected to play together\n\n Click here to join the GRPC \nCourts 1-4 and 11-21 are reserved for this event \nLadies’ Play will not use courts 5-10.   These are reserved for open play at all skill levels.  Players will mix regardless of skill.   \n 
URL:https://grpickleball.com/event/51938/2024-09-26/
LOCATION:Belknap Park\, 30 Coldbrook St NE\, Grand Rapids\, MI\, 49503\, United States
CATEGORIES:GRPC Members Only,Organized Play
ATTACH;FMTTYPE=image/png:https://grpickleball.com/wp-content/uploads/2021/07/Screen-Shot-2021-07-22-at-11.30.22-AM-e1651329329657.png
END:VEVENT
BEGIN:VEVENT
DTSTART;TZID=America/Detroit:20240928T120000
DTEND;TZID=America/Detroit:20240928T160000
DTSTAMP:20260424T195856
CREATED:20240620T014153Z
LAST-MODIFIED:20240823T180338Z
UID:10001814-1727524800-1727539200@grpickleball.com
SUMMARY:Volunteer Appreciation Luncheon\, Pickleball\, and Raffle
DESCRIPTION:Schedule of Events September 28th:\n12:00 pm – 1:30 pm Lunch Served\n12:00 pm – 1:45 pm Pickleball with Andrea Koop\n2:00 pm Picture on Stadium Court\n2:15 pm Draigh Award Announced\n2:30 pm Raffle Drawings
URL:https://grpickleball.com/event/volunteer-appreciation-luncheon-and-raffle/
LOCATION:Belknap Park\, 30 Coldbrook St NE\, Grand Rapids\, MI\, 49503\, United States
ATTACH;FMTTYPE=image/png:https://grpickleball.com/wp-content/uploads/2024/06/Screenshot-2024-08-23-at-1.53.52 PM.png
END:VEVENT
BEGIN:VEVENT
DTSTART;TZID=America/Detroit:20240929T120000
DTEND;TZID=America/Detroit:20240929T170000
DTSTAMP:20260424T195856
CREATED:20240913T140259Z
LAST-MODIFIED:20240923T223625Z
UID:10001832-1727611200-1727629200@grpickleball.com
SUMMARY:Court Reservation - KC-2024
DESCRIPTION:Courts 7-10  and 16-21\, reserved for a private party \n 
URL:https://grpickleball.com/event/court-reservation-2/
LOCATION:Belknap Park\, 30 Coldbrook St NE\, Grand Rapids\, MI\, 49503\, United States
CATEGORIES:Court Reservation Approved
END:VEVENT
END:VCALENDAR