BEGIN:VCALENDAR
VERSION:2.0
PRODID:-//Grand Rapids Pickleball Club - ECPv6.15.16.1//NONSGML v1.0//EN
CALSCALE:GREGORIAN
METHOD:PUBLISH
X-ORIGINAL-URL:https://grpickleball.com
X-WR-CALDESC:Events for Grand Rapids Pickleball Club
REFRESH-INTERVAL;VALUE=DURATION:PT1H
X-Robots-Tag:noindex
X-PUBLISHED-TTL:PT1H
BEGIN:VTIMEZONE
TZID:America/Detroit
BEGIN:DAYLIGHT
TZOFFSETFROM:-0500
TZOFFSETTO:-0400
TZNAME:EDT
DTSTART:20240310T070000
END:DAYLIGHT
BEGIN:STANDARD
TZOFFSETFROM:-0400
TZOFFSETTO:-0500
TZNAME:EST
DTSTART:20241103T060000
END:STANDARD
BEGIN:DAYLIGHT
TZOFFSETFROM:-0500
TZOFFSETTO:-0400
TZNAME:EDT
DTSTART:20250309T070000
END:DAYLIGHT
BEGIN:STANDARD
TZOFFSETFROM:-0400
TZOFFSETTO:-0500
TZNAME:EST
DTSTART:20251102T060000
END:STANDARD
BEGIN:DAYLIGHT
TZOFFSETFROM:-0500
TZOFFSETTO:-0400
TZNAME:EDT
DTSTART:20260308T070000
END:DAYLIGHT
BEGIN:STANDARD
TZOFFSETFROM:-0400
TZOFFSETTO:-0500
TZNAME:EST
DTSTART:20261101T060000
END:STANDARD
END:VTIMEZONE
BEGIN:VEVENT
DTSTART;TZID=America/Detroit:20250805T173000
DTEND;TZID=America/Detroit:20250805T200000
DTSTAMP:20260424T023816
CREATED:20250308T160854Z
LAST-MODIFIED:20250716T202126Z
UID:10001891-1754415000-1754424000@grpickleball.com
SUMMARY:First-Timer Tourney Clinic
DESCRIPTION:Have you been playing pickleball for a while?  Considering a tournament\, but feel intimidated? \nAt the First-Timer Tourney Clinic\, you will learn how a tournament is run and how to participate in a tournament. No partner is needed\, though you may optionally choose one ahead of time.  Organizers will thoughtfully select partnerships for solo players. Round-robin format \nVeteran players/volunteers will be present courtside during the matches to offer assistance with scoring\, strategy\, shot selection\, and positioning. Come ready to play. Bring your paddle\, proper shoes\, and clothing. \nCourts 7-10 are reserved for this event. \nFee: $10 GRPC members; $20 nonmembers \nClick Here to sign up for the August 5\, 2025 event!
URL:https://grpickleball.com/event/first-timer-tourney-clinic-2/2025-08-05/
LOCATION:Belknap Park\, 30 Coldbrook St NE\, Grand Rapids\, MI\, 49503\, United States
CATEGORIES:Lessons,Tournament
ATTACH;FMTTYPE=image/png:https://grpickleball.com/wp-content/uploads/2019/07/cropped-GRPC-favicon.png
END:VEVENT
BEGIN:VEVENT
DTSTART;VALUE=DATE:20250808
DTEND;VALUE=DATE:20250811
DTSTAMP:20260424T023816
CREATED:20250113T215718Z
LAST-MODIFIED:20250113T215859Z
UID:10001843-1754611200-1754870399@grpickleball.com
SUMMARY:USSP North Regional Championships (Senior Pickleball)
DESCRIPTION:USSP North Regional Championships  \nBelknap Park\, 30 Coldbrook NE
URL:https://grpickleball.com/event/ussp-north-regional-championships-senior-pickleball/
LOCATION:Belknap Park\, 30 Coldbrook St NE\, Grand Rapids\, MI\, 49503\, United States
CATEGORIES:Club Sponsored,Tournament
END:VEVENT
BEGIN:VEVENT
DTSTART;TZID=America/Detroit:20250809T150000
DTEND;TZID=America/Detroit:20250809T210000
DTSTAMP:20260424T023816
CREATED:20250531T152036Z
LAST-MODIFIED:20250531T154043Z
UID:10002150-1754751600-1754773200@grpickleball.com
SUMMARY:Midwest Junior Pickleball Championships
DESCRIPTION:GRPC is excited to host the first Midwest Junior Pickleball Championships at Belknap Park. Tournament play is scheduled to follow the USSP North Regional Championships Tournament (Senior Pickleball). Click here for registration. \n 
URL:https://grpickleball.com/event/midwest-junior-pickleball-championships/
LOCATION:Belknap Park\, 30 Coldbrook St NE\, Grand Rapids\, MI\, 49503\, United States
CATEGORIES:Club Sponsored,Tournament
ATTACH;FMTTYPE=image/webp:https://grpickleball.com/wp-content/uploads/2025/05/IMG_0122.webp
ORGANIZER;CN="GRPC":MAILTO:mamakarenbaxter@gmail.com
END:VEVENT
BEGIN:VEVENT
DTSTART;VALUE=DATE:20250822
DTEND;VALUE=DATE:20250825
DTSTAMP:20260424T023816
CREATED:20241121T010829Z
LAST-MODIFIED:20241121T010829Z
UID:10001841-1755820800-1756079999@grpickleball.com
SUMMARY:GRPC Club Championships
DESCRIPTION:Details to come \nMembers only tournament
URL:https://grpickleball.com/event/grpc-club-championships-3/
LOCATION:Belknap Park\, 30 Coldbrook St NE\, Grand Rapids\, MI\, 49503\, United States
CATEGORIES:Club Sponsored,GRPC Members Only,Tournament
ATTACH;FMTTYPE=image/png:https://grpickleball.com/wp-content/uploads/2024/07/CLUB-CHAMPIONSHIP-LOGO.png
END:VEVENT
BEGIN:VEVENT
DTSTART;TZID=America/Detroit:20250829T183000
DTEND;TZID=America/Detroit:20250829T223000
DTSTAMP:20260424T023816
CREATED:20250308T190648Z
LAST-MODIFIED:20250308T190648Z
UID:10001987-1756492200-1756506600@grpickleball.com
SUMMARY:Friday Night Lights
DESCRIPTION:It’s a fun tournament under the lights for GRPC members only. \nDetails will be posted on the GRPC Facebook page as the event gets closer to the date. \nAll courts are reserved for FNL.
URL:https://grpickleball.com/event/friday-night-lights-13/2025-08-29/
LOCATION:Belknap Park\, 30 Coldbrook St NE\, Grand Rapids\, MI\, 49503\, United States
CATEGORIES:Club Sponsored,FNL,GRPC Members Only,Tournament
ATTACH;FMTTYPE=image/png:https://grpickleball.com/wp-content/uploads/2022/04/Screen-Shot-2022-04-30-at-11.07.51-AM-e1651331824206.png
END:VEVENT
END:VCALENDAR