BEGIN:VCALENDAR
VERSION:2.0
PRODID:-//Grand Rapids Pickleball Club - ECPv6.15.16.1//NONSGML v1.0//EN
CALSCALE:GREGORIAN
METHOD:PUBLISH
X-WR-CALNAME:Grand Rapids Pickleball Club
X-ORIGINAL-URL:https://grpickleball.com
X-WR-CALDESC:Events for Grand Rapids Pickleball Club
REFRESH-INTERVAL;VALUE=DURATION:PT1H
X-Robots-Tag:noindex
X-PUBLISHED-TTL:PT1H
BEGIN:VTIMEZONE
TZID:America/Detroit
BEGIN:DAYLIGHT
TZOFFSETFROM:-0500
TZOFFSETTO:-0400
TZNAME:EDT
DTSTART:20250309T070000
END:DAYLIGHT
BEGIN:STANDARD
TZOFFSETFROM:-0400
TZOFFSETTO:-0500
TZNAME:EST
DTSTART:20251102T060000
END:STANDARD
BEGIN:DAYLIGHT
TZOFFSETFROM:-0500
TZOFFSETTO:-0400
TZNAME:EDT
DTSTART:20260308T070000
END:DAYLIGHT
BEGIN:STANDARD
TZOFFSETFROM:-0400
TZOFFSETTO:-0500
TZNAME:EST
DTSTART:20261101T060000
END:STANDARD
BEGIN:DAYLIGHT
TZOFFSETFROM:-0500
TZOFFSETTO:-0400
TZNAME:EDT
DTSTART:20270314T070000
END:DAYLIGHT
BEGIN:STANDARD
TZOFFSETFROM:-0400
TZOFFSETTO:-0500
TZNAME:EST
DTSTART:20271107T060000
END:STANDARD
END:VTIMEZONE
BEGIN:VEVENT
DTSTART;VALUE=DATE:20260102
DTEND;VALUE=DATE:20260103
DTSTAMP:20260423T175959
CREATED:20251119T211041Z
LAST-MODIFIED:20251120T181601Z
UID:10002182-1767312000-1767398399@grpickleball.com
SUMMARY:GRPC Holiday Party
DESCRIPTION:Members\, join us at the GRRF for the GRPC Holiday Party\, Friday\, January 2\, 6 to 9 p.m.     Pizza will be provided. Cost is $5 per person\, payable at the event. Please bring a dish to share. Watch for an email with a link to respond via Sign-up Genius so we will know how many to expect. \n  \n 
URL:https://grpickleball.com/event/grpc-holiday-party-3/
LOCATION:GRRF\, 4940 Plainfield Ave NE\, Grand Rapids\, MI\, 49525\, United States
CATEGORIES:Club Sponsored,GRPC Members Only,Social Event
ATTACH;FMTTYPE=image/webp:https://grpickleball.com/wp-content/uploads/2023/11/IMG_0828.webp
END:VEVENT
END:VCALENDAR