BEGIN:VCALENDAR
VERSION:2.0
PRODID:-//Grand Rapids Pickleball Club - ECPv6.15.16.1//NONSGML v1.0//EN
CALSCALE:GREGORIAN
METHOD:PUBLISH
X-ORIGINAL-URL:https://grpickleball.com
X-WR-CALDESC:Events for Grand Rapids Pickleball Club
REFRESH-INTERVAL;VALUE=DURATION:PT1H
X-Robots-Tag:noindex
X-PUBLISHED-TTL:PT1H
BEGIN:VTIMEZONE
TZID:America/Detroit
BEGIN:DAYLIGHT
TZOFFSETFROM:-0500
TZOFFSETTO:-0400
TZNAME:EDT
DTSTART:20250309T070000
END:DAYLIGHT
BEGIN:STANDARD
TZOFFSETFROM:-0400
TZOFFSETTO:-0500
TZNAME:EST
DTSTART:20251102T060000
END:STANDARD
BEGIN:DAYLIGHT
TZOFFSETFROM:-0500
TZOFFSETTO:-0400
TZNAME:EDT
DTSTART:20260308T070000
END:DAYLIGHT
BEGIN:STANDARD
TZOFFSETFROM:-0400
TZOFFSETTO:-0500
TZNAME:EST
DTSTART:20261101T060000
END:STANDARD
BEGIN:DAYLIGHT
TZOFFSETFROM:-0500
TZOFFSETTO:-0400
TZNAME:EDT
DTSTART:20270314T070000
END:DAYLIGHT
BEGIN:STANDARD
TZOFFSETFROM:-0400
TZOFFSETTO:-0500
TZNAME:EST
DTSTART:20271107T060000
END:STANDARD
END:VTIMEZONE
BEGIN:VEVENT
DTSTART;TZID=America/Detroit:20260802T173000
DTEND;TZID=America/Detroit:20260802T204500
DTSTAMP:20260423T194028
CREATED:20260330T031005Z
LAST-MODIFIED:20260330T031005Z
UID:10002467-1785691800-1785703500@grpickleball.com
SUMMARY:GRPC Ladder League Session 2
DESCRIPTION:GRPC membership required. \nSession 2\, Mixed. Five-weeks: 7/19\, 7/26\, 8/2\, 8/9\, 8/16. \nDUPR Skill 3.0-3.75 — 5:30 – 7:00 pm \nDUPR Skill 3.75+ — 7:15 – 8:45 pm \nRegister under Programming Paid Events https://grpickleball.com/events/ \n10 Courts are reserved.
URL:https://grpickleball.com/event/grpc-ladder-league-session-2-3/2026-08-02/
LOCATION:Belknap Park\, 30 Coldbrook St NE\, Grand Rapids\, MI\, 49503\, United States
CATEGORIES:Club Sponsored,GRPC Members Only,League Play
END:VEVENT
BEGIN:VEVENT
DTSTART;TZID=America/Detroit:20260803T173000
DTEND;TZID=America/Detroit:20260803T203000
DTSTAMP:20260423T194028
CREATED:20260317T172108Z
LAST-MODIFIED:20260317T172108Z
UID:10002205-1785778200-1785789000@grpickleball.com
SUMMARY:Drilling
DESCRIPTION:The focus of the GRPC Drill Program will be on skill repetition and exposure to theme-\nspecific drills. You will also have the opportunity to meet some of our local instructors\nwho can help you further your game.  \nSession 1:  5:30pm to 7:00pm (3.4 and below)            \nSession 2:  7:00pm to 8:30pm (3.5 and above)                                                                                                  \nLimited to 16 people per session. \nFee: $16 members; $22 nonmembers \nCourts 7-10 are reserved for this event. \nClick HERE to sign up
URL:https://grpickleball.com/event/drilling-20/2026-08-03/
LOCATION:Belknap Park\, 30 Coldbrook St NE\, Grand Rapids\, MI\, 49503\, United States
CATEGORIES:Club Sponsored,Drilling
ATTACH;FMTTYPE=image/png:https://grpickleball.com/wp-content/uploads/2019/07/cropped-GRPC-favicon-1.png
ORGANIZER;CN="Janice Scharich":MAILTO:drilling@grpickleball.com
END:VEVENT
BEGIN:VEVENT
DTSTART;TZID=America/Detroit:20260804T090000
DTEND;TZID=America/Detroit:20260804T110000
DTSTAMP:20260423T194028
CREATED:20260317T173623Z
LAST-MODIFIED:20260317T181749Z
UID:10002385-1785834000-1785841200@grpickleball.com
SUMMARY:GRPC Legacy Group (Men’s 70+)
DESCRIPTION:70+ age and GRPC membership required\nCourts 18 – 21 reserved\n\nCourt format: 3 intermediate\, 3 advanced. The format will be adjusted to accommodate the number of players and skill levels.\n\nPlayer rotation: After the completion of a game\, winners stay and split\, and 2 new players join for the next game.\n\nIf interested in playing with this group\, please contact:\nLarry Walters\n\nmrwalter2000@yahoo.com
URL:https://grpickleball.com/event/grpc-legacy-group-mens-70-17-2/2026-08-04/
LOCATION:MI
CATEGORIES:Club Sponsored,GRPC Members Only,Organized Play
ATTACH;FMTTYPE=image/png:https://grpickleball.com/wp-content/uploads/2021/07/Screen-Shot-2021-07-22-at-11.30.22-AM-e1651329329657.png
ORGANIZER;CN="Larry Walters":MAILTO:mrwalter2000@yahoo.com
END:VEVENT
BEGIN:VEVENT
DTSTART;TZID=America/Detroit:20260804T090000
DTEND;TZID=America/Detroit:20260804T110000
DTSTAMP:20260423T194028
CREATED:20260317T174352Z
LAST-MODIFIED:20260317T211940Z
UID:10002312-1785834000-1785841200@grpickleball.com
SUMMARY:Women's 70+ Legacy Open Play
DESCRIPTION:Women’s 70+ Legacy Open Play\nMembership in the Grand Rapids Pickleball Club is required\nCourts 7-10 are reserved for this event\n9:00 am to 11:00 am
URL:https://grpickleball.com/event/womens-70-legacy-open-play-2/2026-08-04/
LOCATION:Belknap Park\, 30 Coldbrook St NE\, Grand Rapids\, MI\, 49503\, United States
CATEGORIES:GRPC Members Only,Organized Play
ATTACH;FMTTYPE=image/png:https://grpickleball.com/wp-content/uploads/2026/03/IMG_0176.png
END:VEVENT
BEGIN:VEVENT
DTSTART;TZID=America/Detroit:20260805T170000
DTEND;TZID=America/Detroit:20260805T190000
DTSTAMP:20260423T194028
CREATED:20260317T172326Z
LAST-MODIFIED:20260413T201504Z
UID:10002457-1785949200-1785956400@grpickleball.com
SUMMARY:Youth Drop-In Play
DESCRIPTION:Youth Drop-In Play offers structured play to junior players age 8-17. This event is appropriate for junior players of all skill levels; however\, attendees should have a basic understanding of scorekeeping and general pickleball rules. The youth will be organized based on skill levels and supervised by adult members of the Grand Rapids Pickleball Club. The majority of the time will be game play with some occasional instruction and low pressure competitions. Club membership is not required. \nThis event is free\, but registration is limited to 28 participants. Registration required at GRPC Events.
URL:https://grpickleball.com/event/junior-ladder-league/2026-08-05/
LOCATION:Belknap Park\, 30 Coldbrook St NE\, Grand Rapids\, MI\, 49503\, United States
CATEGORIES:Club Sponsored,Junior Play
ATTACH;FMTTYPE=image/png:https://grpickleball.com/wp-content/uploads/2026/03/IMG_0175.png
ORGANIZER;CN="Scott Verkaik":MAILTO:scottverkaik@gmail.com
END:VEVENT
BEGIN:VEVENT
DTSTART;TZID=America/Detroit:20260806T090000
DTEND;TZID=America/Detroit:20260806T110000
DTSTAMP:20260423T194028
CREATED:20260317T182802Z
LAST-MODIFIED:20260317T182802Z
UID:10002427-1786006800-1786014000@grpickleball.com
SUMMARY:Organized Ladies’ Play
DESCRIPTION:Organized Ladies’ Play\, weather permitting. Every Thursday on Courts 5-15 from 9 to 11 am. GRPC membership is required. All levels are welcome. No sign-up is necessary; just show up ready to play. This is a fun\, social time where all levels are expected to play together.
URL:https://grpickleball.com/event/organized-ladies-play/2026-08-06/
LOCATION:Belknap Park\, 30 Coldbrook St NE\, Grand Rapids\, MI\, 49503\, United States
CATEGORIES:Organized Play
ATTACH;FMTTYPE=image/png:https://grpickleball.com/wp-content/uploads/2021/07/Screen-Shot-2021-07-22-at-11.30.22-AM-e1651329329657.png
END:VEVENT
BEGIN:VEVENT
DTSTART;TZID=America/Detroit:20260807T080000
DTEND;TZID=America/Detroit:20260809T190000
DTSTAMP:20260423T194028
CREATED:20250915T165700Z
LAST-MODIFIED:20260322T165646Z
UID:10002180-1786089600-1786302000@grpickleball.com
SUMMARY:Powerball MI State Championship
DESCRIPTION:PPA State Championship Series Event\nAll courts reserved for this event.\nRegistration is open June 6 – July 17.\nhttps://pickleballtournaments.com/tournaments/2026-ppa-amateur-michigan-state-pickleball-championships \nVolunteer for the tournament on the GRPC Website.
URL:https://grpickleball.com/event/ppa-michigan-amateur-championships-2026/
LOCATION:Belknap Park\, 30 Coldbrook St NE\, Grand Rapids\, MI\, 49503\, United States
CATEGORIES:Club Sponsored,Tournament
ATTACH;FMTTYPE=image/webp:https://grpickleball.com/wp-content/uploads/2025/09/IMG_0184.webp
END:VEVENT
BEGIN:VEVENT
DTSTART;TZID=America/Detroit:20260809T173000
DTEND;TZID=America/Detroit:20260809T204500
DTSTAMP:20260423T194028
CREATED:20260330T031005Z
LAST-MODIFIED:20260330T031005Z
UID:10002468-1786296600-1786308300@grpickleball.com
SUMMARY:GRPC Ladder League Session 2
DESCRIPTION:GRPC membership required. \nSession 2\, Mixed. Five-weeks: 7/19\, 7/26\, 8/2\, 8/9\, 8/16. \nDUPR Skill 3.0-3.75 — 5:30 – 7:00 pm \nDUPR Skill 3.75+ — 7:15 – 8:45 pm \nRegister under Programming Paid Events https://grpickleball.com/events/ \n10 Courts are reserved.
URL:https://grpickleball.com/event/grpc-ladder-league-session-2-3/2026-08-09/
LOCATION:Belknap Park\, 30 Coldbrook St NE\, Grand Rapids\, MI\, 49503\, United States
CATEGORIES:Club Sponsored,GRPC Members Only,League Play
END:VEVENT
BEGIN:VEVENT
DTSTART;TZID=America/Detroit:20260810T173000
DTEND;TZID=America/Detroit:20260810T203000
DTSTAMP:20260423T194028
CREATED:20260317T172108Z
LAST-MODIFIED:20260317T172108Z
UID:10002206-1786383000-1786393800@grpickleball.com
SUMMARY:Drilling
DESCRIPTION:The focus of the GRPC Drill Program will be on skill repetition and exposure to theme-\nspecific drills. You will also have the opportunity to meet some of our local instructors\nwho can help you further your game.  \nSession 1:  5:30pm to 7:00pm (3.4 and below)            \nSession 2:  7:00pm to 8:30pm (3.5 and above)                                                                                                  \nLimited to 16 people per session. \nFee: $16 members; $22 nonmembers \nCourts 7-10 are reserved for this event. \nClick HERE to sign up
URL:https://grpickleball.com/event/drilling-20/2026-08-10/
LOCATION:Belknap Park\, 30 Coldbrook St NE\, Grand Rapids\, MI\, 49503\, United States
CATEGORIES:Club Sponsored,Drilling
ATTACH;FMTTYPE=image/png:https://grpickleball.com/wp-content/uploads/2019/07/cropped-GRPC-favicon-1.png
ORGANIZER;CN="Janice Scharich":MAILTO:drilling@grpickleball.com
END:VEVENT
BEGIN:VEVENT
DTSTART;TZID=America/Detroit:20260811T090000
DTEND;TZID=America/Detroit:20260811T110000
DTSTAMP:20260423T194028
CREATED:20260317T173623Z
LAST-MODIFIED:20260317T181749Z
UID:10002386-1786438800-1786446000@grpickleball.com
SUMMARY:GRPC Legacy Group (Men’s 70+)
DESCRIPTION:70+ age and GRPC membership required\nCourts 18 – 21 reserved\n\nCourt format: 3 intermediate\, 3 advanced. The format will be adjusted to accommodate the number of players and skill levels.\n\nPlayer rotation: After the completion of a game\, winners stay and split\, and 2 new players join for the next game.\n\nIf interested in playing with this group\, please contact:\nLarry Walters\n\nmrwalter2000@yahoo.com
URL:https://grpickleball.com/event/grpc-legacy-group-mens-70-17-2/2026-08-11/
LOCATION:MI
CATEGORIES:Club Sponsored,GRPC Members Only,Organized Play
ATTACH;FMTTYPE=image/png:https://grpickleball.com/wp-content/uploads/2021/07/Screen-Shot-2021-07-22-at-11.30.22-AM-e1651329329657.png
ORGANIZER;CN="Larry Walters":MAILTO:mrwalter2000@yahoo.com
END:VEVENT
BEGIN:VEVENT
DTSTART;TZID=America/Detroit:20260811T090000
DTEND;TZID=America/Detroit:20260811T110000
DTSTAMP:20260423T194028
CREATED:20260317T174352Z
LAST-MODIFIED:20260317T211940Z
UID:10002313-1786438800-1786446000@grpickleball.com
SUMMARY:Women's 70+ Legacy Open Play
DESCRIPTION:Women’s 70+ Legacy Open Play\nMembership in the Grand Rapids Pickleball Club is required\nCourts 7-10 are reserved for this event\n9:00 am to 11:00 am
URL:https://grpickleball.com/event/womens-70-legacy-open-play-2/2026-08-11/
LOCATION:Belknap Park\, 30 Coldbrook St NE\, Grand Rapids\, MI\, 49503\, United States
CATEGORIES:GRPC Members Only,Organized Play
ATTACH;FMTTYPE=image/png:https://grpickleball.com/wp-content/uploads/2026/03/IMG_0176.png
END:VEVENT
BEGIN:VEVENT
DTSTART;TZID=America/Detroit:20260812T170000
DTEND;TZID=America/Detroit:20260812T190000
DTSTAMP:20260423T194028
CREATED:20260317T172326Z
LAST-MODIFIED:20260413T201504Z
UID:10002458-1786554000-1786561200@grpickleball.com
SUMMARY:Youth Drop-In Play
DESCRIPTION:Youth Drop-In Play offers structured play to junior players age 8-17. This event is appropriate for junior players of all skill levels; however\, attendees should have a basic understanding of scorekeeping and general pickleball rules. The youth will be organized based on skill levels and supervised by adult members of the Grand Rapids Pickleball Club. The majority of the time will be game play with some occasional instruction and low pressure competitions. Club membership is not required. \nThis event is free\, but registration is limited to 28 participants. Registration required at GRPC Events.
URL:https://grpickleball.com/event/junior-ladder-league/2026-08-12/
LOCATION:Belknap Park\, 30 Coldbrook St NE\, Grand Rapids\, MI\, 49503\, United States
CATEGORIES:Club Sponsored,Junior Play
ATTACH;FMTTYPE=image/png:https://grpickleball.com/wp-content/uploads/2026/03/IMG_0175.png
ORGANIZER;CN="Scott Verkaik":MAILTO:scottverkaik@gmail.com
END:VEVENT
BEGIN:VEVENT
DTSTART;TZID=America/Detroit:20260813T090000
DTEND;TZID=America/Detroit:20260813T110000
DTSTAMP:20260423T194028
CREATED:20260317T182802Z
LAST-MODIFIED:20260317T182802Z
UID:10002428-1786611600-1786618800@grpickleball.com
SUMMARY:Organized Ladies’ Play
DESCRIPTION:Organized Ladies’ Play\, weather permitting. Every Thursday on Courts 5-15 from 9 to 11 am. GRPC membership is required. All levels are welcome. No sign-up is necessary; just show up ready to play. This is a fun\, social time where all levels are expected to play together.
URL:https://grpickleball.com/event/organized-ladies-play/2026-08-13/
LOCATION:Belknap Park\, 30 Coldbrook St NE\, Grand Rapids\, MI\, 49503\, United States
CATEGORIES:Organized Play
ATTACH;FMTTYPE=image/png:https://grpickleball.com/wp-content/uploads/2021/07/Screen-Shot-2021-07-22-at-11.30.22-AM-e1651329329657.png
END:VEVENT
BEGIN:VEVENT
DTSTART;TZID=America/Detroit:20260814T160000
DTEND;TZID=America/Detroit:20260815T230000
DTSTAMP:20260423T194028
CREATED:20241015T002045Z
LAST-MODIFIED:20260209T192433Z
UID:10001839-1786723200-1786834800@grpickleball.com
SUMMARY:Breakaway Music Festival
DESCRIPTION:Breakaway Music Festival will be held at Belknap Park.\nROAD CLOSURES: Coldbrook St NE from Division to Clancy\, pedestrian traffic only.\nPickleball courts are open until sunset but there are no court lights.
URL:https://grpickleball.com/event/breakaway-music-festival-7/
LOCATION:Belknap Park\, 30 Coldbrook St NE\, Grand Rapids\, MI\, 49503\, United States
CATEGORIES:City of Grand Rapids Event,Non-Club Event
END:VEVENT
BEGIN:VEVENT
DTSTART;TZID=America/Detroit:20260816T173000
DTEND;TZID=America/Detroit:20260816T204500
DTSTAMP:20260423T194028
CREATED:20260330T031005Z
LAST-MODIFIED:20260330T031005Z
UID:10002469-1786901400-1786913100@grpickleball.com
SUMMARY:GRPC Ladder League Session 2
DESCRIPTION:GRPC membership required. \nSession 2\, Mixed. Five-weeks: 7/19\, 7/26\, 8/2\, 8/9\, 8/16. \nDUPR Skill 3.0-3.75 — 5:30 – 7:00 pm \nDUPR Skill 3.75+ — 7:15 – 8:45 pm \nRegister under Programming Paid Events https://grpickleball.com/events/ \n10 Courts are reserved.
URL:https://grpickleball.com/event/grpc-ladder-league-session-2-3/2026-08-16/
LOCATION:Belknap Park\, 30 Coldbrook St NE\, Grand Rapids\, MI\, 49503\, United States
CATEGORIES:Club Sponsored,GRPC Members Only,League Play
END:VEVENT
BEGIN:VEVENT
DTSTART;TZID=America/Detroit:20260817T173000
DTEND;TZID=America/Detroit:20260817T203000
DTSTAMP:20260423T194028
CREATED:20260317T172108Z
LAST-MODIFIED:20260317T172108Z
UID:10002207-1786987800-1786998600@grpickleball.com
SUMMARY:Drilling
DESCRIPTION:The focus of the GRPC Drill Program will be on skill repetition and exposure to theme-\nspecific drills. You will also have the opportunity to meet some of our local instructors\nwho can help you further your game.  \nSession 1:  5:30pm to 7:00pm (3.4 and below)            \nSession 2:  7:00pm to 8:30pm (3.5 and above)                                                                                                  \nLimited to 16 people per session. \nFee: $16 members; $22 nonmembers \nCourts 7-10 are reserved for this event. \nClick HERE to sign up
URL:https://grpickleball.com/event/drilling-20/2026-08-17/
LOCATION:Belknap Park\, 30 Coldbrook St NE\, Grand Rapids\, MI\, 49503\, United States
CATEGORIES:Club Sponsored,Drilling
ATTACH;FMTTYPE=image/png:https://grpickleball.com/wp-content/uploads/2019/07/cropped-GRPC-favicon-1.png
ORGANIZER;CN="Janice Scharich":MAILTO:drilling@grpickleball.com
END:VEVENT
BEGIN:VEVENT
DTSTART;TZID=America/Detroit:20260818T090000
DTEND;TZID=America/Detroit:20260818T110000
DTSTAMP:20260423T194028
CREATED:20260317T173623Z
LAST-MODIFIED:20260317T181749Z
UID:10002387-1787043600-1787050800@grpickleball.com
SUMMARY:GRPC Legacy Group (Men’s 70+)
DESCRIPTION:70+ age and GRPC membership required\nCourts 18 – 21 reserved\n\nCourt format: 3 intermediate\, 3 advanced. The format will be adjusted to accommodate the number of players and skill levels.\n\nPlayer rotation: After the completion of a game\, winners stay and split\, and 2 new players join for the next game.\n\nIf interested in playing with this group\, please contact:\nLarry Walters\n\nmrwalter2000@yahoo.com
URL:https://grpickleball.com/event/grpc-legacy-group-mens-70-17-2/2026-08-18/
LOCATION:MI
CATEGORIES:Club Sponsored,GRPC Members Only,Organized Play
ATTACH;FMTTYPE=image/png:https://grpickleball.com/wp-content/uploads/2021/07/Screen-Shot-2021-07-22-at-11.30.22-AM-e1651329329657.png
ORGANIZER;CN="Larry Walters":MAILTO:mrwalter2000@yahoo.com
END:VEVENT
BEGIN:VEVENT
DTSTART;TZID=America/Detroit:20260818T090000
DTEND;TZID=America/Detroit:20260818T110000
DTSTAMP:20260423T194028
CREATED:20260317T174352Z
LAST-MODIFIED:20260317T211940Z
UID:10002314-1787043600-1787050800@grpickleball.com
SUMMARY:Women's 70+ Legacy Open Play
DESCRIPTION:Women’s 70+ Legacy Open Play\nMembership in the Grand Rapids Pickleball Club is required\nCourts 7-10 are reserved for this event\n9:00 am to 11:00 am
URL:https://grpickleball.com/event/womens-70-legacy-open-play-2/2026-08-18/
LOCATION:Belknap Park\, 30 Coldbrook St NE\, Grand Rapids\, MI\, 49503\, United States
CATEGORIES:GRPC Members Only,Organized Play
ATTACH;FMTTYPE=image/png:https://grpickleball.com/wp-content/uploads/2026/03/IMG_0176.png
END:VEVENT
BEGIN:VEVENT
DTSTART;TZID=America/Detroit:20260819T170000
DTEND;TZID=America/Detroit:20260819T190000
DTSTAMP:20260423T194028
CREATED:20260317T172326Z
LAST-MODIFIED:20260413T201504Z
UID:10002459-1787158800-1787166000@grpickleball.com
SUMMARY:Youth Drop-In Play
DESCRIPTION:Youth Drop-In Play offers structured play to junior players age 8-17. This event is appropriate for junior players of all skill levels; however\, attendees should have a basic understanding of scorekeeping and general pickleball rules. The youth will be organized based on skill levels and supervised by adult members of the Grand Rapids Pickleball Club. The majority of the time will be game play with some occasional instruction and low pressure competitions. Club membership is not required. \nThis event is free\, but registration is limited to 28 participants. Registration required at GRPC Events.
URL:https://grpickleball.com/event/junior-ladder-league/2026-08-19/
LOCATION:Belknap Park\, 30 Coldbrook St NE\, Grand Rapids\, MI\, 49503\, United States
CATEGORIES:Club Sponsored,Junior Play
ATTACH;FMTTYPE=image/png:https://grpickleball.com/wp-content/uploads/2026/03/IMG_0175.png
ORGANIZER;CN="Scott Verkaik":MAILTO:scottverkaik@gmail.com
END:VEVENT
BEGIN:VEVENT
DTSTART;TZID=America/Detroit:20260820T090000
DTEND;TZID=America/Detroit:20260820T110000
DTSTAMP:20260423T194028
CREATED:20260317T182802Z
LAST-MODIFIED:20260317T182802Z
UID:10002429-1787216400-1787223600@grpickleball.com
SUMMARY:Organized Ladies’ Play
DESCRIPTION:Organized Ladies’ Play\, weather permitting. Every Thursday on Courts 5-15 from 9 to 11 am. GRPC membership is required. All levels are welcome. No sign-up is necessary; just show up ready to play. This is a fun\, social time where all levels are expected to play together.
URL:https://grpickleball.com/event/organized-ladies-play/2026-08-20/
LOCATION:Belknap Park\, 30 Coldbrook St NE\, Grand Rapids\, MI\, 49503\, United States
CATEGORIES:Organized Play
ATTACH;FMTTYPE=image/png:https://grpickleball.com/wp-content/uploads/2021/07/Screen-Shot-2021-07-22-at-11.30.22-AM-e1651329329657.png
END:VEVENT
BEGIN:VEVENT
DTSTART;TZID=America/Detroit:20260821T183000
DTEND;TZID=America/Detroit:20260821T223000
DTSTAMP:20260423T194028
CREATED:20251120T182656Z
LAST-MODIFIED:20251120T184036Z
UID:10002190-1787337000-1787351400@grpickleball.com
SUMMARY:Friday Night Lights
DESCRIPTION:It’s a fun tournament under the lights for GRPC members only. \nDetails will be posted on the GRPC Facebook page as the event gets closer to the date. \nAll courts are reserved for FNL.
URL:https://grpickleball.com/event/friday-night-lights/2026-08-21/
LOCATION:Belknap Park\, 30 Coldbrook St NE\, Grand Rapids\, MI\, 49503\, United States
CATEGORIES:Club Sponsored,FNL,GRPC Members Only,Tournament
ATTACH;FMTTYPE=image/png:https://grpickleball.com/wp-content/uploads/2022/04/Screen-Shot-2022-04-30-at-11.07.51-AM-e1651331824206.png
END:VEVENT
BEGIN:VEVENT
DTSTART;TZID=America/Detroit:20260823T173000
DTEND;TZID=America/Detroit:20260823T204500
DTSTAMP:20260423T194028
CREATED:20260330T031923Z
LAST-MODIFIED:20260330T032227Z
UID:10002475-1787506200-1787517900@grpickleball.com
SUMMARY:GRPC Ladder League Session 3
DESCRIPTION:GRPC membership required. \nSession 2\, Mixed. Five weeks: 8/23\, 8/30\, 9/13\, 9/20\, 9/27. (Will not meet 9/6\, Labor Day weekend) \nDUPR Skill 3.0-3.75 — 5:30 – 7:00 pm \nDUPR Skill 3.75+ — 7:15 – 8:45 pm \nRegister under Programming Paid Events https://grpickleball.com/events/ \n10 Courts are reserved.
URL:https://grpickleball.com/event/grpc-ladder-league-session-3-2/2026-08-23/
LOCATION:Belknap Park\, 30 Coldbrook St NE\, Grand Rapids\, MI\, 49503\, United States
CATEGORIES:Club Sponsored,GRPC Members Only,League Play
END:VEVENT
BEGIN:VEVENT
DTSTART;TZID=America/Detroit:20260824T173000
DTEND;TZID=America/Detroit:20260824T203000
DTSTAMP:20260423T194028
CREATED:20260317T172108Z
LAST-MODIFIED:20260317T172108Z
UID:10002208-1787592600-1787603400@grpickleball.com
SUMMARY:Drilling
DESCRIPTION:The focus of the GRPC Drill Program will be on skill repetition and exposure to theme-\nspecific drills. You will also have the opportunity to meet some of our local instructors\nwho can help you further your game.  \nSession 1:  5:30pm to 7:00pm (3.4 and below)            \nSession 2:  7:00pm to 8:30pm (3.5 and above)                                                                                                  \nLimited to 16 people per session. \nFee: $16 members; $22 nonmembers \nCourts 7-10 are reserved for this event. \nClick HERE to sign up
URL:https://grpickleball.com/event/drilling-20/2026-08-24/
LOCATION:Belknap Park\, 30 Coldbrook St NE\, Grand Rapids\, MI\, 49503\, United States
CATEGORIES:Club Sponsored,Drilling
ATTACH;FMTTYPE=image/png:https://grpickleball.com/wp-content/uploads/2019/07/cropped-GRPC-favicon-1.png
ORGANIZER;CN="Janice Scharich":MAILTO:drilling@grpickleball.com
END:VEVENT
BEGIN:VEVENT
DTSTART;TZID=America/Detroit:20260825T090000
DTEND;TZID=America/Detroit:20260825T110000
DTSTAMP:20260423T194028
CREATED:20260317T173623Z
LAST-MODIFIED:20260317T181749Z
UID:10002388-1787648400-1787655600@grpickleball.com
SUMMARY:GRPC Legacy Group (Men’s 70+)
DESCRIPTION:70+ age and GRPC membership required\nCourts 18 – 21 reserved\n\nCourt format: 3 intermediate\, 3 advanced. The format will be adjusted to accommodate the number of players and skill levels.\n\nPlayer rotation: After the completion of a game\, winners stay and split\, and 2 new players join for the next game.\n\nIf interested in playing with this group\, please contact:\nLarry Walters\n\nmrwalter2000@yahoo.com
URL:https://grpickleball.com/event/grpc-legacy-group-mens-70-17-2/2026-08-25/
LOCATION:MI
CATEGORIES:Club Sponsored,GRPC Members Only,Organized Play
ATTACH;FMTTYPE=image/png:https://grpickleball.com/wp-content/uploads/2021/07/Screen-Shot-2021-07-22-at-11.30.22-AM-e1651329329657.png
ORGANIZER;CN="Larry Walters":MAILTO:mrwalter2000@yahoo.com
END:VEVENT
BEGIN:VEVENT
DTSTART;TZID=America/Detroit:20260825T090000
DTEND;TZID=America/Detroit:20260825T110000
DTSTAMP:20260423T194028
CREATED:20260317T174352Z
LAST-MODIFIED:20260317T211940Z
UID:10002315-1787648400-1787655600@grpickleball.com
SUMMARY:Women's 70+ Legacy Open Play
DESCRIPTION:Women’s 70+ Legacy Open Play\nMembership in the Grand Rapids Pickleball Club is required\nCourts 7-10 are reserved for this event\n9:00 am to 11:00 am
URL:https://grpickleball.com/event/womens-70-legacy-open-play-2/2026-08-25/
LOCATION:Belknap Park\, 30 Coldbrook St NE\, Grand Rapids\, MI\, 49503\, United States
CATEGORIES:GRPC Members Only,Organized Play
ATTACH;FMTTYPE=image/png:https://grpickleball.com/wp-content/uploads/2026/03/IMG_0176.png
END:VEVENT
BEGIN:VEVENT
DTSTART;TZID=America/Detroit:20260826T170000
DTEND;TZID=America/Detroit:20260826T190000
DTSTAMP:20260423T194028
CREATED:20260317T172326Z
LAST-MODIFIED:20260413T201504Z
UID:10002460-1787763600-1787770800@grpickleball.com
SUMMARY:Youth Drop-In Play
DESCRIPTION:Youth Drop-In Play offers structured play to junior players age 8-17. This event is appropriate for junior players of all skill levels; however\, attendees should have a basic understanding of scorekeeping and general pickleball rules. The youth will be organized based on skill levels and supervised by adult members of the Grand Rapids Pickleball Club. The majority of the time will be game play with some occasional instruction and low pressure competitions. Club membership is not required. \nThis event is free\, but registration is limited to 28 participants. Registration required at GRPC Events.
URL:https://grpickleball.com/event/junior-ladder-league/2026-08-26/
LOCATION:Belknap Park\, 30 Coldbrook St NE\, Grand Rapids\, MI\, 49503\, United States
CATEGORIES:Club Sponsored,Junior Play
ATTACH;FMTTYPE=image/png:https://grpickleball.com/wp-content/uploads/2026/03/IMG_0175.png
ORGANIZER;CN="Scott Verkaik":MAILTO:scottverkaik@gmail.com
END:VEVENT
BEGIN:VEVENT
DTSTART;TZID=America/Detroit:20260827T090000
DTEND;TZID=America/Detroit:20260827T110000
DTSTAMP:20260423T194028
CREATED:20260317T182802Z
LAST-MODIFIED:20260317T182802Z
UID:10002430-1787821200-1787828400@grpickleball.com
SUMMARY:Organized Ladies’ Play
DESCRIPTION:Organized Ladies’ Play\, weather permitting. Every Thursday on Courts 5-15 from 9 to 11 am. GRPC membership is required. All levels are welcome. No sign-up is necessary; just show up ready to play. This is a fun\, social time where all levels are expected to play together.
URL:https://grpickleball.com/event/organized-ladies-play/2026-08-27/
LOCATION:Belknap Park\, 30 Coldbrook St NE\, Grand Rapids\, MI\, 49503\, United States
CATEGORIES:Organized Play
ATTACH;FMTTYPE=image/png:https://grpickleball.com/wp-content/uploads/2021/07/Screen-Shot-2021-07-22-at-11.30.22-AM-e1651329329657.png
END:VEVENT
BEGIN:VEVENT
DTSTART;TZID=America/Detroit:20260830T173000
DTEND;TZID=America/Detroit:20260830T204500
DTSTAMP:20260423T194028
CREATED:20260330T031923Z
LAST-MODIFIED:20260330T032227Z
UID:10002482-1788111000-1788122700@grpickleball.com
SUMMARY:GRPC Ladder League Session 3
DESCRIPTION:GRPC membership required. \nSession 2\, Mixed. Five weeks: 8/23\, 8/30\, 9/13\, 9/20\, 9/27. (Will not meet 9/6\, Labor Day weekend) \nDUPR Skill 3.0-3.75 — 5:30 – 7:00 pm \nDUPR Skill 3.75+ — 7:15 – 8:45 pm \nRegister under Programming Paid Events https://grpickleball.com/events/ \n10 Courts are reserved.
URL:https://grpickleball.com/event/grpc-ladder-league-session-3-2/2026-08-30/
LOCATION:Belknap Park\, 30 Coldbrook St NE\, Grand Rapids\, MI\, 49503\, United States
CATEGORIES:Club Sponsored,GRPC Members Only,League Play
END:VEVENT
BEGIN:VEVENT
DTSTART;TZID=America/Detroit:20260831T173000
DTEND;TZID=America/Detroit:20260831T203000
DTSTAMP:20260423T194028
CREATED:20260317T172108Z
LAST-MODIFIED:20260317T172108Z
UID:10002209-1788197400-1788208200@grpickleball.com
SUMMARY:Drilling
DESCRIPTION:The focus of the GRPC Drill Program will be on skill repetition and exposure to theme-\nspecific drills. You will also have the opportunity to meet some of our local instructors\nwho can help you further your game.  \nSession 1:  5:30pm to 7:00pm (3.4 and below)            \nSession 2:  7:00pm to 8:30pm (3.5 and above)                                                                                                  \nLimited to 16 people per session. \nFee: $16 members; $22 nonmembers \nCourts 7-10 are reserved for this event. \nClick HERE to sign up
URL:https://grpickleball.com/event/drilling-20/2026-08-31/
LOCATION:Belknap Park\, 30 Coldbrook St NE\, Grand Rapids\, MI\, 49503\, United States
CATEGORIES:Club Sponsored,Drilling
ATTACH;FMTTYPE=image/png:https://grpickleball.com/wp-content/uploads/2019/07/cropped-GRPC-favicon-1.png
ORGANIZER;CN="Janice Scharich":MAILTO:drilling@grpickleball.com
END:VEVENT
END:VCALENDAR