BEGIN:VCALENDAR
VERSION:2.0
PRODID:-//Grand Rapids Pickleball Club - ECPv6.15.16.1//NONSGML v1.0//EN
CALSCALE:GREGORIAN
METHOD:PUBLISH
X-WR-CALNAME:Grand Rapids Pickleball Club
X-ORIGINAL-URL:https://grpickleball.com
X-WR-CALDESC:Events for Grand Rapids Pickleball Club
REFRESH-INTERVAL;VALUE=DURATION:PT1H
X-Robots-Tag:noindex
X-PUBLISHED-TTL:PT1H
BEGIN:VTIMEZONE
TZID:America/Detroit
BEGIN:DAYLIGHT
TZOFFSETFROM:-0500
TZOFFSETTO:-0400
TZNAME:EDT
DTSTART:20260308T070000
END:DAYLIGHT
BEGIN:STANDARD
TZOFFSETFROM:-0400
TZOFFSETTO:-0500
TZNAME:EST
DTSTART:20261101T060000
END:STANDARD
BEGIN:DAYLIGHT
TZOFFSETFROM:-0500
TZOFFSETTO:-0400
TZNAME:EDT
DTSTART:20270314T070000
END:DAYLIGHT
BEGIN:STANDARD
TZOFFSETFROM:-0400
TZOFFSETTO:-0500
TZNAME:EST
DTSTART:20271107T060000
END:STANDARD
BEGIN:DAYLIGHT
TZOFFSETFROM:-0500
TZOFFSETTO:-0400
TZNAME:EDT
DTSTART:20280312T070000
END:DAYLIGHT
BEGIN:STANDARD
TZOFFSETFROM:-0400
TZOFFSETTO:-0500
TZNAME:EST
DTSTART:20281105T060000
END:STANDARD
END:VTIMEZONE
BEGIN:VEVENT
DTSTART;TZID=America/Detroit:20270601T090000
DTEND;TZID=America/Detroit:20270601T110000
DTSTAMP:20260424T113944
CREATED:20260317T174352Z
LAST-MODIFIED:20260317T211940Z
UID:10002355-1811840400-1811847600@grpickleball.com
SUMMARY:Women's 70+ Legacy Open Play
DESCRIPTION:Women’s 70+ Legacy Open Play\nMembership in the Grand Rapids Pickleball Club is required\nCourts 7-10 are reserved for this event\n9:00 am to 11:00 am
URL:https://grpickleball.com/event/womens-70-legacy-open-play-2/2027-06-01/
LOCATION:Belknap Park\, 30 Coldbrook St NE\, Grand Rapids\, MI\, 49503\, United States
CATEGORIES:GRPC Members Only,Organized Play
ATTACH;FMTTYPE=image/png:https://grpickleball.com/wp-content/uploads/2026/03/IMG_0176.png
END:VEVENT
BEGIN:VEVENT
DTSTART;TZID=America/Detroit:20270608T090000
DTEND;TZID=America/Detroit:20270608T110000
DTSTAMP:20260424T113944
CREATED:20260317T174352Z
LAST-MODIFIED:20260317T211940Z
UID:10002356-1812445200-1812452400@grpickleball.com
SUMMARY:Women's 70+ Legacy Open Play
DESCRIPTION:Women’s 70+ Legacy Open Play\nMembership in the Grand Rapids Pickleball Club is required\nCourts 7-10 are reserved for this event\n9:00 am to 11:00 am
URL:https://grpickleball.com/event/womens-70-legacy-open-play-2/2027-06-08/
LOCATION:Belknap Park\, 30 Coldbrook St NE\, Grand Rapids\, MI\, 49503\, United States
CATEGORIES:GRPC Members Only,Organized Play
ATTACH;FMTTYPE=image/png:https://grpickleball.com/wp-content/uploads/2026/03/IMG_0176.png
END:VEVENT
BEGIN:VEVENT
DTSTART;TZID=America/Detroit:20270615T090000
DTEND;TZID=America/Detroit:20270615T110000
DTSTAMP:20260424T113944
CREATED:20260317T174352Z
LAST-MODIFIED:20260317T211940Z
UID:10002357-1813050000-1813057200@grpickleball.com
SUMMARY:Women's 70+ Legacy Open Play
DESCRIPTION:Women’s 70+ Legacy Open Play\nMembership in the Grand Rapids Pickleball Club is required\nCourts 7-10 are reserved for this event\n9:00 am to 11:00 am
URL:https://grpickleball.com/event/womens-70-legacy-open-play-2/2027-06-15/
LOCATION:Belknap Park\, 30 Coldbrook St NE\, Grand Rapids\, MI\, 49503\, United States
CATEGORIES:GRPC Members Only,Organized Play
ATTACH;FMTTYPE=image/png:https://grpickleball.com/wp-content/uploads/2026/03/IMG_0176.png
END:VEVENT
BEGIN:VEVENT
DTSTART;TZID=America/Detroit:20270622T090000
DTEND;TZID=America/Detroit:20270622T110000
DTSTAMP:20260424T113944
CREATED:20260317T174352Z
LAST-MODIFIED:20260317T211940Z
UID:10002358-1813654800-1813662000@grpickleball.com
SUMMARY:Women's 70+ Legacy Open Play
DESCRIPTION:Women’s 70+ Legacy Open Play\nMembership in the Grand Rapids Pickleball Club is required\nCourts 7-10 are reserved for this event\n9:00 am to 11:00 am
URL:https://grpickleball.com/event/womens-70-legacy-open-play-2/2027-06-22/
LOCATION:Belknap Park\, 30 Coldbrook St NE\, Grand Rapids\, MI\, 49503\, United States
CATEGORIES:GRPC Members Only,Organized Play
ATTACH;FMTTYPE=image/png:https://grpickleball.com/wp-content/uploads/2026/03/IMG_0176.png
END:VEVENT
BEGIN:VEVENT
DTSTART;TZID=America/Detroit:20270629T090000
DTEND;TZID=America/Detroit:20270629T110000
DTSTAMP:20260424T113944
CREATED:20260317T174352Z
LAST-MODIFIED:20260317T211940Z
UID:10002359-1814259600-1814266800@grpickleball.com
SUMMARY:Women's 70+ Legacy Open Play
DESCRIPTION:Women’s 70+ Legacy Open Play\nMembership in the Grand Rapids Pickleball Club is required\nCourts 7-10 are reserved for this event\n9:00 am to 11:00 am
URL:https://grpickleball.com/event/womens-70-legacy-open-play-2/2027-06-29/
LOCATION:Belknap Park\, 30 Coldbrook St NE\, Grand Rapids\, MI\, 49503\, United States
CATEGORIES:GRPC Members Only,Organized Play
ATTACH;FMTTYPE=image/png:https://grpickleball.com/wp-content/uploads/2026/03/IMG_0176.png
END:VEVENT
END:VCALENDAR