BEGIN:VCALENDAR
VERSION:2.0
PRODID:-//Grand Rapids Pickleball Club - ECPv6.15.16.1//NONSGML v1.0//EN
CALSCALE:GREGORIAN
METHOD:PUBLISH
X-WR-CALNAME:Grand Rapids Pickleball Club
X-ORIGINAL-URL:https://grpickleball.com
X-WR-CALDESC:Events for Grand Rapids Pickleball Club
REFRESH-INTERVAL;VALUE=DURATION:PT1H
X-Robots-Tag:noindex
X-PUBLISHED-TTL:PT1H
BEGIN:VTIMEZONE
TZID:America/Detroit
BEGIN:DAYLIGHT
TZOFFSETFROM:-0500
TZOFFSETTO:-0400
TZNAME:EDT
DTSTART:20250309T070000
END:DAYLIGHT
BEGIN:STANDARD
TZOFFSETFROM:-0400
TZOFFSETTO:-0500
TZNAME:EST
DTSTART:20251102T060000
END:STANDARD
BEGIN:DAYLIGHT
TZOFFSETFROM:-0500
TZOFFSETTO:-0400
TZNAME:EDT
DTSTART:20260308T070000
END:DAYLIGHT
BEGIN:STANDARD
TZOFFSETFROM:-0400
TZOFFSETTO:-0500
TZNAME:EST
DTSTART:20261101T060000
END:STANDARD
BEGIN:DAYLIGHT
TZOFFSETFROM:-0500
TZOFFSETTO:-0400
TZNAME:EDT
DTSTART:20270314T070000
END:DAYLIGHT
BEGIN:STANDARD
TZOFFSETFROM:-0400
TZOFFSETTO:-0500
TZNAME:EST
DTSTART:20271107T060000
END:STANDARD
END:VTIMEZONE
BEGIN:VEVENT
DTSTART;VALUE=DATE:20260515
DTEND;VALUE=DATE:20260518
DTSTAMP:20260423T142417
CREATED:20250915T165807Z
LAST-MODIFIED:20260209T183554Z
UID:10002179-1778803200-1779062399@grpickleball.com
SUMMARY:USSP North Regional Championships (Senior Pickleball)
DESCRIPTION:USSP North Regional Championships. \nRegistration rate increases on April 15. \nhttps://pickleballtournaments.com/tournaments/2026-ussp-north-zone-championship-grand-rapids-mi-presented-by-humana \nBelknap Park\, 30 Coldbrook NE
URL:https://grpickleball.com/event/ussp-north-regional-championships-senior-pickleball-2/
LOCATION:Belknap Park\, 30 Coldbrook St NE\, Grand Rapids\, MI\, 49503\, United States
CATEGORIES:Club Sponsored,Tournament
END:VEVENT
END:VCALENDAR