BEGIN:VCALENDAR
VERSION:2.0
PRODID:-//Grand Rapids Pickleball Club - ECPv6.15.16.1//NONSGML v1.0//EN
CALSCALE:GREGORIAN
METHOD:PUBLISH
X-WR-CALNAME:Grand Rapids Pickleball Club
X-ORIGINAL-URL:https://grpickleball.com
X-WR-CALDESC:Events for Grand Rapids Pickleball Club
REFRESH-INTERVAL;VALUE=DURATION:PT1H
X-Robots-Tag:noindex
X-PUBLISHED-TTL:PT1H
BEGIN:VTIMEZONE
TZID:America/Detroit
BEGIN:DAYLIGHT
TZOFFSETFROM:-0500
TZOFFSETTO:-0400
TZNAME:EDT
DTSTART:20250309T070000
END:DAYLIGHT
BEGIN:STANDARD
TZOFFSETFROM:-0400
TZOFFSETTO:-0500
TZNAME:EST
DTSTART:20251102T060000
END:STANDARD
BEGIN:DAYLIGHT
TZOFFSETFROM:-0500
TZOFFSETTO:-0400
TZNAME:EDT
DTSTART:20260308T070000
END:DAYLIGHT
BEGIN:STANDARD
TZOFFSETFROM:-0400
TZOFFSETTO:-0500
TZNAME:EST
DTSTART:20261101T060000
END:STANDARD
BEGIN:DAYLIGHT
TZOFFSETFROM:-0500
TZOFFSETTO:-0400
TZNAME:EDT
DTSTART:20270314T070000
END:DAYLIGHT
BEGIN:STANDARD
TZOFFSETFROM:-0400
TZOFFSETTO:-0500
TZNAME:EST
DTSTART:20271107T060000
END:STANDARD
END:VTIMEZONE
BEGIN:VEVENT
DTSTART;TZID=America/Detroit:20260522T183000
DTEND;TZID=America/Detroit:20260522T223000
DTSTAMP:20260423T124435
CREATED:20251120T182656Z
LAST-MODIFIED:20251120T184036Z
UID:10002194-1779474600-1779489000@grpickleball.com
SUMMARY:Friday Night Lights
DESCRIPTION:It’s a fun tournament under the lights for GRPC members only. \nDetails will be posted on the GRPC Facebook page as the event gets closer to the date. \nAll courts are reserved for FNL.
URL:https://grpickleball.com/event/friday-night-lights/2026-05-22/
LOCATION:Belknap Park\, 30 Coldbrook St NE\, Grand Rapids\, MI\, 49503\, United States
CATEGORIES:Club Sponsored,FNL,GRPC Members Only,Tournament
ATTACH;FMTTYPE=image/png:https://grpickleball.com/wp-content/uploads/2022/04/Screen-Shot-2022-04-30-at-11.07.51-AM-e1651331824206.png
END:VEVENT
BEGIN:VEVENT
DTSTART;TZID=America/Detroit:20260619T183000
DTEND;TZID=America/Detroit:20260619T223000
DTSTAMP:20260423T124435
CREATED:20251120T182656Z
LAST-MODIFIED:20251120T184036Z
UID:10002195-1781893800-1781908200@grpickleball.com
SUMMARY:Friday Night Lights
DESCRIPTION:It’s a fun tournament under the lights for GRPC members only. \nDetails will be posted on the GRPC Facebook page as the event gets closer to the date. \nAll courts are reserved for FNL.
URL:https://grpickleball.com/event/friday-night-lights/2026-06-19/
LOCATION:Belknap Park\, 30 Coldbrook St NE\, Grand Rapids\, MI\, 49503\, United States
CATEGORIES:Club Sponsored,FNL,GRPC Members Only,Tournament
ATTACH;FMTTYPE=image/png:https://grpickleball.com/wp-content/uploads/2022/04/Screen-Shot-2022-04-30-at-11.07.51-AM-e1651331824206.png
END:VEVENT
BEGIN:VEVENT
DTSTART;TZID=America/Detroit:20260724T183000
DTEND;TZID=America/Detroit:20260724T223000
DTSTAMP:20260423T124435
CREATED:20251120T182656Z
LAST-MODIFIED:20251120T184036Z
UID:10002189-1784917800-1784932200@grpickleball.com
SUMMARY:Friday Night Lights
DESCRIPTION:It’s a fun tournament under the lights for GRPC members only. \nDetails will be posted on the GRPC Facebook page as the event gets closer to the date. \nAll courts are reserved for FNL.
URL:https://grpickleball.com/event/friday-night-lights/2026-07-24/
LOCATION:Belknap Park\, 30 Coldbrook St NE\, Grand Rapids\, MI\, 49503\, United States
CATEGORIES:Club Sponsored,FNL,GRPC Members Only,Tournament
ATTACH;FMTTYPE=image/png:https://grpickleball.com/wp-content/uploads/2022/04/Screen-Shot-2022-04-30-at-11.07.51-AM-e1651331824206.png
END:VEVENT
BEGIN:VEVENT
DTSTART;TZID=America/Detroit:20260821T183000
DTEND;TZID=America/Detroit:20260821T223000
DTSTAMP:20260423T124435
CREATED:20251120T182656Z
LAST-MODIFIED:20251120T184036Z
UID:10002190-1787337000-1787351400@grpickleball.com
SUMMARY:Friday Night Lights
DESCRIPTION:It’s a fun tournament under the lights for GRPC members only. \nDetails will be posted on the GRPC Facebook page as the event gets closer to the date. \nAll courts are reserved for FNL.
URL:https://grpickleball.com/event/friday-night-lights/2026-08-21/
LOCATION:Belknap Park\, 30 Coldbrook St NE\, Grand Rapids\, MI\, 49503\, United States
CATEGORIES:Club Sponsored,FNL,GRPC Members Only,Tournament
ATTACH;FMTTYPE=image/png:https://grpickleball.com/wp-content/uploads/2022/04/Screen-Shot-2022-04-30-at-11.07.51-AM-e1651331824206.png
END:VEVENT
BEGIN:VEVENT
DTSTART;TZID=America/Detroit:20260925T183000
DTEND;TZID=America/Detroit:20260925T223000
DTSTAMP:20260423T124435
CREATED:20251120T182656Z
LAST-MODIFIED:20251120T184036Z
UID:10002192-1790361000-1790375400@grpickleball.com
SUMMARY:Friday Night Lights
DESCRIPTION:It’s a fun tournament under the lights for GRPC members only. \nDetails will be posted on the GRPC Facebook page as the event gets closer to the date. \nAll courts are reserved for FNL.
URL:https://grpickleball.com/event/friday-night-lights/2026-09-25/
LOCATION:Belknap Park\, 30 Coldbrook St NE\, Grand Rapids\, MI\, 49503\, United States
CATEGORIES:Club Sponsored,FNL,GRPC Members Only,Tournament
ATTACH;FMTTYPE=image/png:https://grpickleball.com/wp-content/uploads/2022/04/Screen-Shot-2022-04-30-at-11.07.51-AM-e1651331824206.png
END:VEVENT
END:VCALENDAR